Workbook
Name \0: #REF!
Name \0: #REF!
Name \0: #REF!
Name \a: #REF!
Name \a: #REF!
Name \a: #REF!
Name \s: #REF!
Name \s: #REF!
Name \s: #REF!
Name _____pln2: #REF!
Name _____pln2: #REF!
Name _____pln2: #REF!
Name ____1Excel_BuiltIn_Print_Titles_15_1_1_1_1: #REF!
Name ____1Excel_BuiltIn_Print_Titles_15_1_1_1_1: #REF!
Name ____1Excel_BuiltIn_Print_Titles_15_1_1_1_1: #REF!
Name ____2Excel_BuiltIn_Print_Titles_16_1: #REF!,#REF!
Name ____2Excel_BuiltIn_Print_Titles_16_1: #REF!,#REF!
Name ____2Excel_BuiltIn_Print_Titles_16_1: #REF!,#REF!
Name ____3Excel_BuiltIn_Print_Titles_16_1_1_1: #REF!
Name ____3Excel_BuiltIn_Print_Titles_16_1_1_1: #REF!
Name ____3Excel_BuiltIn_Print_Titles_16_1_1_1: #REF!
Name ____OR1: '[1]orcID nº1'!$A$14:$G$1025
Name ____OR12: '[1]orc ID nº12'!$A$16:$G$181
Name ____OR13: '[1]orc ID nº13'!$A$13:$G$34
Name ____OR14: '[1]orc ID nº 14'!$A$14:$G$16
Name ____OR15: '[1]orc ID nº 15'!$A$14:$G$104
Name ____OR16: '[1]orc ID nº16'!$A$14:$G$33
Name ____OR17: '[1]orc ID nº17'!$A$16:$G$80
Name ____OR18: '[1]orc ID nº 18'!$A$14:$G$123
Name ____OR19: '[1]orc ID nº19'!$A$14:$G$96
Name ____OR2: '[1]orc ID nº2 '!$A$14:$G$70
Name ____OR3: '[1]orc ID nº3'!$A$14:$G$134
Name ____OR4: '[1]orcID nº4'!$A$14:$G$165
Name ____OR5: '[1]orcID nº5'!$A$14:$G$149
Name ____OR6: '[1]orcID nº6'!$A$14:$G$138
Name ____OR7: '[1]orcID nº7'!$A$14:$G$137
Name ____OR8: '[1]orc ID nº8'!$A$14:$G$133
Name ____OR9: '[1]orc ID nº9'!$A$14:$G$157
Name ____pln2: #REF!
Name ____pln2: #REF!
Name ____pln2: #REF!
Name ____r: #REF!
Name ____r: #REF!
Name ____r: #REF!
Name ____tab0198: '[2]DER janeiro98'!$A$1:$D$810
Name ___1Excel_BuiltIn_Print_Titles_15_1_1_1_1: #REF!
Name ___1Excel_BuiltIn_Print_Titles_15_1_1_1_1: #REF!
Name ___1Excel_BuiltIn_Print_Titles_15_1_1_1_1: #REF!
Name ___2Excel_BuiltIn_Print_Titles_16_1: #REF!,#REF!
Name ___2Excel_BuiltIn_Print_Titles_16_1: #REF!,#REF!
Name ___2Excel_BuiltIn_Print_Titles_16_1: #REF!,#REF!
Name ___3Excel_BuiltIn_Print_Titles_16_1_1_1: #REF!
Name ___3Excel_BuiltIn_Print_Titles_16_1_1_1: #REF!
Name ___3Excel_BuiltIn_Print_Titles_16_1_1_1: #REF!
Name ___4Excel_BuiltIn_Print_Titles_17_1: '[3]rev int TP'!$A$1:$B$65536,'[3]rev int TP'!$A$1:$IV$6
Name ___5Excel_BuiltIn_Print_Titles_18_1: #REF!,#REF!
Name ___5Excel_BuiltIn_Print_Titles_18_1: #REF!,#REF!
Name ___5Excel_BuiltIn_Print_Titles_18_1: #REF!,#REF!
Name ___6Excel_BuiltIn_Print_Titles_19_1: #REF!,#REF!
Name ___6Excel_BuiltIn_Print_Titles_19_1: #REF!,#REF!

Sheet Relatório
B1: GOINFRA - Agência Goiana de Infraestrutura e Transportes | F1: 05/04/2023 - 09:07
B3: Orçamento Sintético
A5: Setor | B5: : PL-GECOB - GERENCIA DE CUSTOS E ORÇAMENTOS DE OBRAS RODOVIARIAS
A6: Orçamento | B6: : 202300036003293-1/2023
A7: Descrição | B7: : ORÇAMENTO DA OBRA DE ARTE ESPECIAL SOBRE O RIO CRIXÁS MIRIM
A8: Versão | B8: : ORÇAMENTO REALIZADO NA TABELA DE TERRAPLENAGEM, PAVIMENTAÇÃO E OBRAS DE ARTE ESPECIAIS - MAR/23 - SEM DESONERAÇÃO - T199
A9: Trecho | B9: :
A10: Nat. Serviço | B10: : Obra Rodoviária
A11: Subtrecho | B11: :
A12: Extensão | B12: : 60,00 m
A13: BDI | B13: : 20,48%
A18: Cód. Auxiliar | B18: Serviço | C18: Unid. | D18: Quantidade | E18: Preço Unitário | F18: Total
A19: 100001 | B19: TERRAPLENAGEM
A20: 40001 | B20: DESMATAMENTO, DESTOCAMENTO E LIMPEZA - ÁRVORES COM DIÂMETROS MENORES DE 15 CM | C20: m2 | D20: 800 | E20: 0.27 | F20: 216
A21: 40015 | B21: ESCAV., CARGA E TRANSPORTE DE MAT. 1ª CATEG. - C/ ESCAVADEIRA - (DT: 51 A 200M) | C21: m3 | D21: 80.45 | E21: 8.12 | F21: 653.25
A22: 45430 | B22: REATERRO APILOADO DE VALAS | C22: m3 | D22: 25.25 | E22: 58.72 | F22: 1482.68
A24: Total do Grupo : | F24: 2351.93
A27: Cód. Auxiliar | B27: Serviço | C27: Unid. | D27: Quantidade | E27: Preço Unitário | F27: Total
A28: 52 | B28: INFRA-ESTRUTURA - BLOCO
A29: 45040 | B29: FORMA CHAPA COMPENSADA PLASTIFICADA 17 MM (INCLUSO DESFORMA) | C29: m2 | D29: 44.64 | E29: 141.32 | F29: 6308.52
A30: 45045 | B30: AÇO CA50/60 AQUISIÇÃO, ARMAÇÃO E COLOCAÇÃO (INCLUSO PERDAS) - INFRAESTRUTURA | C30: Kg | D30: 3781 | E30: 16.85 | F30: 63709.85
A31: 45131 | B31: CONCRETO FCK=30 MPA COM ADITIVO | C31: m3 | D31: 69.19 | E31: 685.57 | F31: 47434.58
A33: Total do Grupo : | F33: 117452.95
A36: Cód. Auxiliar | B36: Serviço | C36: Unid. | D36: Quantidade | E36: Preço Unitário | F36: Total
A37: 52 | B37: INFRA-ESTRUTURA - ESTACA
A38: 2306070 DN | B38: ESTACA RAIZ PERFURADA NA ROCHA COM D=31 CM - CONFECÇÃO | C38: m | D38: 216 | E38: 1413.64 | F38: 305346.24
A39: 2306066 DN | B39: ESTACA RAIZ PERFURADA NO SOLO D=40 CM - CONFECÇÃO | C39: m | D39: 901.8 | E39: 245.15 | F39: 221076.27
A40: 2306248 DN | B40: ARRASAMENTO DE ESTACAS DE CONCRETO COM SEÇÃO SUPERIOR À 900 CM2 | C40: m3 | D40: 2.48 | E40: 541.83 | F40: 1343.73
A41: 45045 | B41: AÇO CA50/60 AQUISIÇÃO, ARMAÇÃO E COLOCAÇÃO (INCLUSO PERDAS) - INFRAESTRUTURA | C41: Kg | D41: 10674 | E41: 16.85 | F41: 179856.9
A42: 2306733 DN | B42: CAMISA METÁLICA COM ESPESSURA DE 6.3 MM D=400 MM - PARA PASSAGEM DE LÂMINA DÁGUA - POSICIONAMENTO | C42: m | D42: 126 | E42: 1072.91 | F42: 135186.66
A44: Total do Grupo : | F44: 842809.8
A47: Cód. Auxiliar | B47: Serviço | C47: Unid. | D47: Quantidade | E47: Preço Unitário | F47: Total
A48: 52 | B48: INFRA-ESTRUTURA - TRAVESSA BLOCOS
A49: 45040 | B49: FORMA CHAPA COMPENSADA PLASTIFICADA 17 MM (INCLUSO DESFORMA) | C49: m2 | D49: 17.71 | E49: 141.32 | F49: 2502.77
A50: 45045 | B50: AÇO CA50/60 AQUISIÇÃO, ARMAÇÃO E COLOCAÇÃO (INCLUSO PERDAS) - INFRAESTRUTURA | C50: Kg | D50: 259 | E50: 16.85 | F50: 4364.15
A51: 45131 | B51: CONCRETO FCK=30 MPA COM ADITIVO | C51: m3 | D51: 2.95 | E51: 685.57 | F51: 2022.43
A53: Total do Grupo : | F53: 8889.35
A56: Cód. Auxiliar | B56: Serviço | C56: Unid. | D56: Quantidade | E56: Preço Unitário | F56: Total
A57: 55 | B57: MESO-ESTRUTURA - PILARES
A58: 45115 | B58: FORMA CHAPA COMPENSADA PLASTIFICADA 17 MM (INCLUSO DESFORMA) | C58: m2 | D58: 85.95 | E58: 141.32 | F58: 12146.45
...

Sheet ORC_PROPOSTA
A1: Setor | B1: : PL-GECOB - GERENCIA DE CUSTOS E ORÇAMENTOS DE OBRAS RODOVIARIAS
A2: Orçamento | B2: : 202300036003293-1/2023 | F2: Data Orçamento : 04/04/2023
A3: Descrição | B3: : ORÇAMENTO DA OBRA DE ARTE ESPECIAL SOBRE O RIO CRIXÁS MIRIM
A4: Versão | B4: : ORÇAMENTO REALIZADO NA TABELA DE TERRAPLENAGEM, PAVIMENTAÇÃO E OBRAS DE ARTE ESPECIAIS - MAR/23 - SEM DESONERAÇÃO - T199
A5: Nat. Serviço | B5: : Obra Rodoviária
A6: Subtrecho | B6: :
A7: Extensão | B7: : 60 m
A8: BDI | B8: : 20,48% | F8: Data Base : 01/03/2023
A10: Cód. Auxiliar | B10: Serviço | C10: Unid. | D10: Quantidade | E10: Preço Unitário | F10: Total
A11: 100002 | B11: TERRAPLENAGEM
A12: 40001 | B12: =VLOOKUP(A12,Serviços!A:D,2,FALSE) -> DESMATAMENTO, DESTOCAMENTO E LIMPEZA - ÁRVORES COM DIÂMETROS MENORES DE 15 CM | C12: =VLOOKUP(A12,Serviços!A:D,3,FALSE) -> m2 | D12: =Relatório!D20 -> 800 | E12: =VLOOKUP(A12,Serviços!A:F,6,FALSE) -> 0.27 | F12: =TRUNC(E12*D12,2) -> 216
A13: 40015 | B13: =VLOOKUP(A13,Serviços!A:D,2,FALSE) -> ESCAV., CARGA E TRANSPORTE DE MAT. 1ª CATEG. - C/ ESCAVADEIRA - (DT: 51 A 200M) | C13: =VLOOKUP(A13,Serviços!A:D,3,FALSE) -> m3 | D13: =Relatório!D21 -> 80.45 | E13: =VLOOKUP(A13,Serviços!A:F,6,FALSE) -> 8.12 | F13: =TRUNC(E13*D13,2) -> 653.25
A14: 45430 | B14: =VLOOKUP(A14,Serviços!A:D,2,FALSE) -> REATERRO APILOADO DE VALAS | C14: =VLOOKUP(A14,Serviços!A:D,3,FALSE) -> m3 | D14: =Relatório!D22 -> 25.25 | E14: =VLOOKUP(A14,Serviços!A:F,6,FALSE) -> 58.72 | F14: =TRUNC(E14*D14,2) -> 1482.68
E15: Total do Grupo : | F15: =SUBTOTAL(9,F12:F14) -> 2351.93
A17: Cód. Auxiliar | B17: Serviço | C17: Unid. | D17: Quantidade | E17: Preço Unitário | F17: Total
A18: 52 | B18: INFRA-ESTRUTURA - BLOCO
A19: 45040 | B19: =VLOOKUP(A19,Serviços!A:D,2,FALSE) -> FORMA CHAPA COMPENSADA PLASTIFICADA 17 MM (INCLUSO DESFORMA) | C19: =VLOOKUP(A19,Serviços!A:D,3,FALSE) -> m2 | D19: =Relatório!D29 -> 44.64 | E19: =VLOOKUP(A19,Serviços!A:F,6,FALSE) -> 141.32 | F19: =TRUNC(E19*D19,2) -> 6308.52
A20: 45045 | B20: =VLOOKUP(A20,Serviços!A:D,2,FALSE) -> AÇO CA50/60 AQUISIÇÃO, ARMAÇÃO E COLOCAÇÃO (INCLUSO PERDAS) - INFRAESTRUTURA | C20: =VLOOKUP(A20,Serviços!A:D,3,FALSE) -> Kg | D20: =Relatório!D30 -> 3781 | E20: =VLOOKUP(A20,Serviços!A:F,6,FALSE) -> 16.85 | F20: =TRUNC(E20*D20,2) -> 63709.85
A21: 45131 | B21: =VLOOKUP(A21,Serviços!A:D,2,FALSE) -> CONCRETO FCK=30 MPA COM ADITIVO | C21: =VLOOKUP(A21,Serviços!A:D,3,FALSE) -> m3 | D21: =Relatório!D31 -> 69.19 | E21: =VLOOKUP(A21,Serviços!A:F,6,FALSE) -> 685.57 | F21: =TRUNC(E21*D21,2) -> 47434.58
E22: Total do Grupo : | F22: =SUBTOTAL(9,F19:F21) -> 117452.95
A24: Cód. Auxiliar | B24: Serviço | C24: Unid. | D24: Quantidade | E24: Preço Unitário | F24: Total
A25: 52 | B25: INFRA-ESTRUTURA - ESTACA
A26: 2306070 DN | B26: =VLOOKUP(A26,Serviços!A:D,2,FALSE) -> ESTACA RAIZ PERFURADA NA ROCHA COM D = 31 CM - CONFECÇÃO | C26: =VLOOKUP(A26,Serviços!A:D,3,FALSE) -> m | D26: 216 | E26: =VLOOKUP(A26,Serviços!A:F,6,FALSE) -> 1413.64 | F26: =TRUNC(E26*D26,2) -> 305346.24
A27: 2306066 DN | B27: =VLOOKUP(A27,Serviços!A:D,2,FALSE) -> ESTACA RAIZ PERFURADA NO SOLO COM D = 40 CM - CONFECÇÃO | C27: =VLOOKUP(A27,Serviços!A:D,3,FALSE) -> m | D27: 901.8 | E27: =VLOOKUP(A27,Serviços!A:F,6,FALSE) -> 245.15 | F27: =TRUNC(E27*D27,2) -> 221076.27
A28: 2306248 DN | B28: =VLOOKUP(A28,Serviços!A:D,2,FALSE) -> ARRASAMENTO DE ESTACAS DE CONCRETO COM SEÇÃO SUPERIOR À 900 CM2 | C28: =VLOOKUP(A28,Serviços!A:D,3,FALSE) -> m3 | D28: 2.48 | E28: =VLOOKUP(A28,Serviços!A:F,6,FALSE) -> 541.83 | F28: =TRUNC(E28*D28,2) -> 1343.73
A29: 45045 | B29: =VLOOKUP(A29,Serviços!A:D,2,FALSE) -> AÇO CA50/60 AQUISIÇÃO, ARMAÇÃO E COLOCAÇÃO (INCLUSO PERDAS) - INFRAESTRUTURA | C29: =VLOOKUP(A29,Serviços!A:D,3,FALSE) -> Kg | D29: 10674 | E29: =VLOOKUP(A29,Serviços!A:F,6,FALSE) -> 16.85 | F29: =TRUNC(E29*D29,2) -> 179856.9
A30: 2306733 DN | B30: =VLOOKUP(A30,Serviços!A:D,2,FALSE) -> CAMISA METÁLICA COM ESPESSURA DE 6.3 MM D=400 MM - PARA PASSAGEM DE LÂMINA DÁGUA - POSICIONAMENTO | C30: =VLOOKUP(A30,Serviços!A:D,3,FALSE) -> m | D30: 126 | E30: =VLOOKUP(A30,Serviços!A:F,6,FALSE) -> 1072.91 | F30: =TRUNC(E30*D30,2) -> 135186.66
E31: Total do Grupo : | F31: =SUBTOTAL(9,F26:F30) -> 842809.8
A33: Cód. Auxiliar | B33: Serviço | C33: Unid. | D33: Quantidade | E33: Preço Unitário | F33: Total
A34: 52 | B34: INFRA-ESTRUTURA - TRAVESSA BLOCOS
A35: 45040 | B35: =VLOOKUP(A35,Serviços!A:D,2,FALSE) -> FORMA CHAPA COMPENSADA PLASTIFICADA 17 MM (INCLUSO DESFORMA) | C35: =VLOOKUP(A35,Serviços!A:D,3,FALSE) -> m2 | D35: 17.71 | E35: =VLOOKUP(A35,Serviços!A:F,6,FALSE) -> 141.32 | F35: =TRUNC(E35*D35,2) -> 2502.77
A36: 45045 | B36: =VLOOKUP(A36,Serviços!A:D,2,FALSE) -> AÇO CA50/60 AQUISIÇÃO, ARMAÇÃO E COLOCAÇÃO (INCLUSO PERDAS) - INFRAESTRUTURA | C36: =VLOOKUP(A36,Serviços!A:D,3,FALSE) -> Kg | D36: 259 | E36: =VLOOKUP(A36,Serviços!A:F,6,FALSE) -> 16.85 | F36: =TRUNC(E36*D36,2) -> 4364.15
A37: 45131 | B37: =VLOOKUP(A37,Serviços!A:D,2,FALSE) -> CONCRETO FCK=30 MPA COM ADITIVO | C37: =VLOOKUP(A37,Serviços!A:D,3,FALSE) -> m3 | D37: 2.95 | E37: =VLOOKUP(A37,Serviços!A:F,6,FALSE) -> 685.57 | F37: =TRUNC(E37*D37,2) -> 2022.43
E38: Total do Grupo : | F38: =SUBTOTAL(9,F35:F37) -> 8889.35
A40: Cód. Auxiliar | B40: Serviço | C40: Unid. | D40: Quantidade | E40: Preço Unitário | F40: Total
A41: 55 | B41: MESO-ESTRUTURA - PILARES
A42: 45115 | B42: =VLOOKUP(A42,Serviços!A:D,2,FALSE) -> FORMA CHAPA COMPENSADA PLASTIFICADA 17 MM (INCLUSO DESFORMA) | C42: =VLOOKUP(A42,Serviços!A:D,3,FALSE) -> m2 | D42: 85.95 | E42: =VLOOKUP(A42,Serviços!A:F,6,FALSE) -> 141.32 | F42: =TRUNC(E42*D42,2) -> 12146.45
A43: 45120 | B43: =VLOOKUP(A43,Serviços!A:D,2,FALSE) -> AÇO CA50/60 AQUISIÇÃO, ARMAÇÃO E COLOCAÇÃO (INCLUSO PERDAS) - MESOESTRUTURA | C43: =VLOOKUP(A43,Serviços!A:D,3,FALSE) -> Kg | D43: 2410 | E43: =VLOOKUP(A43,Serviços!A:F,6,FALSE) -> 16.85 | F43: =TRUNC(E43*D43,2) -> 40608.5
A44: 45131 | B44: =VLOOKUP(A44,Serviços!A:D,2,FALSE) -> CONCRETO FCK=30 MPA COM ADITIVO | C44: =VLOOKUP(A44,Serviços!A:D,3,FALSE) -> m3 | D44: 25.79 | E44: =VLOOKUP(A44,Serviços!A:F,6,FALSE) -> 685.57 | F44: =TRUNC(E44*D44,2) -> 17680.85
E45: Total do Grupo : | F45: =SUBTOTAL(9,F42:F44) -> 70435.8
...

Sheet CRONOGRAMA FÍSICO FINANCEIRO
E1: CRONOGRAMA FÍSICO FINANCEIRO PONTE CRIXÁS MIRIM
A5: Discriminação | E5: Preço | F5: Mês
F6: MÊS 1 | H6: MÊS 2 | J6: MÊS 3 | L6: MÊS 4 | N6: 5 | P6: 6 | R6: 7 | T6: 8 | V6: 9 | X6: 10
F7: % | G7: R$ | H7: % | I7: R$ | J7: % | K7: R$ | L7: % | M7: R$ | N7: % | O7: R$ | P7: % | Q7: R$ | R7: % | S7: R$ | T7: % | U7: R$ | V7: % | W7: R$ | X7: % | Y7: R$
A9: ESCAVAÇÕES / ATERRO/REATERRO | E9: =ORC_PROPOSTA!F15 -> 2351.93 | F9: 0.9 | G9: =F9*E9 -> 2116.737 | I9: =H9*E9 -> 0 | K9: =J9*E9 -> 0 | M9: =L9*E9 -> 0 | O9: =N9*E9 -> 0 | Q9: =P9*E9 -> 0 | S9: =R9*E9 -> 0 | U9: =T9*E9 -> 0 | W9: =V9*E9 -> 0 | X9: 0.1 | Y9: =X9*E9 -> 235.193 | Z9: =SUM(G9,I9,K9,M9,O9,Q9,S9,U9,W9,Y9) -> 2351.93 | AA9: =Z9-E9 -> 0
A10: INFRA-ESTRUTURA | E10: =ORC_PROPOSTA!F22+ORC_PROPOSTA!F31+ORC_PROPOSTA!F38 -> 969152.1 | F10: 0.35 | G10: =F10*E10 -> 339203.23 | H10: 0.5 | I10: =H10*E10 -> 484576.05 | J10: 0.15 | K10: =J10*E10 -> 145372.82 | M10: =L10*E10 -> 0 | O10: =N10*E10 -> 0 | Q10: =P10*E10 -> 0 | S10: =R10*E10 -> 0 | U10: =T10*E10 -> 0 | W10: =V10*E10 -> 0 | Y10: =X10*E10 -> 0 | Z10: =SUM(G10,I10,K10,M10,O10,Q10,S10,U10,W10,Y10) -> 969152.1 | AA10: =Z10-E10 -> 0
A11: MESO-ESTRUTURA | E11: =ORC_PROPOSTA!F45+ORC_PROPOSTA!F52+ORC_PROPOSTA!F57 -> 107719.64 | G11: =F11*E11 -> 0 | I11: =H11*E11 -> 0 | K11: =J11*E11 -> 0 | L11: 0.1 | M11: =L11*E11 -> 10771.964 | N11: 0.45 | O11: =N11*E11 -> 48473.838 | P11: 0.45 | Q11: =P11*E11 -> 48473.838 | S11: =R11*E11 -> 0 | U11: =T11*E11 -> 0 | W11: =V11*E11 -> 0 | Y11: =X11*E11 -> 0 | Z11: =SUM(G11,I11,K11,M11,O11,Q11,S11,U11,W11,Y11) -> 107719.64 | AA11: =Z11-E11 -> 0
A12: SUPER-ESTRUTURA | E12: =ORC_PROPOSTA!F64+ORC_PROPOSTA!F71+ORC_PROPOSTA!F79+ORC_PROPOSTA!F87+ORC_PROPOSTA!F94+ORC_PROPOSTA!F101+ORC_PROPOSTA!F106 -> 2121517.1 | G12: =F12*E12 -> 0 | I12: =H12*E12 -> 0 | K12: =J12*E12 -> 0 | M12: =L12*E12 -> 0 | O12: =N12*E12 -> 0 | Q12: =P12*E12 -> 0 | R12: 0.25 | S12: =R12*E12 -> 530379.27 | T12: 0.25 | U12: =T12*E12 -> 530379.27 | V12: 0.25 | W12: =V12*E12 -> 530379.27 | X12: 0.25 | Y12: =X12*E12 -> 530379.27 | Z12: =SUM(G12,I12,K12,M12,O12,Q12,S12,U12,W12,Y12) -> 2121517.1 | AA12: =Z12-E12 -> 0
A13: TRANSPORTE | E13: 249178.56 | F13: 0.1 | G13: =F13*E13 -> 24917.856 | H13: 0.1 | I13: =H13*E13 -> 24917.856 | J13: 0.1 | K13: =J13*E13 -> 24917.856 | L13: 0.1 | M13: =L13*E13 -> 24917.856 | N13: 0.1 | O13: =N13*E13 -> 24917.856 | P13: 0.1 | Q13: =P13*E13 -> 24917.856 | R13: 0.1 | S13: =R13*E13 -> 24917.856 | T13: 0.1 | U13: =T13*E13 -> 24917.856 | V13: 0.1 | W13: =V13*E13 -> 24917.856 | X13: 0.1 | Y13: =X13*E13 -> 24917.856 | Z13: =SUM(G13,I13,K13,M13,O13,Q13,S13,U13,W13,Y13) -> 249178.56 | AA13: =Z13-E13 -> 0
A14: SERVIÇOS COMPLEMENTARES | E14: =ORC_PROPOSTA!F116+ORC_PROPOSTA!F117 -> 6084.54 | G14: =F14*E14 -> 0 | I14: =H14*E14 -> 0 | K14: =J14*E14 -> 0 | M14: =L14*E14 -> 0 | O14: =N14*E14 -> 0 | Q14: =P14*E14 -> 0 | S14: =R14*E14 -> 0 | U14: =T14*E14 -> 0 | W14: =V14*E14 -> 0 | X14: 1 | Y14: =X14*E14 -> 6084.54 | Z14: =SUM(G14,I14,K14,M14,O14,Q14,S14,U14,W14,Y14) -> 6084.54 | AA14: =Z14-E14 -> 0
A15: GABIÃO | E15: =ORC_PROPOSTA!F118 -> 366135 | G15: =F15*E15 -> 0 | I15: =H15*E15 -> 0 | K15: =J15*E15 -> 0 | M15: =L15*E15 -> 0 | O15: =N15*E15 -> 0 | Q15: =P15*E15 -> 0 | S15: =R15*E15 -> 0 | T15: 0.5 | U15: =T15*E15 -> 183067.5 | V15: 0.25 | W15: =V15*E15 -> 91533.75 | X15: 0.25 | Y15: =X15*E15 -> 91533.75 | Z15: =SUM(G15,I15,K15,M15,O15,Q15,S15,U15,W15,Y15) -> 366135 | AA15: =Z15-E15 -> 0
A16: ADMINISTRAÇÃO LOCAL | E16: =ORC_PROPOSTA!F124 -> 228260.28 | F16: 0.1 | G16: =F16*E16 -> 22826.028 | H16: 0.1 | I16: =H16*E16 -> 22826.028 | J16: 0.1 | K16: =J16*E16 -> 22826.028 | L16: 0.1 | M16: =L16*E16 -> 22826.028 | N16: 0.1 | O16: =N16*E16 -> 22826.028 | P16: 0.1 | Q16: =P16*E16 -> 22826.028 | R16: 0.1 | S16: =R16*E16 -> 22826.028 | T16: 0.1 | U16: =T16*E16 -> 22826.028 | V16: 0.1 | W16: =V16*E16 -> 22826.028 | X16: 0.1 | Y16: =X16*E16 -> 22826.028 | Z16: =SUM(G16,I16,K16,M16,O16,Q16,S16,U16,W16,Y16) -> 228260.28 | AA16: =Z16-E16 -> 0
A17: CANTEIRO DE OBRAS | E17: =ORC_PROPOSTA!F129 -> 209374.64 | F17: 0.2 | G17: =F17*E17 -> 41874.928 | H17: 0.1 | I17: =H17*E17 -> 20937.464 | J17: 0.1 | K17: =J17*E17 -> 20937.464 | L17: 0.1 | M17: =L17*E17 -> 20937.464 | O17: =N17*E17 -> 0 | P17: 0.1 | Q17: =P17*E17 -> 20937.464 | R17: 0.1 | S17: =R17*E17 -> 20937.464 | T17: 0.1 | U17: =T17*E17 -> 20937.464 | V17: 0.1 | W17: =V17*E17 -> 20937.464 | X17: 0.1 | Y17: =X17*E17 -> 20937.464 | Z17: =SUM(G17,I17,K17,M17,O17,Q17,S17,U17,W17,Y17) -> 209374.64 | AA17: =Z17-E17 -> 0
A18: MOBILIZAÇÃO / DESMOB | E18: =ORC_PROPOSTA!F134 -> 34548.56 | F18: 0.5 | G18: =F18*E18 -> 17274.28 | I18: =H18*E18 -> 0 | K18: =J18*E18 -> 0 | M18: =L18*E18 -> 0 | O18: =N18*E18 -> 0 | Q18: =P18*E18 -> 0 | S18: =R18*E18 -> 0 | U18: =T18*E18 -> 0 | W18: =V18*E18 -> 0 | X18: 0.5 | Y18: =X18*E18 -> 17274.28 | Z18: =SUM(G18,I18,K18,M18,O18,Q18,S18,U18,W18,Y18) -> 34548.56 | AA18: =Z18-E18 -> 0
A20: Total geral (Simples) - R$ | E20: =SUM(E9:E18) -> 4294322.3 | F20: =G20/$E20 -> 0.10437341 | G20: =SUM(G9:G18) -> 448213.06 | H20: =I20/$E20 -> 0.12883462 | I20: =SUM(I9:I18) -> 553257.4 | J20: =K20/$E20 -> 0.049845854 | K20: =SUM(K9:K18) -> 214054.16 | L20: =M20/$E20 -> 0.018501944 | M20: =SUM(M9:M18) -> 79453.312 | N20: =O20/$E20 -> 0.022405799 | O20: =SUM(O9:O18) -> 96217.722 | P20: =Q20/$E20 -> 0.027281414 | Q20: =SUM(Q9:Q18) -> 117155.19 | R20: =S20/$E20 -> 0.13950062 | S20: =SUM(S9:S18) -> 599060.62 | T20: =U20/$E20 -> 0.18213074 | U20: =SUM(U9:U18) -> 782128.12 | V20: =W20/$E20 -> 0.16081568 | W20: =SUM(W9:W18) -> 690594.37 | X20: =Y20/$E20 -> 0.16630992 | Y20: =SUM(Y9:Y18) -> 714188.39
A21: Total geral (Acumulado) | E21: =E20 -> 4294322.3 | F21: =F20 -> 0.10437341 | G21: =G20 -> 448213.06 | H21: =F21+H20 -> 0.23320803 | I21: =G21+I20 -> 1001470.5 | J21: =H21+J20 -> 0.28305389 | K21: =I21+K20 -> 1215524.6 | L21: =J21+L20 -> 0.30155583 | M21: =K21+M20 -> 1294977.9 | N21: =L21+N20 -> 0.32396163 | O21: =M21+O20 -> 1391195.7 | ... Y21: =W21+Y20 -> 4294322.4 | Z21: 4294322.3
Z23: =Z21-E20 -> 0
Z24: =Z21-Y21 -> 0

Sheet BDI
A1: BDI | B1: Administração Central (AC) | C1: Lucro (L) | D1: Despesas Financeiras (DF) | E1: Seguro + Garantias (S) | F1: Riscos (R) | G1: ISS | H1: PIS | I1: COFINS | J1: CPRB | K1: Resultado
G2: (I)
A4: BDI | B4: 0.0367 | C4: 0.073 | D4: 0.01 | E4: 0.0011 | F4: 0.0056 | G4: 0.025 | H4: 0.0065 | I4: 0.03 | J4: 0 | K4: =TRUNC((1+B4+E4+F4)*(1+D4)*(1+C4)/(1-G4-H4-I4-J4)-1,4) -> 0.2048

Sheet ES
A1: DESCRIÇÃO | B1: PERCENTUAL
A4: Grupo A - Encargos Sociáis Básicos | B4: =SUM(B5:B13) -> 0.378
A5: INSS | B5: 0.2
A6: FGTS | B6: 0.08
A7: SESI | B7: 0.015
A8: SENAI | B8: 0.01
A9: INCRA | B9: 0.002
A10: Salário Educação | B10: 0.025
A11: Seguro contr acidente de trabalho INSS | B11: 0.03
A12: SEBRAE | B12: 0.006
A13: SECONCI | B13: 0.01
A15: Grupo B - Encargos Trabalhistas | B15: =SUM(B16:B23)+0.01/100 -> 0.4517
A16: Repouso semanal remunerado | B16: 0.1755
A17: Feriados | B17: 0.0403
A18: Férias e 1/3 de férias | B18: 0.122
A19: Auxíçio Efermidade | B19: 0.0093
A20: Auxílio Acidente | B20: 0.0049
A21: 13° Salario% | B21: 0.0915
A22: Licença Paternidade | B22: 0.0008
A23: Faltas Justificadas | B23: 0.0073
A25: Grupo C - Encargos Idenizatórios | B25: =SUM(B26:B30)+0.0001 -> 0.1093
A26: Aviso Prévio Indenizado | B26: 0.059
A27: Aviso Prévio Trabalhado | B27: 0.0016
A28: Férias Indenizadas | B28: 0.0065
A29: Multa por Recisão do Contrato de Trabalho sem Justa Causa | B29: 0.0352
A30: Indenização Adicional | B30: 0.0069
A32: Grupo D - Incidência Cumulaticas | B32: =SUM(B33:B34)+0.0001 -> 0.1761426
A33: Incidência do Gurpo A sobre B | B33: =B4*B15 -> 0.1707426
A34: Inicidência de FGTS sobre aviso prévio + Incidência de multa do FGTS sobre aviso prévio | B34: 0.0053
A36: Percentual Total de Encargos Sociais | B36: =SUM(B32,B25,B15,B4)-0.0001 -> 1.1150426

Sheet Serviços
A1: Cód. Auxiliar | B1: Serviço | C1: Unid. | D1: Preço Unitário REFERENCIA | E1: Preço Unitário COMPOSIÇÃO | F1: Preço Unitário CONSIDERADO
A3: 0 | B3: 0 | C3: 0 | D3: 0
A4: 40001 | B4: DESMATAMENTO, DESTOCAMENTO E LIMPEZA - ÁRVORES COM DIÂMETROS MENORES DE 15 CM | C4: m2 | D4: 0.25 | E4: =VLOOKUP(A4,Composições!C:J,8,FALSE) -> 0.27 | F4: =E4 -> 0.27
A5: 40015 | B5: ESCAV., CARGA E TRANSPORTE DE MAT. 1ª CATEG. - C/ ESCAVADEIRA - (DT: 51 A 200M) | C5: m3 | E5: =VLOOKUP(A5,Composições!C:J,8,FALSE) -> 8.12 | F5: =E5 -> 8.12
A6: 40451 | B6: TRANSPORTE COMERCIAL DE MATERIAL BÁSICO | C6: tkm | E6: =VLOOKUP(A6,Composições!C:J,8,FALSE) -> 0.8 | F6: =E6 -> 0.8
A7: 42800 | B7: GABIÕES (1,00 M) | C7: m3 | E7: =VLOOKUP(A7,Composições!C:J,8,FALSE) -> 871.75 | F7: =E7 -> 871.75
A8: 45040 | B8: FORMA CHAPA COMPENSADA PLASTIFICADA 17 MM (INCLUSO DESFORMA) | C8: m2 | D8: 110.97 | E8: =VLOOKUP(A8,Composições!C:J,8,FALSE) -> 141.32 | F8: =E8 -> 141.32
A9: 45045 | B9: AÇO CA50/60 AQUISIÇÃO, ARMAÇÃO E COLOCAÇÃO (INCLUSO PERDAS) - INFRAESTRUTURA | C9: Kg | D9: 15.03 | E9: =VLOOKUP(A9,Composições!C:J,8,FALSE) -> 16.85 | F9: =E9 -> 16.85
A10: 45115 | B10: FORMA CHAPA COMPENSADA PLASTIFICADA 17 MM (INCLUSO DESFORMA) | C10: m2 | E10: =VLOOKUP(A10,Composições!C:J,8,FALSE) -> 141.32 | F10: =E10 -> 141.32
A11: 45135 | B11: ESCORAMENTO PARA PONTE | C11: m3 | E11: =VLOOKUP(A11,Composições!C:J,8,FALSE) -> 96.4 | F11: =E11 -> 96.4
A12: 45150 | B12: FORMA CHAPA COMPENSADA PLASTIFICADA 17 MM (INCLUSO DESFORMA) | C12: m2 | E12: =VLOOKUP(A12,Composições!C:J,8,FALSE) -> 141.32 | F12: =E12 -> 141.32
A13: 45205 | B13: TRANSPORTE COMERCIAL DE AGREGADOS - OAE | C13: tkm | E13: =VLOOKUP(A13,Composições!C:J,8,FALSE) -> 0.95 | F13: =E13 -> 0.95
A14: 45230 | B14: DRENOS 100 MM | C14: un | D14: 8.14 | E14: =VLOOKUP(A14,Composições!C:J,8,FALSE) -> 8.61 | F14: =E14 -> 8.61
A15: 45235 | B15: NEOPRENE | C15: Kg | E15: =VLOOKUP(A15,Composições!C:J,8,FALSE) -> 47.96 | F15: =E15 -> 47.96
A16: 45245 | B16: LIMPEZA GERAL | C16: m2 | D16: 3.34 | E16: =VLOOKUP(A16,Composições!C:J,8,FALSE) -> 3.57 | F16: =E16 -> 3.57
A17: 45430 | B17: REATERRO APILOADO DE VALAS | C17: m3 | E17: =VLOOKUP(A17,Composições!C:J,8,FALSE) -> 58.72 | F17: =E17 -> 58.72
A18: 47027 | B18: ESCAVAÇÃO MANUAL | C18: m3 | E18: =Composições!J127 -> 53.63 | F18: =E18 -> 53.63
A19: 1416139 DN | B19: CORTE DE CHAPAS DE AÇO COM ESPESSURA DE 6.3 MM COM MAÇARICO OXIACETILENO | C19: m | E19: =Composições!J768 -> 1.53 | F19: =E19 -> 1.53
A20: 1416254 DN | B20: SOLDA COM MAÇARICO OXIACETILENO DE CHAPAS DE AÇO DE 6.3 MM | C20: m | E20: =Composições!J832 -> 38.21 | F20: =E20 -> 38.21
A21: 2306066 DN | B21: ESTACA RAIZ PERFURADA NO SOLO COM D = 40 CM - CONFECÇÃO | C21: m | E21: =VLOOKUP(A21,Composições!C:J,8,FALSE) -> 245.15 | F21: =E21 -> 245.15
A22: 2306070 DN | B22: ESTACA RAIZ PERFURADA NA ROCHA COM D = 31 CM - CONFECÇÃO | C22: m | E22: =VLOOKUP(A22,Composições!C:J,8,FALSE) -> 1413.64 | F22: =E22 -> 1413.64
A23: 2306248 DN | B23: ARRASAMENTO DE ESTACAS DE CONCRETO COM SEÇÃO SUPERIOR À 900 CM2 | C23: m3 | E23: =VLOOKUP(A23,Composições!C:J,8,FALSE) -> 541.83 | F23: =E23 -> 541.83
A24: 2306604 DN | B24: CONFECÇÃO DE CAMISA METÁLICA EM AÇO ASTM A36 COM ESPESSURA DE 6.3 MM - D=400 MM | C24: m | E24: =Composições!J704 -> 875.2 | F24: =E24 -> 875.2
A25: 2306733 DN | B25: CAMISA METÁLICA COM ESPESSURA DE 6.3 MM D=400 MM - PARA PASSAGEM DE LÂMINA DÁGUA - POSICIONAMENTO | C25: m | E25: =VLOOKUP(A25,Composições!C:J,8,FALSE) -> 1072.91 | F25: =E25 -> 1072.91
A26: 2408058 DN | B26: SOLDA ELÉTRICA DE PERFIS METÁLICOS E CHAPAS DE AÇO COM ELETRODO E70XX | C26: Kg | E26: =Composições!J896 -> 62.66 | F26: =E26 -> 62.66
A27: 42190A | B27: ADMINISTRAÇÃO LOCAL - TIPO F | C27: un | E27: =VLOOKUP(A27,Composições!C:J,8,FALSE) -> 228260.28 | F27: =E27 -> 228260.28
A28: A0001 | B28: PCMSO ( NR-7 ) | C28: un | E28: 475 | F28: =E28 -> 475
A29: A0002 | B29: PCMAT ( NR-18 ) | C29: un | E29: 1625 | F29: =E29 -> 1625
A30: A0003 | B30: Exames Admissionais/Demissionais | C30: un | E30: 25 | F30: =E30 -> 25
A31: A0004 | B31: Anotação de Responsabilidade Técnica | C31: un | E31: 254.59 | F31: =E31 -> 254.59
A32: A0005 | B32: Ensaios Tecnológicos | C32: un | E32: 210.66 | F32: =E32 -> 210.66
A33: C0001 | B33: Desmatamento, destocamento e limpeza - árvores com diâmetros menores de 15 cm | C33: m² | E33: 0.23 | F33: =E33 -> 0.23
A34: C0002 | B34: Escav., carga e transp. 1ª categ. c/ carregadeira p/ pequenos movimentos de terra - (dt: 201 a 400m) | C34: m² | E34: 10.98 | F34: =E34 -> 10.98
A35: C0003 | B35: Compactação mecânica sem controle de laboratório | C35: m³ | E35: 1.83 | F35: =E35 -> 1.83
A36: C0004 | B36: Escritório de campo | C36: m² | E36: 281.31 | F36: =E36 -> 281.31
A37: C0005 | B37: Alojamento (pessoal operacional) | C37: m² | E37: 281.31 | F37: =E37 -> 281.31
A38: C0006 | B38: Alojamento (pessoal técnico administrativo) | C38: m² | E38: 281.31 | F38: =E38 -> 281.31
A39: C0007 | B39: Alojamento (engenheiros) | C39: mês | E39: 5355.84 | F39: =E39 -> 5355.84
... A67: C0035 | B67: Licença de Outorga de Uso da Água | C67: un | E67: 4807.28 | F67: =E67 -> 4807.28
A68: 2 | B68: GABIÃO TIPO CAIXA SOLO REFORÇADO, MALHA HEXAGONAL 8 X 10 CM (ZN/AL REVESTIDO COM POLÍMERO), FIO 2,7MM, DIMENSÕES 2,0X1,0X1,0CM, COM CAUDA DE 7,0M | C68: m3 | E68: =VLOOKUP(A68,Composições!C:J,8,FALSE) -> #N/A | F68: =E68 -> #N/A
...

Sheet Composições
I1: 0 | J1: 0 | L1: BDI: | M1: 0.2048
A3: Serviço: 40001 DESMATAMENTO, DESTOCAMENTO E LIMPEZA - ÁRVORES COM DIÂMETROS MENORES DE 15 CM
A4: (A)Equipamento | B4: Código auxiliar | C4: Ut. Pr | D4: Ut. Impr | E4: Vl. Hr. Prod | G4: Vl. Hr. Imp | I4: Consumo | J4: Custo Horário
A5: =VLOOKUP(B5,Equipamentos!A:E,2,FALSE) -> TRATOR ESTEIRAS COM LAMINA - CAT D6 OU EQUIVALENTE | B5: 30000 | C5: 1 | E5: =VLOOKUP(B5,Equipamentos!A:E,4,FALSE) -> 225.65 | G5: =VLOOKUP(B5,Equipamentos!A:E,5,FALSE) -> 71.76 | I5: 1 | J5: =TRUNC(I5*((C5*E5)+(D5*G5)),2) -> 225.65
A6: =VLOOKUP(B6,Equipamentos!A:E,2,FALSE) -> 0 | E6: =VLOOKUP(B6,Equipamentos!A:E,4,FALSE) -> 0 | G6: =VLOOKUP(B6,Equipamentos!A:E,5,FALSE) -> 0 | J6: =TRUNC(I6*((C6*E6)+(D6*G6)),2) -> 0
A7: =VLOOKUP(B7,Equipamentos!A:E,2,FALSE) -> 0 | E7: =VLOOKUP(B7,Equipamentos!A:E,4,FALSE) -> 0 | G7: =VLOOKUP(B7,Equipamentos!A:E,5,FALSE) -> 0 | J7: =TRUNC(I7*((C7*E7)+(D7*G7)),2) -> 0
A8: =VLOOKUP(B8,Equipamentos!A:E,2,FALSE) -> 0 | E8: =VLOOKUP(B8,Equipamentos!A:E,4,FALSE) -> 0 | G8: =VLOOKUP(B8,Equipamentos!A:E,5,FALSE) -> 0 | J8: =TRUNC(I8*((C8*E8)+(D8*G8)),2) -> 0
A9: =VLOOKUP(B9,Equipamentos!A:E,2,FALSE) -> 0 | E9: =VLOOKUP(B9,Equipamentos!A:E,4,FALSE) -> 0 | G9: =VLOOKUP(B9,Equipamentos!A:E,5,FALSE) -> 0 | J9: =TRUNC(I9*((C9*E9)+(D9*G9)),2) -> 0
A10: =VLOOKUP(B10,Equipamentos!A:E,2,FALSE) -> 0 | E10: =VLOOKUP(B10,Equipamentos!A:E,4,FALSE) -> 0 | G10: =VLOOKUP(B10,Equipamentos!A:E,5,FALSE) -> 0 | J10: =TRUNC(I10*((C10*E10)+(D10*G10)),2) -> 0
A11: =VLOOKUP(B11,Equipamentos!A:E,2,FALSE) -> 0 | E11: =VLOOKUP(B11,Equipamentos!A:E,4,FALSE) -> 0 | G11: =VLOOKUP(B11,Equipamentos!A:E,5,FALSE) -> 0 | J11: =TRUNC(I11*((C11*E11)+(D11*G11)),2) -> 0
A12: =VLOOKUP(B12,Equipamentos!A:E,2,FALSE) -> 0 | E12: =VLOOKUP(B12,Equipamentos!A:E,4,FALSE) -> 0 | G12: =VLOOKUP(B12,Equipamentos!A:E,5,FALSE) -> 0 | J12: =TRUNC(I12*((C12*E12)+(D12*G12)),2) -> 0
A13: =VLOOKUP(B13,Equipamentos!A:E,2,FALSE) -> 0 | E13: =VLOOKUP(B13,Equipamentos!A:E,4,FALSE) -> 0 | G13: =VLOOKUP(B13,Equipamentos!A:E,5,FALSE) -> 0 | J13: =TRUNC(I13*((C13*E13)+(D13*G13)),2) -> 0
A14: =VLOOKUP(B14,Equipamentos!A:E,2,FALSE) -> 0 | E14: =VLOOKUP(B14,Equipamentos!A:E,4,FALSE) -> 0 | G14: =VLOOKUP(B14,Equipamentos!A:E,5,FALSE) -> 0 | J14: =TRUNC(I14*((C14*E14)+(D14*G14)),2) -> 0
I15: (A)Total: | J15: =SUBTOTAL(9,J5:J14) -> 225.65
A16: (B)Mão-de-Obra | B16: Código auxiliar | C16: Eq. Salarial | D16: Sal/Hora | E16: Encargos(%) | I16: Consumo | J16: Custo Horário
A17: =VLOOKUP(B17,'M.O.'!A:E,2,FALSE) -> ENCARREGADO DE SERVIÇO | B17: 20002 | D17: =VLOOKUP(B17,'M.O.'!A:E,5,FALSE) -> 22.27 | E17: 111.5 | I17: 0.4 | J17: =TRUNC(I17*D17,2) -> 8.9
A18: =VLOOKUP(B18,'M.O.'!A:E,2,FALSE) -> AJUDANTE | B18: 20003 | D18: =VLOOKUP(B18,'M.O.'!A:E,5,FALSE) -> 14.1 | E18: 111.5 | I18: 2 | J18: =TRUNC(I18*D18,2) -> 28.2
A19: =VLOOKUP(B19,'M.O.'!A:E,2,FALSE) -> 0 | D19: =VLOOKUP(B19,'M.O.'!A:E,5,FALSE) -> 0 | E19: 111.5 | J19: =TRUNC(I19*D19,2) -> 0
A20: =VLOOKUP(B20,'M.O.'!A:E,2,FALSE) -> 0 | D20: =VLOOKUP(B20,'M.O.'!A:E,5,FALSE) -> 0 | E20: 111.5 | J20: =TRUNC(I20*D20,2) -> 0
A21: =VLOOKUP(B21,'M.O.'!A:E,2,FALSE) -> 0 | D21: =VLOOKUP(B21,'M.O.'!A:E,5,FALSE) -> 0 | E21: 111.5 | J21: =TRUNC(I21*D21,2) -> 0
A22: =VLOOKUP(B22,'M.O.'!A:E,2,FALSE) -> 0 | D22: =VLOOKUP(B22,'M.O.'!A:E,5,FALSE) -> 0 | E22: 111.5 | J22: =TRUNC(I22*D22,2) -> 0
A23: =VLOOKUP(B23,'M.O.'!A:E,2,FALSE) -> 0 | D23: =VLOOKUP(B23,'M.O.'!A:E,5,FALSE) -> 0 | E23: 111.5 | J23: =TRUNC(I23*D23,2) -> 0
A24: =VLOOKUP(B24,'M.O.'!A:E,2,FALSE) -> 0 | D24: =VLOOKUP(B24,'M.O.'!A:E,5,FALSE) -> 0 | E24: 111.5 | J24: =TRUNC(I24*D24,2) -> 0
A25: =VLOOKUP(B25,'M.O.'!A:E,2,FALSE) -> 0 | D25: =VLOOKUP(B25,'M.O.'!A:E,5,FALSE) -> 0 | E25: 111.5 | J25: =TRUNC(I25*D25,2) -> 0
A26: =VLOOKUP(B26,'M.O.'!A:E,2,FALSE) -> 0 | D26: =VLOOKUP(B26,'M.O.'!A:E,5,FALSE) -> 0 | E26: 111.5 | J26: =TRUNC(I26*D26,2) -> 0
I27: (B)Total: | J27: =SUBTOTAL(9,J17:J26) -> 37.1
A28: (C)Itens de Incidência | B28: Código auxiliar | C28: % | D28: M. O. | E28: Equip. | G28: Mat. | J28: Custo
A29: Ferramentas Manuais | B29: 14 | C29: 1.12 | D29: X | J29: =TRUNC((IF(D29<>0,J27,0)+IF(E29<>0,J15,0)+IF(G29<>0,J48,0))*(C29/100),2) -> 0.41
A30: EPI | B30: 11 | D30: X | J30: =TRUNC((IF(D30<>0,J27,0)+IF(E30<>0,J15,0)+IF(G30<>0,J48,0))*(C30/100),2) -> 0
A31: ALIMENTAÇÃO | B31: 12 | C31: 9.6 | D31: X | J31: =TRUNC((IF(D31<>0,J27,0)+IF(E31<>0,J15,0)+IF(G31<>0,J48,0))*(C31/100),2) -> 3.56
A32: TRANSP. DE PESSOAL | B32: 13 | C32: 4.79 | D32: X | J32: =TRUNC((IF(D32<>0,J27,0)+IF(E32<>0,J15,0)+IF(G32<>0,J48,0))*(C32/100),2) -> 1.77
I33: (C)Total: | J33: =SUBTOTAL(9,J29:J32) -> 5.74
I34: Custo Horário da Execução (A) + (B) + (C) | J34: =SUBTOTAL(9,J5:J33) -> 268.49
I35: (D) Produção da Equipe | J35: 1144
I36: (E) Custo Unitário da Execução [(A) + (B) + (C)] / (D) | J36: =TRUNC(J34/J35,2) -> 0.23
A37: (F)Materiais | B37: Código auxiliar | C37: Unid. | D37: Custo Unit. | I37: Consumo | J37: Custo Unit.
A38: =VLOOKUP(B38,Materiais!A:D,2,FALSE) -> 0 | C38: =VLOOKUP(B38,Materiais!A:D,3,FALSE) -> 0 | D38: =VLOOKUP(B38,Materiais!A:D,4,FALSE) -> 0 | J38: =TRUNC(I38*D38,2) -> 0
A39: =VLOOKUP(B39,Materiais!A:D,2,FALSE) -> 0 | C39: =VLOOKUP(B39,Materiais!A:D,3,FALSE) -> 0 | D39: =VLOOKUP(B39,Materiais!A:D,4,FALSE) -> 0 | J39: =TRUNC(I39*D39,2) -> 0
A40: =VLOOKUP(B40,Materiais!A:D,2,FALSE) -> 0 | C40: =VLOOKUP(B40,Materiais!A:D,3,FALSE) -> 0 | D40: =VLOOKUP(B40,Materiais!A:D,4,FALSE) -> 0 | J40: =TRUNC(I40*D40,2) -> 0
A41: =VLOOKUP(B41,Materiais!A:D,2,FALSE) -> 0 | C41: =VLOOKUP(B41,Materiais!A:D,3,FALSE) -> 0 | D41: =VLOOKUP(B41,Materiais!A:D,4,FALSE) -> 0 | J41: =TRUNC(I41*D41,2) -> 0
...

Sheet Materiais
A1: Código auxiliar | B1: Material | C1: Unidade | D1: Custo Unitário
A2: 0 | B2: 0 | C2: 0 | D2: 0
A3: 10010 | B3: CIMENTO PORTLAND CP II - 32 | C3: Kg | D3: 0.65
A4: 10034 | B4: PEDRA DE MÃO / MARROADA | C4: m3 | D4: 76.99
A5: 10044 | B5: PREGO | C5: Kg | D5: 20.27
A6: 10048 | B6: SARRAFO | C6: m | D6: 7.93
A7: 10055 | B7: TELA DE AÇO REVEST. PVC P/ GABIÕES (1,00M) - TIPO CAIXÃO | C7: m3 | D7: 449.01
A8: 10069 | B8: AÇO CA - 50 | C8: Kg | D8: 8.41
A9: 10081 | B9: AREIA - COMERCIAL (AC) | C9: m3 | D9: 110.34
A10: 10082 | B10: BRITA - COMERCIAL (BC) | C10: m3 | D10: 84.28
A11: 10097 | B11: ADITIVO PLASTIFICANTE E RETARDADOR | C11: Kg | D11: 5.69
A12: 10098 | B12: ISOPOR 5CM DE ESPESSURA | C12: m2 | D12: 18.8
A13: 11001 | B13: APARELHO DE NEOPRENE FRETADO | C13: dm3 | D13: 82.81
A14: 11002 | B14: ARAME GALVANIZADO Nº 10 | C14: Kg | D14: 20.63
... A21: 11033 | B21: TUBO PVC 100 MM | C21: m | D21: 15.41
A22: A0001 | B22: Material de Expediente / Cópias / Impressões | C22: mês | D22: 200
A23: A0002 | B23: Medicamentos | C23: mês | D23: 50
A24: M0669 | B24: MARTELO DE FUNDO DTH - D = 8" | C24: un | D24: 30884.66
A25: M1644 | B25: BIT DE BOTÃO ESFÉRICO - D = 9 7/8" | C25: un | D25: 9176.25
A26: M2321 | B26: TUBO DE REVESTIMENTO PARA ESTACA RAIZ SCH 80 - D EXTERNO = 323,8 MM - 132,04 KG/M | C26: m | D26: 3169.75
A27: M0601 | B27: PONTEIRO PARA MARTELETE - D=32 MM E C= 1,00 M | C27: un | D27: 675.11
A28: M1387 | B28: CHAPA GROSSA EM AÇO ASTM A36 | C28: Kg | D28: 11.69
A29: M1796 | B29: GÁS ACETILENO | C29: Kg | D29: 47.49
A30: M1795 | B30: GÁS OXIGÊNIO | C30: m3 | D30: 12.39
A31: M1398 | B31: VARETA EM AÇO-CARBONO PARA SOLDA OXIACETILENTO AWS A 5.2 R45 | C31: Kg | D31: 35.03
A32: M2130 | B32: ELETRODO REVESTIDO E70XX | C32: Kg | D32: 30.87
A33: 5 | B33: ARAME PROTEGIDO COM POLÍMERO PARA GABIÃO, DIÂMETRO 3,2MM | C33: Kg | D33: 53.54
A34: 2023 | B34: TÁBUA PARA FORMA (30CM) | C34: m | D34: 11.27
A35: 2779 | B35: COMPACTADOR DE PLACA VIBRATÓRIA A GASOLINA POTÊNCIA 3HP (MANUTENÇÃO E DEPRECIAÇÃO DO EQUIPAMENTO) - PREÇO DO EQUIPAMENTO NOVO DIVIDIDO POR 1.000 | C35: UN | D35: 5.04
A36: 2782 | B36: GASOLINA | C36: L | D36: 4.65
A37: 10000 | B37: ADUBO NPK | C37: Kg | D37: 0.94
A38: 10002 | B38: ARAME LISO | C38: m | D38: 0.13
A39: 10004 | B39: BLOKRET 8CM FCK 22 MPA | C39: m2 | D39: 49.05
A40: 10009 | B40: CAL HIDRATADA | C40: Kg | D40: 0.36
A41: 10011 | B41: COLA POLIESTER | C41: Kg | D41: 17.2
A42: 10013 | B42: CORDEL DETONANTE NP 10 | C42: m | D42: 1.62
A43: 10014 | B43: DEFENSA METÁLICA | C43: m | D43: 356.35
A44: 10015 | B44: EMULSÃO EXPLOSIVA ENCARTUCHADA | C44: Kg | D44: 8.28
... A84: 10068 | B84: TUBO PERFURADO PVC 100 MM | C84: m | D84: 24.79
A85: 10070 | B85: ASFALTO DILUÍDO DE PETRÓLEO CM-30 | C85: t
...

Sheet M.O.
A1: Código auxiliar | B1: Mão-de-obra | C1: Unidade | D1: Valor sem encargos | E1: Valor com encargos
A2: 0 | B2: 0 | C2: 0 | D2: 0 | E2: 0
A3: 20000 | B3: OPERADOR DE EQUIPAMENTO LEVE | C3: h | D3: 8.85 | E3: 18.71
A4: 20002 | B4: ENCARREGADO DE SERVIÇO | C4: h | D4: 10.53 | E4: 22.27
A5: 20003 | B5: AJUDANTE | C5: h | D5: 6.67 | E5: 14.1
A6: 20016 | B6: CARPINTEIRO | C6: h | D6: 8.85 | E6: 18.71
A7: 20017 | B7: PEDREIRO | C7: h | D7: 8.85 | E7: 18.71
A8: 20018 | B8: ARMADOR | C8: h | D8: 8.85 | E8: 18.71
A9: 20031 | B9: SERVENTE | C9: h | D9: 6.14 | E9: 12.98
A10: A0001 | B10: Engenheiro de Produção/ Civil | C10: mês | E10: 18121.24
A11: A0002 | B11: Topógrafo | C11: mês | E11: 5583.8
A12: A0003 | B12: Auxiliar de Topografia | C12: mês | E12: 2186.31
A13: A0004 | B13: Motorista | C13: mês | E13: 3273.66
A14: A0005 | B14: Almoxarife / Apontador / Comprador | C14: mês | E14: 6771.77
A15: A0006 | B15: Vigia | C15: mês | E15: 2263.7
A16: P9825 | B16: SOLDADOR | C16: h | D16: 13.32 | E16: 28.17
A17: 21 | B17: SERRALHEIRO | C17: h | D17: 8.45 | E17: 16.21
A18: 20001 | B18: MOTORISTA DE VEÍCULO LEVE | C18: h | D18: 8.35 | E18: 16.02
A19: 20004 | B19: OPERADOR DE EQUIPAMENTO ESPECIAL | C19: h | D19: 13.55 | E19: 25.99
A20: 20006 | B20: OPERADOR DE COMPRESSOR DE AR | C20: h | D20: 7.57 | E20: 14.52
A21: 20008 | B21: OPERADOR DE USINA DE ASFALTO | C21: h | D21: 13.55 | E21: 25.99
A22: 20013 | B22: GREDISTA | C22: h | D22: 6.08 | E22: 11.66
A23: 20014 | B23: BLASTER | C23: h | D23: 8.82 | E23: 19.56
A24: 20015 | B24: MONTADOR | C24: h | D24: 10.1 | E24: 15.82
A25: 20019 | B25: PINTOR | C25: h | D25: 8.45 | E25: 16.21
A26: 20021 | B26: MARTELEIRO | C26: h | D26: 8.25 | E26: 15.82
A27: 20023 | B27: RASTELEIRO | C27: h | D27: 8.25 | E27: 15.82
A28: 20026 | B28: OPERADOR DE EQUIPAMENTO PESADO | C28: h | D28: 10.08 | E28: 19.33
... A36: 21025 | B36: CAVOUQUEIRO | C36: h | D36: 8.25 | E36: 15.82
A37: P9823 | B37: SERRALHEIRO | C37: h | D37: 7.47 | E37: 14.33

Sheet Equipamentos
A1: Código auxiliar | B1: Equipamento | C1: Unid. | D1: Hora Prod. | E1: Hora Impr
A2: 0 | B2: 0 | C2: 0 | D2: 0 | E2: 0
A3: 30000 | B3: TRATOR ESTEIRAS COM LAMINA - CAT D6 OU EQUIVALENTE | C3: h | D3: 225.65 | E3: 71.76
A4: 30032 | B4: BETONEIRA DE 320L - ELÉTRICA | C4: h | D4: 0.92 | E4: 0.55
A5: 30033 | B5: CARRINHO DE MÃO 80L | C5: h | D5: 0.75 | E5: 0.5
A6: 30034 | B6: VIBRADOR DE IMERSÃO - D = 35 mm | C6: h | D6: 4.93 | E6: 0.65
A7: 30035 | B7: CAMINHÃO CARROCERIA MADEIRA - 15 T | C7: h | D7: 253.44 | E7: 48.18
A8: 30037 | B8: CAMINHÃO BASCULANTE 10 M3 - 15 T | C8: h | D8: 296.79 | E8: 57.98
A9: 30039 | B9: CAMINHÃO TANQUE 6.000L | C9: h | D9: 231.68 | E9: 43.98
A10: 30042 | B10: GRUPO GERADOR 36 / 40 KVA | C10: h | D10: 37.67 | E10: 2.7
A11: 30046 | B11: MOTONIVELADORA - CAT 120K OU EQUIVALENTE | C11: h | D11: 239.37 | E11: 84.93
A12: 30047 | B12: SERRA CIRCULAR 12" COM BANCADA | C12: h | D12: 0.9 | E12: 0.58
A13: 30057 | B13: ESCAVADEIRA HIDRÁULICA - CAT 323DL OU EQUIVALENTE | C13: h | D13: 307.67 | E13: 125.69
A14: 31015 | B14: MOTOSSERRA | C14: h | D14: 4.24 | E14: 1.15
A15: A0001 | B15: Veículos Leves (incluso combustível) | C15: mês | D15: 2997.26
A16: E9547 | B16: MÁQUINA PARA SOLDA ELÉTRICA- 9,2 KW E | C16: h | D16: 0.12 | E16: 0.06
A17: E9642 | B17: PERFURATRIZ HIDRÁULICA SOBRE ESTEIRAS PARA ESTACA RAIZ - 56 KW | C17: h | D17: 261.48 | E17: 129.22
A18: E9652 | B18: COMPRESSOR DE AR PORTÁTIL DE 1146 PCM - 369 KW | C18: h | D18: 450.09 | E18: 52.87
A19: E9694 | B19: MISTURADOR DE ARGAMASSA DE ALTA TUBURLÊNCIA COM CAPACIDADE DE 220 L | C19: h | D19: 22.3 | E19: 20.63
A20: E9750 | B20: BOMBA DE INJEÇÃO DE ARGAMASSA COM CAPACIDADE DE 50 L / MIN | C20: h | D20: 5.59 | E20: 2.98
A21: E9779 | B21: GRUPO GERADOR - 100/110 KVA | C21: h | D21: 104.42 | E21: 3.94
A22: E9640 | B22: COMPRESSOR DE AR PORTÁTIL DE 33,51 L/S (71 PCM) - 14 KW | C22: h | D22: 25.81 | E22: 5.63
A23: E9706 | B23: MARTELETE PERFURADOR/ROMPEDOR A AR COMPRIMIDO DE 28 KG PARA CONCRETO COM CAPACIDADE DE 1230 GPM | C23: h | D23: 21.41 | E23: 20.06
A24: E9660 | B24: GUINDASTE MÓVEL SOBRE ESTEIRAS COM CAPACIDADE DE 40 T - 186 KW | C24: h | D24: 365.66 | E24: 146.3
A25: E9756 | B25: CALANDRA PARA CHAPAS DE AÇO DE 25 MM - 22KW | C25: h | D25: 80.53 | E25: 51.69
A26: E9070 | B26: PONTE ROLANTE COM CAPACIDADE DE 5 T E VÃO DE ATÉ 15 M - 10 KW | C26: h | D26: 41.99 | E26: 33.04
A27: E9662 | B27: EQUIPAMENTO PARA SOLDA E CORTE COM OXIACETILENO | C27: h | D27: 0.94 | E27: 0.47
A28: 30001 | B28: TRATOR ESTEIRA COM LÂMINA - CAT D8 OU EQUIVALENTE | C28: h | D28: 640.29 | E28: 176.58
A29: 30002 | B29: TRATOR ESTEIRAS COM ESCARIFICADOR - CAT D8 OU EQUIVALENTE | C29: h | D29: 384.76 | E29: 110.2
A30: 30005 | B30: TRATOR DE PNEUS AGRÍCOLA - MF 4292 OU EQUIVALENTE | C30: h | D30: 97.43 | E30: 24.94
A31: 30006 | B31: TRATOR DE PNEUS COM ROÇADEIRA | C31: h | D31: 75.34 | E31: 24
A32: 30007 | B32: CARREGADEIRA DE PNEUS CAT - 950 H OU EQUIVALENTE | C32: h | D32: 292.94 | E32: 96.61
A33: 30008 | B33: RETRO ESCAVADEIRA DE PNEUS - CATERPILLAR 416E OU EQUIVALENTE | C33: h | D33: 115.78 | E33: 45.88
A34: 30009 | B34: ROLO PÉ DE CARNEIRO AUTOPROPELIDO - CA 250 OU EQUIVALENTE | C34: h | D34: 160.26 | E34: 58.31
A35: 30010 | B35: CARREGADEIRA DE PNEUS CAT - 924 H OU EQUIVALENTE | C35: h | D35: 136.43 | E35: 51.05
A36: 30011 | B36: ESCAVADEIRA HIDRÁULICA - 320DL OU EQUIVALENTE | C36: h | D36: 237.86 | E36: 86.75
A37: 30012 | B37: ROLO LISO TANDEN - 6/8 T - CA-150 OU EQUIVALENTE | C37: h | D37: 84.21 | E37: 31.94
A38: 30013 | B38: GRADE DE DISCO - 24X24 | C38: h | D38: 3.39 | E38: 2.18
A39: 30014 | B39: ROLO LISO VIBRATÓRIO AUTOPROPELIDO - CS533 E OU EQUIVALENTE | C39: h | D39: 123.03 | E39: 44.07
... A79: 31062 | B79: CAMINHÃO MUNCK | C79: h | D79: 133.19 | E79: 34.8
...
