Workbook
Name \c: #REF!
Name \I: #REF!
Name \S: #REF!
Name \x: #REF!
Name \z: #REF!
Name _\0: #REF!
Name _\1: #REF!
Name _\2: #REF!
Name _\a: #REF!
Name _\I: #REF!
Name _\m: #REF!
Name _\p: #REF!
Name _\s: #REF!
Name __\c: #REF!
Name __\P: #REF!
Name __\x: #REF!
Name ___\P: #REF!
Name ___\z: #REF!
Name ____\0: #REF!
Name ____\a: #REF!
Name ____\I: #REF!
Name ____\S: #REF!
Name ____\z: #REF!
Name _____\z: #REF!
Name ______\S: #REF!
Name _______\I: #REF!
Name ________\0: #REF!
Name ________\1: #REF!
Name ________\2: #REF!
Name ________\a: #REF!
Name ________\I: #REF!
Name ________\m: #REF!
Name ________\p: #REF!
Name ________\s: #REF!
Name ___________________________PM334: #REF!
Name ___________________________PM335: #REF!
Name ___________________________pm346: #REF!
Name ___________________________PM406: #REF!
Name ___________________________PM970: #REF!
Name __________________________OUT98: #REF!
Name __________________________PL1: #REF!
Name __________________________PM334: #REF!
Name __________________________PM335: #REF!
Name __________________________pm346: #REF!
Name __________________________PM406: #REF!
Name __________________________PM970: #REF!
Name _________________________OUT98: #REF!
Name _________________________PM334: #REF!
Name _________________________PM335: #REF!
Name _________________________pm346: #REF!
Name _________________________PM406: #REF!
Name _________________________PM970: #REF!
Name ________________________OUT98: #REF!
Name ________________________PM334: #REF!
Name ________________________PM335: #REF!
Name ________________________pm346: #REF!
Name ________________________PM406: #REF!
Name ________________________PM970: #REF!
Name _______________________OUT98: #REF!
Name _______________________PCM30: #REF!

Sheet RESUMO
C1: GOINFRA - Agência Goiana de Infraestrutura e Transportes
C3: Orçamento Sintético
B4: Setor:
B5: Orçamento: | E5: Data Orçamento: 04/07/2024
B6: Descrição: | C6: ELABORAÇÃO DOS ORÇAMENTOS DAS REABILITAÇÕES FUNCIONAIS GO-210 E GO-301
B7: Versão: | C7: ORÇAMENTO REALIZADO NA TABELA DE TERRAPLENAGEM, PAVIMENTAÇÃO E OBRAS DE ARTE ESPECIAIS - ABRIL/24 - SEM DESONERAÇÃO - T247
B8: Trecho:
B9: Nat. Serviço:
B10: Extensão km: | C10: ='Orçamento Sintético GO-210'!C10+'Orçamento Sintético GO-301'!C10 -> 97.82
E12: Data Base : 01/04/2024
A13: RESUMO
A14: Item | B14: Código | C14: Descrição | D14: Total
A15: 1 | B15: 202300036012155-1-3 | C15: REABILITAÇÃO FUNCIONAL DA GO-210 TRECHO: ENTR. BR-352(A) DIV. GO/MG / ENTR.GO-592 - TRECHO 01 - (EXTENSÃO: 46,21KM) | D15: ='Orçamento Sintético GO-210'!$E$115 -> 20823927
A16: 2 | B16: 202300036012155-2-3 | C16: REABILITAÇÃO FUNCIONAL DA GO-301/ GO-457/ GO-213, TRECHO: ENTR. BR-506(A)/ENTR. GO- 506(B) - TRECHO 02 - (EXTENSÃO: 51,61KM) | D16: ='Orçamento Sintético GO-301'!E115 -> 21414808
C17: TOTAL GERAL: | D17: =D15+D16 -> 42238735

Sheet Orçamento Sintético GO-210
C1: GOINFRA - Agência Goiana de Infraestrutura e Transportes
C3: Orçamento Sintético
B4: Setor:
B5: Orçamento: | F5: Data Orçamento: 04/07/2024
B6: Descrição: | C6: ELABORAÇÃO DOS ORÇAMENTOS DAS REABILITAÇÕES FUNCIONAIS GO-210
B7: Versão: | C7: =RESUMO!C7 -> ORÇAMENTO REALIZADO NA TABELA DE TERRAPLENAGEM, PAVIMENTAÇÃO E OBRAS DE ARTE ESPECIAIS - ABRIL/24 - SEM DESONERAÇÃO - T247
B8: Trecho:
B9: Nat. Serviço:
B10: Extensão km: | C10: 46.21
B11: BDI: | C11: 0.206
F12: Data Base : 01/04/2024
A13: Orçamento Sintético
A14: Item | B14: Código | C14: Descrição | D14: Und | E14: Quant. | F14: Valor Unit | G14: Total
A15: 1 | C15: REPAROS LOCALIZADOS SUPERFICIAIS | E15: 1 | G15: =SUM(G16:G28) -> 1328254.3
A16: 1.1 | B16: 40465 | C16: FRESAGEM DESCONTÍNUA À FRIO | D16: m3 | E16: 548.09 | F16: =VLOOKUP(B16,'Table T-247'!A:D,4,0) -> 194.82 | G16: =ROUND(E16 * F16, 2) -> 106778.89
A17: 1.2 | B17: 40430 | C17: TRANSPORTE DE PAVIMENTO REMOVIDO | D17: m3km | E17: 2740.44 | F17: =VLOOKUP(B17,'Table T-247'!A:D,4,0) -> 3.2 | G17: =ROUND(E17 * F17, 2) -> 8769.41
A18: 1.3 | B18: 40385 | C18: PINTURA DE LIGAÇÃO | D18: m2 | E18: 27404.4 | F18: =VLOOKUP(B18,'Table T-247'!A:D,4,0) -> 0.38 | G18: =ROUND(E18 * F18, 2) -> 10413.67
A19: 1.4 | B19: 40510 | C19: FORNECIMENTO DE EMULSÃO RR-1C | D19: T | E19: 13.7 | F19: =VLOOKUP(B19,'Table T-247'!A:D,4,0) -> 3394.06 | G19: =ROUND(E19 * F19, 2) -> 46498.62
A20: 1.5 | B20: 40435 | C20: TRANSPORTE LOCAL DE MATERIAL BETUMINOSO | D20: TKM | E20: 316.59 | F20: =VLOOKUP(B20,'Table T-247'!A:D,4,0) -> 2.74 | G20: =ROUND(E20 * F20, 2) -> 867.46
A21: 1.6 | B21: 40602 | C21: CONCRETO BETUMINOSO USINADO À QUENTE - CBUQ | D21: m3 | E21: 548.09 | F21: =VLOOKUP(B21,'Table T-247'!A:D,4,0) -> 482.07 | G21: =ROUND(E21 * F21, 2) -> 264217.75
A22: 1.7 | B22: 40455 | C22: TRANSPORTE COMERCIAL DE AGREGADOS | D22: m3km | E22: 1641.63 | F22: =VLOOKUP(B22,'Table T-247'!A:D,4,0) -> 1.38 | G22: =ROUND(E22 * F22, 2) -> 2265.45
A23: 1.8 | B23: 40455 | C23: TRANSPORTE COMERCIAL DE AGREGADOS | D23: m3km | E23: 6353.44 | F23: =VLOOKUP(B23,'Table T-247'!A:D,4,0) -> 1.38 | G23: =ROUND(E23 * F23, 2) -> 8767.75
A24: 1.9 | B24: 40450 | C24: TRANSPORTE COMERCIAL DE CIMENTO / CAL / FILLER | D24: TKM | E24: 36.83 | F24: =VLOOKUP(B24,'Table T-247'!A:D,4,0) -> 0.75 | G24: =ROUND(E24 * F24, 2) -> 27.62
A25: 1.10 | B25: 40530 | C25: TRANSPORTE COMERCIAL DE MATERIAL BETUMINOSO (DT=351,00KM) | D25: tkm | E25: 32512.03 | F25: =VLOOKUP(B25,'Table T-247'!A:D,4,0) -> 1.83 | G25: =ROUND(E25 * F25, 2) -> 59497.01
A26: 1.11 | B26: 40440 | C26: TRANSPORTE LOCAL DE MASSA ASFÁLTICA | D26: TKM | E26: 30392.58 | F26: =VLOOKUP(B26,'Table T-247'!A:D,4,0) -> 1.53 | G26: =ROUND(E26 * F26, 2) -> 46500.65
A27: 1.12 | B27: 40460 | C27: TRANSPORTE COMERCIAL DE MASSA | D27: TKM | E27: 461709.33 | F27: =VLOOKUP(B27,'Table T-247'!A:D,4,0) -> 0.91 | G27: =ROUND(E27 * F27, 2) -> 420155.49
A28: 1.13 | B28: 40525 | C28: FORNECIMENTO DE CAP-50/70 | D28: T | E28: 78.92 | F28: =VLOOKUP(B28,'Table T-247'!A:D,4,0) -> 4479.15 | G28: =ROUND(E28 * F28, 2) -> 353494.52
A29: 2 | C29: REPAROS LOCALIZADOS PROFUNDOS | E29: 1 | G29: =SUM(G30:G48) -> 1599930.7
A30: 2.1 | B30: 40423 | C30: ESCARIFICAÇÃO DE PAVIMENTO ASFÁLTICO | D30: m3 | E30: 998.88 | F30: =VLOOKUP(B30,'Table T-247'!A:D,4,0) -> 5.35 | G30: =ROUND(E30 * F30, 2) -> 5344.01
A31: 2.2 | B31: 40430 | C31: TRANSPORTE DE PAVIMENTO REMOVIDO | D31: m3km | E31: 4994.42 | F31: =VLOOKUP(B31,'Table T-247'!A:D,4,0) -> 3.2 | G31: =ROUND(E31 * F31, 2) -> 15982.14
A32: 2.3 | B32: 40375 | C32: ESTABILIZAÇÃO SOLO-CIMENTO 3% PESO - PISTA | D32: m3 | E32: 665.92 | F32: =VLOOKUP(B32,'Table T-247'!A:D,4,0) -> 71.87 | G32: =ROUND(E32 * F32, 2) -> 47859.67
A33: 2.4 | B33: 40317 | C33: FORNECIMENTO DE MATERIAL DE JAZIDA (CASCALHO) | D33: m3 | E33: 865.7 | F33: =VLOOKUP(B33,'Table T-247'!A:D,4,0) -> 22.56 | G33: =ROUND(E33 * F33, 2) -> 19530.19
A34: 2.5 | B34: 40320 | C34: TRANSPORTE DE MATERIAL DE JAZIDA (CASCALHO) | D34: m3km | E34: 255470.02 | F34: =VLOOKUP(B34,'Table T-247'!A:D,4,0) -> 2.83 | G34: =ROUND(E34 * F34, 2) -> 722980.16
A35: 2.6 | B35: 40450 | C35: TRANSPORTE COMERCIAL DE CIMENTO / CAL / FILLER | D35: TKM | E35: 14686.38 | F35: =VLOOKUP(B35,'Table T-247'!A:D,4,0) -> 0.75 | G35: =ROUND(E35 * F35, 2) -> 11014.79
A36: 2.7 | B36: 40449 | C36: TRANSPORTE LOCAL DE CIMENTO / CAL / FILLER | D36: tkm | E36: 953.17 | F36: =VLOOKUP(B36,'Table T-247'!A:D,4,0) -> 1.47 | G36: =ROUND(E36 * F36, 2) -> 1401.16
A37: 2.8 | B37: 40380 | C37: IMPRIMAÇÃO | D37: m2 | E37: 6659.22 | F37: =VLOOKUP(B37,'Table T-247'!A:D,4,0) -> 0.47 | G37: =ROUND(E37 * F37, 2) -> 3129.83
A38: 2.9 | B38: 40480 | C38: FORNECIMENTO DE CM-30 | D38: T | E38: 7.99 | F38: =VLOOKUP(B38,'Table T-247'!A:D,4,0) -> 6920.01 | G38: =ROUND(E38 * F38, 2) -> 55290.88
A39: 2.10 | B39: 40385 | C39: PINTURA DE LIGAÇÃO | D39: m2 | E39: 6659.22 | F39: =VLOOKUP(B39,'Table T-247'!A:D,4,0) -> 0.38 | G39: =ROUND(E39 * F39, 2) -> 2530.5
A40: 2.11 | B40: 40510 | C40: FORNECIMENTO DE EMULSÃO RR-1C | D40: T | E40: 3.33 | F40: =VLOOKUP(B40,'Table T-247'!A:D,4,0) -> 3394.06 | G40: =ROUND(E40 * F40, 2) -> 11302.22
A41: 2.12 | B41: 40602 | C41: CONCRETO BETUMINOSO USINADO À QUENTE - CBUQ | D41: m3 | E41: 332.96 | F41: =VLOOKUP(B41,'Table T-247'!A:D,4,0) -> 482.07 | G41: =ROUND(E41 * F41, 2) -> 160510.03
...

Sheet MOBI GO-210
A1: Mobilização / Desmobilização | F1: GO-210
A2: Equipamento | C2: Mobilizador | D2: FU (A) | E2: Hora Produtiva (B) | F2: DT* (C) | G2: Custo (D=AxB/60) | H2: Quantidade (E) | I2: Total (CxDxE)
A3: Autopropelidos
A4: 30050 | B4: CAMINHÃO APLICADOR DE MATERIAL TERMOPLÁSTICO | C4: 30050 | D4: 1 | E4: 481.68 | F4: 263 | G4: 8.02 | I4: =TRUNC(F4*G4*H4) -> 0
A5: 30037 | B5: CAMINHÃO BASCULANTE 10 M3 - 15 T | C5: 30037 | D5: 1 | E5: 287.75 | F5: 263 | G5: 4.79 | H5: 20 | I5: =TRUNC(F5*G5*H5) -> 25195
A6: 30036 | B6: CAMINHÃO BASCULANTE 6 M3 - 10,5 T | C6: 30036 | D6: 1 | E6: 170.75 | F6: 263 | G6: 2.84 | I6: =TRUNC(F6*G6*H6) -> 0
A7: 30035 | B7: CAMINHÃO CARROCERIA MADEIRA - 15 T | C7: 30035 | D7: 1 | E7: 239.55 | F7: 263 | G7: 3.99 | H7: 2 | I7: =TRUNC(F7*G7*H7) -> 2098
A8: 30125 | B8: CAMINHÃO COM BATE ESTACAS HIDRÁULICO PARA DEFENSA | C8: 30125 | D8: 1 | E8: 274.4 | F8: 263 | G8: 4.57 | I8: =TRUNC(F8*G8*H8) -> 0
A9: 30110 | B9: CAMINHÃO COM DOLLY - 57 t | C9: 30110 | D9: 1 | E9: 475.75 | F9: 263 | G9: 7.92 | I9: =TRUNC(F9*G9*H9) -> 0
A10: 30120 | B10: CAMINHÃO DISTRIBUIDOR DE CIMENTO | C10: 30120 | D10: 1 | E10: 418.35 | F10: 263 | G10: 6.97 | H10: 1 | I10: =TRUNC(F10*G10*H10) -> 1833
A11: 31062 | B11: CAMINHÃO MUNCK (GUINDAUTO) | C11: 31062 | D11: 1 | E11: 237.87 | F11: 263 | G11: 3.96 | I11: =TRUNC(F11*G11*H11) -> 0
A12: 30053 | B12: CAMINHÃO PARA HIDROSSEMEADURA | C12: 30053 | D12: 1 | E12: 288.11 | F12: 263 | G12: 4.8 | I12: =TRUNC(F12*G12*H12) -> 0
A13: 30049 | B13: CAMINHÃO PARA PINTURA A FRIO COM DEMARCADOR DE FAIXAS | C13: 30049 | D13: 1 | E13: 305.27 | F13: 263 | G13: 5.08 | H13: 1 | I13: =TRUNC(F13*G13*H13) -> 1336
A14: 30040 | B14: CAMINHÃO TANQUE 10.000L | C14: 30040 | D14: 1 | E14: 285.4 | F14: 263 | G14: 4.75 | H14: 1 | I14: =TRUNC(F14*G14*H14) -> 1249
A15: 30039 | B15: CAMINHÃO TANQUE 6.000L | C15: 30039 | D15: 1 | E15: 216.01 | F15: 263 | G15: 3.6 | I15: =TRUNC(F15*G15*H15) -> 0
A16: 30021 | B16: CAMINHÃO TANQUE DISTRIBUIDOR DE ASFALTO | C16: 30021 | D16: 1 | E16: 227.85 | F16: 263 | G16: 3.79 | H16: 6 | I16: =TRUNC(F16*G16*H16) -> 5980
A17: 30030 | B17: USINA MÓVEL PARA MICRO REVESTIMENTO | C17: 30030 | D17: 1 | E17: 627.06 | F17: 263 | G17: 10.45 | H17: 2 | I17: =TRUNC(F17*G17*H17) -> 5496
A18: Rebocados
A19: 30010 | B19: CARREGADEIRA DE PNEUS CAT - 924 H OU EQUIVALENTE | C19: 30105 | D19: 0.5 | E19: 365.15 | F19: 263 | G19: 3.04 | H19: 1 | I19: =TRUNC(F19*G19*H19) -> 799
A20: 30007 | B20: CARREGADEIRA DE PNEUS CAT - 950 H OU EQUIVALENTE | C20: 30105 | D20: 0.5 | E20: 365.15 | F20: 263 | G20: 3.04 | I20: =TRUNC(F20*G20*H20) -> 0
A21: 30011 | B21: ESCAVADEIRA HIDRÁULICA - 320DL OU EQUIVALENTE | C21: 30105 | D21: 1 | E21: 365.15 | F21: 263 | G21: 6.08 | H21: 1 | I21: =TRUNC(F21*G21*H21) -> 1599
A22: 30057 | B22: ESCAVADEIRA HIDRÁULICA - CAT 323DL OU EQUIVALENTE | C22: 30105 | D22: 1 | E22: 365.15 | F22: 263 | G22: 6.08 | I22: =TRUNC(F22*G22*H22) -> 0
A23: 30019 | B23: FRESADORA A FRIO - W 200 F OU EQUIVALENTE | C23: 30105 | D23: 1 | E23: 365.15 | F23: 263 | G23: 6.08 | H23: 1 | I23: =TRUNC(F23*G23*H23) -> 1599
A24: 30158 | B24: MINI-CARREGADEIRA DE PNEUS COM FRESADORA | C24: 30105 | D24: 0.33 | E24: 365.15 | F24: 263 | G24: 2 | I24: =TRUNC(F24*G24*H24) -> 0
A25: 30058 | B25: MINI-CARREGADEIRA DE PNEUS COM VASSOURA DE 1,8 m | C25: 30105 | D25: 0.33 | E25: 365.15 | F25: 263 | G25: 2 | H25: 1 | I25: =TRUNC(F25*G25*H25) -> 526
A26: 30046 | B26: MOTONIVELADORA - CAT 120K OU EQUIVALENTE | C26: 30105 | D26: 1 | E26: 365.15 | F26: 263 | G26: 6.08 | H26: 1 | I26: =TRUNC(F26*G26*H26) -> 1599
A27: 30170 | B27: PERFURATRIZ HIDRÁULICA SOBRE ESTEIRAS PARA ESTACA RAIZ | C27: 30105 | D27: 1 | E27: 365.15 | F27: 263 | G27: 6.08 | I27: =TRUNC(F27*G27*H27) -> 0
A28: 30029 | B28: PERFURATRIZ SOBRE ESTEIRAS - CRAWLER DRILL OU EQUIVALENTE | C28: 30105 | D28: 0.5 | E28: 365.15 | F28: 263 | G28: 3.04 | I28: =TRUNC(F28*G28*H28) -> 0
A29: 30101 | B29: RECICLADORA DE PAVIMENTO À FRIO - CATERPILLAR RM-500 OU EQUIVALENTE | C29: 30105 | D29: 1 | E29: 365.15 | F29: 263 | G29: 6.08 | H29: 1 | I29: =TRUNC(F29*G29*H29) -> 1599
A30: 30008 | B30: RETRO ESCAVADEIRA DE PNEUS - CATERPILLAR 416E OU EQUIVALENTE | C30: 30105 | D30: 0.5 | E30: 365.15 | F30: 263 | G30: 3.04 | I30: =TRUNC(F30*G30*H30) -> 0
A31: 30015 | B31: ROLO COMPACTADOR DE PNEUS AUTOPROPELIDO - 27 T | C31: 30105 | D31: 0.5 | E31: 365.15 | F31: 263 | G31: 3.04 | H31: 1 | I31: =TRUNC(F31*G31*H31) -> 799
A32: 30012 | B32: ROLO LISO TANDEN - 6/8 T - CA-150 OU EQUIVALENTE | C32: 30105 | D32: 0.5 | E32: 365.15 | F32: 263 | G32: 3.04 | H32: 1 | I32: =TRUNC(F32*G32*H32) -> 799
A33: 30014 | B33: ROLO LISO VIBRATÓRIO AUTOPROPELIDO - CS533 E OU EQUIVALENTE | C33: 30105 | D33: 0.5 | E33: 365.15 | F33: 263 | G33: 3.04 | H33: 1 | I33: =TRUNC(F33*G33*H33) -> 799
A34: 30009 | B34: ROLO PÉ DE CARNEIRO AUTOPROPELIDO - CA 250 OU EQUIVALENTE | C34: 30105 | D34: 0.5 | E34: 365.15 | F34: 263 | G34: 3.04 | H34: 1 | I34: =TRUNC(F34*G34*H34) -> 799
A35: 30020 | B35: TANQUE DE ESTOCAGEM ASFALTO (30.000L) | C35: 30105 | D35: 1 | E35: 365.15 | F35: 263 | G35: 6.08 | H35: 3 | I35: =TRUNC(F35*G35*H35) -> 4797
A36: 30005 | B36: TRATOR DE PNEUS AGRÍCOLA - MF 4292 OU EQUIVALENTE | C36: 30105 | D36: 0.5 | E36: 365.15 | F36: 263 | G36: 3.04 | H36: 2 | I36: =TRUNC(F36*G36*H36) -> 1599
A37: 30006 | B37: TRATOR DE PNEUS COM ROÇADEIRA | C37: 30105 | D37: 0.5 | E37: 365.15 | F37: 263 | G37: 3.04 | I37: =TRUNC(F37*G37*H37) -> 0
A38: 30001 | B38: TRATOR ESTEIRAS COM LÂMINA - CAT D8 OU EQUIVALENTE | C38: 30105 | D38: 1 | E38: 365.15 | F38: 263 | G38: 6.08 | I38: =TRUNC(F38*G38*H38) -> 0
A39: 30002 | B39: TRATOR ESTEIRAS COM ESCARIFICADOR - CAT D8 OU EQUIVALENTE | C39: 30105 | D39: 1 | E39: 365.15 | F39: 263 | G39: 6.08 | I39: =TRUNC(F39*G39*H39) -> 0
A40: 30059 | B40: TRATOR ESTEIRAS COM LAMINA - CAT D4 OU EQUIVALENTE | C40: 30105 | D40: 0.5 | E40: 365.15 | F40: 263 | G40: 3.04 | I40: =TRUNC(F40*G40*H40) -> 0
...

Sheet CRONOGRAMA GO-210
D1: ='Orçamento Sintético GO-210'!C6 -> ELABORAÇÃO DOS ORÇAMENTOS DAS REABILITAÇÕES FUNCIONAIS GO-210
B3: GOINFRA - Agência Goiana de Infraestrutura e Transportes
B5: CRONOGRAMA FÍSICO - FINANCEIRO
A6: ITEM | B6: ATIVIDADES | C6: VALOR ETAPA | D6: MÊS
D7: 1º MÊS | E7: 2º MÊS | F7: 3º MÊS | G7: 4º MÊS
A8: 1 | B8: ='Orçamento Sintético GO-210'!C15 -> REPAROS LOCALIZADOS SUPERFICIAIS | C8: ='Orçamento Sintético GO-210'!G15 -> 1328254.3 | D8: 0.25 | E8: 0.25 | F8: 0.25 | G8: 0.25
D9: =$C$8*D8 -> 332063.57 | E9: =$C$8*E8 -> 332063.57 | F9: =$C$8*F8 -> 332063.57 | G9: =$C$8*G8 -> 332063.57
A10: 2 | B10: ='Orçamento Sintético GO-210'!C29 -> REPAROS LOCALIZADOS PROFUNDOS | C10: ='Orçamento Sintético GO-210'!G29 -> 1599930.7 | D10: 0.25 | E10: 0.25 | F10: 0.25 | G10: 0.25
D11: =$C10*D10 -> 399982.68 | E11: =$C10*E10 -> 399982.68 | F11: =$C10*F10 -> 399982.68 | G11: =$C10*G10 -> 399982.68
A12: 3 | B12: ='Orçamento Sintético GO-210'!C49 -> RECICLAGEM DA BASE COM RECICLADORA E ADIÇÃO DE 20% DE BRITA E 2% DE CIMENTO | C12: ='Orçamento Sintético GO-210'!G49 -> 2152105.4 | D12: 0.25 | E12: 0.25 | F12: 0.25 | G12: 0.25
D13: =$C12*D12 -> 538026.36 | E13: =$C12*E12 -> 538026.36 | F13: =$C12*F12 -> 538026.36 | G13: =$C12*G12 -> 538026.36
A14: 4 | B14: ='Orçamento Sintético GO-210'!C60 -> TRATAMENTO SUPERFICIAL DUPLO - TSD | C14: ='Orçamento Sintético GO-210'!G60 -> 3738063.2 | D14: 0.25 | E14: 0.25 | F14: 0.25 | G14: 0.25
D15: =$C14*D14 -> 934515.79 | E15: =$C14*E14 -> 934515.79 | F15: =$C14*F14 -> 934515.79 | G15: =$C14*G14 -> 934515.79
A16: 5 | B16: ='Orçamento Sintético GO-210'!C69 -> MICRO REVESTIMENTO - 1 CAMADA | C16: ='Orçamento Sintético GO-210'!G69 -> 4907026.3 | D16: 0.25 | E16: 0.25 | F16: 0.25 | G16: 0.25
D17: =$C16*D16 -> 1226756.6 | E17: =$C16*E16 -> 1226756.6 | F17: =$C16*F16 -> 1226756.6 | G17: =$C16*G16 -> 1226756.6
A18: 6 | B18: ='Orçamento Sintético GO-210'!C75 -> MICRO REVESTIMENTO - 2 CAMADA | C18: ='Orçamento Sintético GO-210'!G75 -> 4191602.3 | D18: 0.25 | E18: 0.25 | F18: 0.25 | G18: 0.25
D19: =$C18*D18 -> 1047900.6 | E19: =$C18*E18 -> 1047900.6 | F19: =$C18*F18 -> 1047900.6 | G19: =$C18*G18 -> 1047900.6
A20: 7 | B20: ='Orçamento Sintético GO-210'!C81 -> SINALIZAÇÃO HORIZONTAL | C20: ='Orçamento Sintético GO-210'!G81 -> 1672334.4 | D20: 0.25 | E20: 0.25 | F20: 0.25 | G20: 0.25
D21: =$C20*D20 -> 418083.59 | E21: =$C20*E20 -> 418083.59 | F21: =$C20*F20 -> 418083.59 | G21: =$C20*G20 -> 418083.59
A22: 8 | B22: ='Orçamento Sintético GO-210'!C83 -> ADMINISTRAÇÃO LOCAL | C22: ='Orçamento Sintético GO-210'!G83 -> 587583.86 | D22: 0.25 | E22: 0.25 | F22: 0.25 | G22: 0.25
D23: =$C22*D22 -> 146895.96 | E23: =$C22*E22 -> 146895.96 | F23: =$C22*F22 -> 146895.96 | G23: =$C22*G22 -> 146895.96
A24: 9 | B24: ='Orçamento Sintético GO-210'!C85 -> CANTEIRO DE OBRA | C24: ='Orçamento Sintético GO-210'!G85 -> 484170.38 | D24: 0.25 | E24: 0.25 | F24: 0.25 | G24: 0.25
D25: =$C24*D24 -> 121042.6 | E25: =$C24*E24 -> 121042.6 | F25: =$C24*F24 -> 121042.6 | G25: =$C24*G24 -> 121042.6
A26: 10 | B26: ='Orçamento Sintético GO-210'!C87 -> MOBILIZAÇÃO | C26: ='Orçamento Sintético GO-210'!G87 -> 162855.83 | D26: 0.5 | E26: 0 | F26: 0 | G26: 0.5
D27: =$C26*D26 -> 81427.915 | E27: =$C26*E26 -> 0 | F27: =$C26*F26 -> 0 | G27: =$C26*G26 -> 81427.915
A28: TOTAL | C28: =SUM(C8:C27) -> 20823927
A29: Percentual Parcial %) | D29: =D30/$G$32 -> 0.25195515 | E29: =E30/$G$32 -> 0.24804485 | F29: =F30/$G$32 -> 0.24804485 | G29: =G30/$G$32 -> 0.25195515
A30: Parcial (R$) | D30: =D27+D25+D23+D21+D19+D17+D15+D13+D11+D9 -> 5246695.6 | E30: =E27+E25+E23+E21+E19+E17+E15+E13+E11+E9 -> 5165267.7 | F30: =F27+F25+F23+F21+F19+F17+F15+F13+F11+F9 -> 5165267.7 | G30: =G27+G25+G23+G21+G19+G17+G15+G13+G11+G9 -> 5246695.6
A31: Percentual Acumulado (%) | D31: =D29 -> 0.25195515 | E31: =D31+E29 -> 0.5 | F31: =E31+F29 -> 0.74804485 | G31: =F31+G29 -> 1
A32: Acumulado (R$) | D32: =D30 -> 5246695.6 | E32: =D32+E30 -> 10411963 | F32: =E32+F30 -> 15577231 | G32: =F32+G30 -> 20823927

Sheet Orçamento Sintético GO-301
C1: GOINFRA - Agência Goiana de Infraestrutura e Transportes
C3: Orçamento Sintético
B4: Setor:
B5: Orçamento: | F5: Data Orçamento: 04/07/2024
B6: Descrição: | C6: ELABORAÇÃO DOS ORÇAMENTOS DAS REABILITAÇÕES FUNCIONAIS GO-301
B7: Versão: | C7: =RESUMO!C7 -> ORÇAMENTO REALIZADO NA TABELA DE TERRAPLENAGEM, PAVIMENTAÇÃO E OBRAS DE ARTE ESPECIAIS - ABRIL/24 - SEM DESONERAÇÃO - T247
B8: Trecho:
B9: Nat. Serviço:
B10: Extensão km: | C10: 51.61
B11: ='Orçamento Sintético GO-210'!B11 -> BDI: | C11: ='Orçamento Sintético GO-210'!C11 -> 0.206
F12: Data Base : 01/04/2024
A13: Orçamento Sintético
A14: Item | B14: Código | C14: Descrição | D14: Und | E14: Quant. | F14: Valor Unit | G14: Total
A15: 1 | C15: REPAROS LOCALIZADOS SUPERFICIAIS | E15: 1 | G15: =SUM(G16:G28) -> 709936.21
A16: 1.1 | B16: 40465 | C16: FRESAGEM DESCONTÍNUA À FRIO | D16: m3 | E16: 291.76 | F16: =VLOOKUP(B16,'Table T-247'!A:D,4,0) -> 194.82 | G16: =ROUND(E16 * F16, 2) -> 56840.68
A17: 1.2 | B17: 40430 | C17: TRANSPORTE DE PAVIMENTO REMOVIDO | D17: m3km | E17: 1896.41 | F17: =VLOOKUP(B17,'Table T-247'!A:D,4,0) -> 3.2 | G17: =ROUND(E17 * F17, 2) -> 6068.51
A18: 1.3 | B18: 40385 | C18: PINTURA DE LIGAÇÃO | D18: m2 | E18: 14587.8 | F18: =VLOOKUP(B18,'Table T-247'!A:D,4,0) -> 0.38 | G18: =ROUND(E18 * F18, 2) -> 5543.36
A19: 1.4 | B19: 40510 | C19: FORNECIMENTO DE EMULSÃO RR-1C | D19: T | E19: 7.29 | F19: =VLOOKUP(B19,'Table T-247'!A:D,4,0) -> 3394.06 | G19: =ROUND(E19 * F19, 2) -> 24742.7
A20: 1.5 | B20: 40435 | C20: TRANSPORTE LOCAL DE MATERIAL BETUMINOSO | D20: TKM | E20: 188.22 | F20: =VLOOKUP(B20,'Table T-247'!A:D,4,0) -> 2.74 | G20: =ROUND(E20 * F20, 2) -> 515.72
A21: 1.6 | B21: 40602 | C21: CONCRETO BETUMINOSO USINADO À QUENTE - CBUQ | D21: m3 | E21: 291.76 | F21: =VLOOKUP(B21,'Table T-247'!A:D,4,0) -> 482.07 | G21: =ROUND(E21 * F21, 2) -> 140648.74
A22: 1.7 | B22: 40455 | C22: TRANSPORTE COMERCIAL DE AGREGADOS - (AREIA) | D22: m3km | E22: 873.87 | F22: =VLOOKUP(B22,'Table T-247'!A:D,4,0) -> 1.38 | G22: =ROUND(E22 * F22, 2) -> 1205.94
A23: 1.8 | B23: 40455 | C23: TRANSPORTE COMERCIAL DE AGREGADOS - (BRITA) | D23: m3km | E23: 3382.04 | F23: =VLOOKUP(B23,'Table T-247'!A:D,4,0) -> 1.38 | G23: =ROUND(E23 * F23, 2) -> 4667.22
A24: 1.9 | B24: 40450 | C24: TRANSPORTE COMERCIAL DE CIMENTO / CAL / FILLER | D24: TKM | E24: 19.61 | F24: =VLOOKUP(B24,'Table T-247'!A:D,4,0) -> 0.75 | G24: =ROUND(E24 * F24, 2) -> 14.71
A25: 1.10 | B25: 40530 | C25: TRANSPORTE COMERCIAL DE MATERIAL BETUMINOSO (DT=349,00 KM) | D25: tkm | E25: 17209.19 | F25: =VLOOKUP(B25,'Table T-247'!A:D,4,0) -> 1.83 | G25: =ROUND(E25 * F25, 2) -> 31492.82
A26: 1.11 | B26: 40440 | C26: TRANSPORTE LOCAL DE MASSA ASFÁLTICA | D26: TKM | E26: 18069.03 | F26: =VLOOKUP(B26,'Table T-247'!A:D,4,0) -> 1.53 | G26: =ROUND(E26 * F26, 2) -> 27645.62
A27: 1.12 | B27: 40460 | C27: TRANSPORTE COMERCIAL DE MASSA | D27: TKM | E27: 244374.83 | F27: =VLOOKUP(B27,'Table T-247'!A:D,4,0) -> 0.91 | G27: =ROUND(E27 * F27, 2) -> 222381.1
A28: 1.13 | B28: 40525 | C28: FORNECIMENTO DE CAP-50/70 | D28: T | E28: 42.01 | F28: =VLOOKUP(B28,'Table T-247'!A:D,4,0) -> 4479.15 | G28: =ROUND(E28 * F28, 2) -> 188169.09
A29: 2 | C29: REPAROS LOCALIZADOS PROFUNDOS | E29: 1 | G29: =SUM(G30:G48) -> 1186972.3
A30: 2.1 | B30: 40423 | C30: ESCARIFICAÇÃO DE PAVIMENTO ASFÁLTICO | D30: m3 | E30: 714.26 | F30: =VLOOKUP(B30,'Table T-247'!A:D,4,0) -> 5.35 | G30: =ROUND(E30 * F30, 2) -> 3821.29
A31: 2.2 | B31: 40430 | C31: TRANSPORTE DE PAVIMENTO REMOVIDO | D31: m3km | E31: 4642.7 | F31: =VLOOKUP(B31,'Table T-247'!A:D,4,0) -> 3.2 | G31: =ROUND(E31 * F31, 2) -> 14856.64
A32: 2.3 | B32: 40375 | C32: ESTABILIZAÇÃO SOLO-CIMENTO 3% PESO - PISTA | D32: m3 | E32: 476.17 | F32: =VLOOKUP(B32,'Table T-247'!A:D,4,0) -> 71.87 | G32: =ROUND(E32 * F32, 2) -> 34222.34
A33: 2.4 | B33: 40317 | C33: FORNECIMENTO DE MATERIAL DE JAZIDA (CASCALHO) | D33: m3 | E33: 619.03 | F33: =VLOOKUP(B33,'Table T-247'!A:D,4,0) -> 22.56 | G33: =ROUND(E33 * F33, 2) -> 13965.32
A34: 2.5 | B34: 40320 | C34: TRANSPORTE DE MATERIAL DE JAZIDA (CASCALHO) | D34: m3km | E34: 196231.31 | F34: =VLOOKUP(B34,'Table T-247'!A:D,4,0) -> 2.83 | G34: =ROUND(E34 * F34, 2) -> 555334.61
A35: 2.6 | B35: 40450 | C35: TRANSPORTE COMERCIAL DE CIMENTO / CAL / FILLER | D35: TKM | E35: 10383.64 | F35: =VLOOKUP(B35,'Table T-247'!A:D,4,0) -> 0.75 | G35: =ROUND(E35 * F35, 2) -> 7787.73
A36: 2.7 | B36: 40449 | C36: TRANSPORTE LOCAL DE CIMENTO / CAL / FILLER | D36: tkm | E36: 761.22 | F36: =VLOOKUP(B36,'Table T-247'!A:D,4,0) -> 1.47 | G36: =ROUND(E36 * F36, 2) -> 1118.99
A37: 2.8 | B37: 40380 | C37: IMPRIMAÇÃO | D37: m2 | E37: 4761.74 | F37: =VLOOKUP(B37,'Table T-247'!A:D,4,0) -> 0.47 | G37: =ROUND(E37 * F37, 2) -> 2238.02
A38: 2.9 | B38: 40480 | C38: FORNECIMENTO DE CM-30 | D38: T | E38: 5.71 | F38: =VLOOKUP(B38,'Table T-247'!A:D,4,0) -> 6920.01 | G38: =ROUND(E38 * F38, 2) -> 39513.26
A39: 2.10 | B39: 40385 | C39: PINTURA DE LIGAÇÃO | D39: m2 | E39: 4761.74 | F39: =VLOOKUP(B39,'Table T-247'!A:D,4,0) -> 0.38 | G39: =ROUND(E39 * F39, 2) -> 1809.46
A40: 2.11 | B40: 40510 | C40: FORNECIMENTO DE EMULSÃO RR-1C | D40: T | E40: 2.38 | F40: =VLOOKUP(B40,'Table T-247'!A:D,4,0) -> 3394.06 | G40: =ROUND(E40 * F40, 2) -> 8077.86
A41: 2.12 | B41: 40602 | C41: CONCRETO BETUMINOSO USINADO À QUENTE - CBUQ | D41: m3 | E41: 238.09 | F41: =VLOOKUP(B41,'Table T-247'!A:D,4,0) -> 482.07 | G41: =ROUND(E41 * F41, 2) -> 114776.05
...

Sheet MOBI GO-301
A1: Mobilização / Desmobilização | F1: GO-301
A2: Equipamento | C2: Mobilizador | D2: FU (A) | E2: Hora Produtiva (B) | F2: DT* (C) | G2: Custo (D=AxB/60) | H2: Quantidade (E) | I2: Total (CxDxE)
A3: Autopropelidos
A4: 30050 | B4: CAMINHÃO APLICADOR DE MATERIAL TERMOPLÁSTICO | C4: 30050 | D4: 1 | E4: 481.68 | F4: 349 | G4: 8.02 | I4: =TRUNC(F4*G4*H4) -> 0
A5: 30037 | B5: CAMINHÃO BASCULANTE 10 M3 - 15 T | C5: 30037 | D5: 1 | E5: 287.75 | F5: 349 | G5: 4.79 | H5: 21 | I5: =TRUNC(F5*G5*H5) -> 35105
A6: 30036 | B6: CAMINHÃO BASCULANTE 6 M3 - 10,5 T | C6: 30036 | D6: 1 | E6: 170.75 | F6: 349 | G6: 2.84 | I6: =TRUNC(F6*G6*H6) -> 0
A7: 30035 | B7: CAMINHÃO CARROCERIA MADEIRA - 15 T | C7: 30035 | D7: 1 | E7: 239.55 | F7: 349 | G7: 3.99 | H7: 2 | I7: =TRUNC(F7*G7*H7) -> 2785
A8: 30125 | B8: CAMINHÃO COM BATE ESTACAS HIDRÁULICO PARA DEFENSA | C8: 30125 | D8: 1 | E8: 274.4 | F8: 349 | G8: 4.57 | I8: =TRUNC(F8*G8*H8) -> 0
A9: 30110 | B9: CAMINHÃO COM DOLLY - 57 t | C9: 30110 | D9: 1 | E9: 475.75 | F9: 349 | G9: 7.92 | I9: =TRUNC(F9*G9*H9) -> 0
A10: 30120 | B10: CAMINHÃO DISTRIBUIDOR DE CIMENTO | C10: 30120 | D10: 1 | E10: 418.35 | F10: 349 | G10: 6.97 | H10: 1 | I10: =TRUNC(F10*G10*H10) -> 2432
A11: 31062 | B11: CAMINHÃO MUNCK (GUINDAUTO) | C11: 31062 | D11: 1 | E11: 237.87 | F11: 349 | G11: 3.96 | I11: =TRUNC(F11*G11*H11) -> 0
A12: 30053 | B12: CAMINHÃO PARA HIDROSSEMEADURA | C12: 30053 | D12: 1 | E12: 288.11 | F12: 349 | G12: 4.8 | I12: =TRUNC(F12*G12*H12) -> 0
A13: 30049 | B13: CAMINHÃO PARA PINTURA A FRIO COM DEMARCADOR DE FAIXAS | C13: 30049 | D13: 1 | E13: 305.27 | F13: 349 | G13: 5.08 | H13: 1 | I13: =TRUNC(F13*G13*H13) -> 1772
A14: 30040 | B14: CAMINHÃO TANQUE 10.000L | C14: 30040 | D14: 1 | E14: 285.4 | F14: 349 | G14: 4.75 | H14: 1 | I14: =TRUNC(F14*G14*H14) -> 1657
A15: 30039 | B15: CAMINHÃO TANQUE 6.000L | C15: 30039 | D15: 1 | E15: 216.01 | F15: 349 | G15: 3.6 | I15: =TRUNC(F15*G15*H15) -> 0
A16: 30021 | B16: CAMINHÃO TANQUE DISTRIBUIDOR DE ASFALTO | C16: 30021 | D16: 1 | E16: 227.85 | F16: 349 | G16: 3.79 | H16: 6 | I16: =TRUNC(F16*G16*H16) -> 7936
A17: 30030 | B17: USINA MÓVEL PARA MICRO REVESTIMENTO | C17: 30030 | D17: 1 | E17: 627.06 | F17: 349 | G17: 10.45 | H17: 1 | I17: =TRUNC(F17*G17*H17) -> 3647
A18: Rebocados
A19: 30010 | B19: CARREGADEIRA DE PNEUS CAT - 924 H OU EQUIVALENTE | C19: 30105 | D19: 0.5 | E19: 365.15 | F19: 349 | G19: 3.04 | H19: 1 | I19: =TRUNC(F19*G19*H19) -> 1060
A20: 30007 | B20: CARREGADEIRA DE PNEUS CAT - 950 H OU EQUIVALENTE | C20: 30105 | D20: 0.5 | E20: 365.15 | F20: 349 | G20: 3.04 | I20: =TRUNC(F20*G20*H20) -> 0
A21: 30011 | B21: ESCAVADEIRA HIDRÁULICA - 320DL OU EQUIVALENTE | C21: 30105 | D21: 1 | E21: 365.15 | F21: 349 | G21: 6.08 | H21: 1 | I21: =TRUNC(F21*G21*H21) -> 2121
A22: 30057 | B22: ESCAVADEIRA HIDRÁULICA - CAT 323DL OU EQUIVALENTE | C22: 30105 | D22: 1 | E22: 365.15 | F22: 349 | G22: 6.08 | I22: =TRUNC(F22*G22*H22) -> 0
A23: 30019 | B23: FRESADORA A FRIO - W 200 F OU EQUIVALENTE | C23: 30105 | D23: 1 | E23: 365.15 | F23: 349 | G23: 6.08 | H23: 1 | I23: =TRUNC(F23*G23*H23) -> 2121
A24: 30158 | B24: MINI-CARREGADEIRA DE PNEUS COM FRESADORA | C24: 30105 | D24: 0.33 | E24: 365.15 | F24: 349 | G24: 2 | I24: =TRUNC(F24*G24*H24) -> 0
A25: 30058 | B25: MINI-CARREGADEIRA DE PNEUS COM VASSOURA DE 1,8 m | C25: 30105 | D25: 0.33 | E25: 365.15 | F25: 349 | G25: 2 | H25: 1 | I25: =TRUNC(F25*G25*H25) -> 698
A26: 30046 | B26: MOTONIVELADORA - CAT 120K OU EQUIVALENTE | C26: 30105 | D26: 1 | E26: 365.15 | F26: 349 | G26: 6.08 | H26: 1 | I26: =TRUNC(F26*G26*H26) -> 2121
A27: 30170 | B27: PERFURATRIZ HIDRÁULICA SOBRE ESTEIRAS PARA ESTACA RAIZ | C27: 30105 | D27: 1 | E27: 365.15 | F27: 349 | G27: 6.08 | I27: =TRUNC(F27*G27*H27) -> 0
A28: 30029 | B28: PERFURATRIZ SOBRE ESTEIRAS - CRAWLER DRILL OU EQUIVALENTE | C28: 30105 | D28: 0.5 | E28: 365.15 | F28: 349 | G28: 3.04 | I28: =TRUNC(F28*G28*H28) -> 0
A29: 30101 | B29: RECICLADORA DE PAVIMENTO À FRIO - CATERPILLAR RM-500 OU EQUIVALENTE | C29: 30105 | D29: 1 | E29: 365.15 | F29: 349 | G29: 6.08 | H29: 1 | I29: =TRUNC(F29*G29*H29) -> 2121
A30: 30008 | B30: RETRO ESCAVADEIRA DE PNEUS - CATERPILLAR 416E OU EQUIVALENTE | C30: 30105 | D30: 0.5 | E30: 365.15 | F30: 349 | G30: 3.04 | I30: =TRUNC(F30*G30*H30) -> 0
A31: 30015 | B31: ROLO COMPACTADOR DE PNEUS AUTOPROPELIDO - 27 T | C31: 30105 | D31: 0.5 | E31: 365.15 | F31: 349 | G31: 3.04 | H31: 1 | I31: =TRUNC(F31*G31*H31) -> 1060
A32: 30012 | B32: ROLO LISO TANDEN - 6/8 T - CA-150 OU EQUIVALENTE | C32: 30105 | D32: 0.5 | E32: 365.15 | F32: 349 | G32: 3.04 | H32: 1 | I32: =TRUNC(F32*G32*H32) -> 1060
A33: 30014 | B33: ROLO LISO VIBRATÓRIO AUTOPROPELIDO - CS533 E OU EQUIVALENTE | C33: 30105 | D33: 0.5 | E33: 365.15 | F33: 349 | G33: 3.04 | H33: 1 | I33: =TRUNC(F33*G33*H33) -> 1060
A34: 30009 | B34: ROLO PÉ DE CARNEIRO AUTOPROPELIDO - CA 250 OU EQUIVALENTE | C34: 30105 | D34: 0.5 | E34: 365.15 | F34: 349 | G34: 3.04 | H34: 1 | I34: =TRUNC(F34*G34*H34) -> 1060
A35: 30020 | B35: TANQUE DE ESTOCAGEM ASFALTO (30.000L) | C35: 30105 | D35: 1 | E35: 365.15 | F35: 349 | G35: 6.08 | H35: 3 | I35: =TRUNC(F35*G35*H35) -> 6365
A36: 30005 | B36: TRATOR DE PNEUS AGRÍCOLA - MF 4292 OU EQUIVALENTE | C36: 30105 | D36: 0.5 | E36: 365.15 | F36: 349 | G36: 3.04 | H36: 2 | I36: =TRUNC(F36*G36*H36) -> 2121
A37: 30006 | B37: TRATOR DE PNEUS COM ROÇADEIRA | C37: 30105 | D37: 0.5 | E37: 365.15 | F37: 349 | G37: 3.04 | I37: =TRUNC(F37*G37*H37) -> 0
A38: 30001 | B38: TRATOR ESTEIRAS COM LÂMINA - CAT D8 OU EQUIVALENTE | C38: 30105 | D38: 1 | E38: 365.15 | F38: 349 | G38: 6.08 | I38: =TRUNC(F38*G38*H38) -> 0
A39: 30002 | B39: TRATOR ESTEIRAS COM ESCARIFICADOR - CAT D8 OU EQUIVALENTE | C39: 30105 | D39: 1 | E39: 365.15 | F39: 349 | G39: 6.08 | I39: =TRUNC(F39*G39*H39) -> 0
A40: 30059 | B40: TRATOR ESTEIRAS COM LAMINA - CAT D4 OU EQUIVALENTE | C40: 30105 | D40: 0.5 | E40: 365.15 | F40: 349 | G40: 3.04 | I40: =TRUNC(F40*G40*H40) -> 0
...

Sheet CRONOGRAMA GO-301
D1: ='Orçamento Sintético GO-301'!C6 -> ELABORAÇÃO DOS ORÇAMENTOS DAS REABILITAÇÕES FUNCIONAIS GO-301
B3: GOINFRA - Agência Goiana de Infraestrutura e Transportes
B5: CRONOGRAMA FÍSICO - FINANCEIRO
A6: ITEM | B6: ATIVIDADES | C6: VALOR ETAPA | D6: MÊS
D7: 1º MÊS | E7: 2º MÊS | F7: 3º MÊS | G7: 4º MÊS
A8: 1 | B8: ='Orçamento Sintético GO-301'!C15 -> REPAROS LOCALIZADOS SUPERFICIAIS | C8: ='Orçamento Sintético GO-301'!G15 -> 709936.21 | D8: 0.25 | E8: 0.25 | F8: 0.25 | G8: 0.25
D9: =$C$8*D8 -> 177484.05 | E9: =$C$8*E8 -> 177484.05 | F9: =$C$8*F8 -> 177484.05 | G9: =$C$8*G8 -> 177484.05
A10: 2 | B10: ='Orçamento Sintético GO-301'!C29 -> REPAROS LOCALIZADOS PROFUNDOS | C10: ='Orçamento Sintético GO-301'!G29 -> 1186972.3 | D10: 0.25 | E10: 0.25 | F10: 0.25 | G10: 0.25
D11: =$C10*D10 -> 296743.08 | E11: =$C10*E10 -> 296743.08 | F11: =$C10*F10 -> 296743.08 | G11: =$C10*G10 -> 296743.08
A12: 3 | B12: ='Orçamento Sintético GO-301'!C49 -> RECICLAGEM DA BASE COM RECICLADORA E ADIÇÃO DE 20% DE BRITA E 2% DE CIMENTO | C12: ='Orçamento Sintético GO-301'!G49 -> 1536736.4 | D12: 0.25 | E12: 0.25 | F12: 0.25 | G12: 0.25
D13: =$C12*D12 -> 384184.1 | E13: =$C12*E12 -> 384184.1 | F13: =$C12*F12 -> 384184.1 | G13: =$C12*G12 -> 384184.1
A14: 4 | B14: ='Orçamento Sintético GO-301'!C60 -> TRATAMENTO SUPERFICIAL DUPLO - TSD | C14: ='Orçamento Sintético GO-301'!G60 -> 4479046.5 | D14: 0.25 | E14: 0.25 | F14: 0.25 | G14: 0.25
D15: =$C14*D14 -> 1119761.6 | E15: =$C14*E14 -> 1119761.6 | F15: =$C14*F14 -> 1119761.6 | G15: =$C14*G14 -> 1119761.6
A16: 5 | B16: ='Orçamento Sintético GO-301'!C69 -> MICRO REVESTIMENTO - 1 CAMADA | C16: ='Orçamento Sintético GO-301'!G69 -> 5688289.9 | D16: 0.25 | E16: 0.25 | F16: 0.25 | G16: 0.25
D17: =$C16*D16 -> 1422072.5 | E17: =$C16*E16 -> 1422072.5 | F17: =$C16*F16 -> 1422072.5 | G17: =$C16*G16 -> 1422072.5
A18: 6 | B18: ='Orçamento Sintético GO-301'!C75 -> MICRO REVESTIMENTO - 2 CAMADA | C18: ='Orçamento Sintético GO-301'!G75 -> 4858823.3 | D18: 0.25 | E18: 0.25 | F18: 0.25 | G18: 0.25
D19: =$C18*D18 -> 1214705.8 | E19: =$C18*E18 -> 1214705.8 | F19: =$C18*F18 -> 1214705.8 | G19: =$C18*G18 -> 1214705.8
A20: 7 | B20: ='Orçamento Sintético GO-301'!C81 -> SINALIZAÇÃO HORIZONTAL | C20: ='Orçamento Sintético GO-301'!G81 -> 1672334.4 | D20: 0.25 | E20: 0.25 | F20: 0.25 | G20: 0.25
D21: =$C20*D20 -> 418083.59 | E21: =$C20*E20 -> 418083.59 | F21: =$C20*F20 -> 418083.59 | G21: =$C20*G20 -> 418083.59
A22: 8 | B22: ='Orçamento Sintético GO-301'!C83 -> ADMINISTRAÇÃO LOCAL | C22: ='Orçamento Sintético GO-301'!G83 -> 587583.86 | D22: 0.25 | E22: 0.25 | F22: 0.25 | G22: 0.25
D23: =$C22*D22 -> 146895.96 | E23: =$C22*E22 -> 146895.96 | F23: =$C22*F22 -> 146895.96 | G23: =$C22*G22 -> 146895.96
A24: 9 | B24: ='Orçamento Sintético GO-301'!C85 -> CANTEIRO DE OBRA | C24: ='Orçamento Sintético GO-301'!G85 -> 484170.38 | D24: 0.25 | E24: 0.25 | F24: 0.25 | G24: 0.25
D25: =$C24*D24 -> 121042.6 | E25: =$C24*E24 -> 121042.6 | F25: =$C24*F24 -> 121042.6 | G25: =$C24*G24 -> 121042.6
A26: 10 | B26: ='Orçamento Sintético GO-301'!C87 -> MOBILIZAÇÃO | C26: ='Orçamento Sintético GO-301'!G87 -> 210914.93 | D26: 0.5 | E26: 0 | F26: 0 | G26: 0.5
D27: =$C26*D26 -> 105457.46 | E27: =$C26*E26 -> 0 | F27: =$C26*F26 -> 0 | G27: =$C26*G26 -> 105457.46
A28: TOTAL | C28: =SUM(C8:C27) -> 21414808
A29: Percentual Parcial %) | D29: =D30/$G$32 -> 0.25246226 | E29: =E30/$G$32 -> 0.24753774 | F29: =F30/$G$32 -> 0.24753774 | G29: =G30/$G$32 -> 0.25246226
A30: Parcial (R$) | D30: =D27+D25+D23+D21+D19+D17+D15+D13+D11+D9 -> 5406430.8 | E30: =E27+E25+E23+E21+E19+E17+E15+E13+E11+E9 -> 5300973.3 | F30: =F27+F25+F23+F21+F19+F17+F15+F13+F11+F9 -> 5300973.3 | G30: =G27+G25+G23+G21+G19+G17+G15+G13+G11+G9 -> 5406430.8
A31: Percentual Acumulado (%) | D31: =D29 -> 0.25246226 | E31: =D31+E29 -> 0.5 | F31: =E31+F29 -> 0.74753774 | G31: =F31+G29 -> 1
A32: Acumulado (R$) | D32: =D30 -> 5406430.8 | E32: =D32+E30 -> 10707404 | F32: =E32+F30 -> 16008377 | G32: =F32+G30 -> 21414808

Sheet Table T-247
A1: Tabela de
A2: Preços:
A3: TABELA DE TERRAPLENAGEM, PAVIMENTAÇÃO E OBRAS DE ARTE
A4: ESPECIAIS - ABR/24 - SEM DESONERAÇÃO - T247
A5: Data Base: 01/04/2024
A6: Valores com BDI - BDI: 20,60%
A7: Código Auxiliar | B7: Serviço | C7: Unidade | D7: Preço Unitário
A8: 100001 | B8: TERRAPLENAGEM
A9: 40001 | B9: DESMATAMENTO E LIMPEZA - INCLUSO DESTOCAMENTO DE ÁRVORES COM DIÂMETROS MENORES DE 15 cm | C9: m2 | D9: 0.6
A10: 40003 | B10: DESTOCAMENTO DE ÁRVORES COM DIÂMETRO DE 15 A 30 cm | C10: un | D10: 45.04
A11: 40004 | B11: DESTOCAMENTO DE ÁRVORES COM DIÂMETRO MAIOR QUE 30 cm | C11: un | D11: 112.61
A12: 40005 | B12: CARGA DE ENTULHOS | C12: m3 | D12: 2.87
A13: 40006 | B13: TRANSPORTE DE ENTULHOS | C13: m3km | D13: 2.56
A14: 40010 | B14: ESCAVAÇÃO, CARGA E TRANSPORTE DE MATERIAL DE 1ª CATEGORIA ATÉ 50M | C14: m3 | D14: 3.3
A15: 40011 | B15: ESCAVAÇÃO, CARGA E TRANSPORTE DE MATERIAL DE 2ª CATEGORIA ATÉ 50M | C15: m3 | D15: 7.62
A16: 40012 | B16: ESCAVAÇÃO, CARGA E TRANSPORTE DE MATERIAL DE 3ª CATEGORIA ATÉ 50M | C16: m3 | D16: 38.6
A17: 40015 | B17: ESCAV., CARGA E TRANSPORTE DE MAT. 1ª CATEG. - C/ ESCAVADEIRA - (DT: 51 A 200M) | C17: m3 | D17: 8
A18: 40016 | B18: ESCAV., CARGA E TRANSPORTE DE MAT. 1ª CATEG. - C/ ESCAVADEIRA - (DT: 201 A 400M) | C18: m3 | D18: 9.26
A19: 40017 | B19: ESCAV., CARGA E TRANSPORTE DE MAT. 1ª CATEG. - C/ ESCAVADEIRA - (DT: 401 A 600M) | C19: m3 | D19: 9.81
A20: 40018 | B20: ESCAV., CARGA E TRANSPORTE DE MAT. 1ª CATEG. - C/ ESCAVADEIRA - (DT: 601 A 800M) | C20: m3 | D20: 11.02
... A40: 40040 | B40: ESCAV., CARGA E TRANSPORTE DE MAT. 2ª CATEG. - C/ ESCAVADEIRA - (DT: 2.001 A 3 .000M) | C40: m3 | D40: 22.55
A41: SCO - Sistema de Custos e Orçamentos Página: 1 de 11
A42: Código Auxiliar | B42: Serviço | C42: Unidade | D42: Preço Unitário
A43: 40041 | B43: ESCAV., CARGA E TRANSPORTE DE MAT. 2ª CATEG. - C/ ESCAVADEIRA - (DT: 3.001 A 5 .000M) | C43: m3 | D43: 30.12
A44: 40042 | B44: ESCAV., CARGA E TRANSPORTE DE MAT. 2ª CATEG. - C/ ESCAVADEIRA - (DT: 5.001 A 10.000M) | C44: m3 | D44: 42.1
A45: 40045 | B45: ESCAV., CARGA E TRANSP. 1ª CATEG. C/ CARREGADEIRA P/ PEQUENOS MOVIMENTOS DE TERRA - (DT: 51 A 200M) | C45: m3 | D45: 12.84
A46: 40046 | B46: ESCAV., CARGA E TRANSP. 1ª CATEG. C/ CARREGADEIRA P/ PEQUENOS MOVIMENTOS DE TERRA - (DT: 201 A 400M) | C46: m3 | D46: 13.68
A47: 40047 | B47: ESCAV., CARGA E TRANSP. 1ª CATEG. C/ CARREGADEIRA P/ PEQUENOS MOVIMENTOS DE TERRA - (DT: 401 A 600M) | C47: m3 | D47: 14.62
A48: 40048 | B48: ESCAV., CARGA E TRANSP. 1ª CATEG. C/ CARREGADEIRA P/ PEQUENOS MOVIMENTOS DE TERRA - (DT: 601 A 800M) | C48: m3 | D48: 15.4
A49: 40049 | B49: ESCAV., CARGA E TRANSP. 1ª CATEG. C/ CARREGADEIRA P/ PEQUENOS MOVIMENTOS DE TERRA - (DT: 801 A 1.000M) | C49: m3 | D49: 16.41
A50: 40050 | B50: ESCAV., CARGA E TRANSP. 1ª CATEG. C/ CARREGADEIRA P/ PEQUENOS MOVIMENTOS DE TERRA - (DT: 1.001 A 1.200M) | C50: m3 | D50: 17.02
A51: 40051 | B51: ESCAV., CARGA E TRANSP. 1ª CATEG. C/ CARREGADEIRA P/ PEQUENOS MOVIMENTOS DE TERRA - (DT: 1.201 A 1.400M) | C51: m3 | D51: 17.94
A52: 40052 | B52: ESCAV., CARGA E TRANSP. 1ª CATEG. C/ CARREGADEIRA P/ PEQUENOS MOVIMENTOS DE TERRA - (DT: 1.401 A 1.600M) | C52: m3 | D52: 18.39
A53: 40053 | B53: ESCAV., CARGA E TRANSP. 1ª CATEG. C/ CARREGADEIRA P/ PEQUENOS MOVIMENTOS DE TERRA - (DT: 1.601 A 1.800M) | C53: m3 | D53: 18.76
A54: 40054 | B54: ESCAV., CARGA E TRANSP. 1ª CATEG. C/ CARREGADEIRA P/ PEQUENOS MOVIMENTOS DE TERRA - (DT: 1.801 A 2.000M) | C54: m3 | D54: 19.89
... A77: 40081 | B77: ESCAV., CARGA E TRANSP. 3ª CATEG. C/ CARREGADEIRA - (DT: 1.201 A 1.400M) | C77: m3 | D77: 60.17
A78: SCO - Sistema de Custos e Orçamentos Página: 2 de 11
A79: Código Auxiliar | B79: Serviço | C79: Unidade | D79: Preço Unitário
A80: 40082 | B80: ESCAV., CARGA E TRANSP. 3ª CATEG. C/ CARREGADEIRA - (DT: 1.401 A 1.600M) | C80: m3 | D80: 60.78
A81: 40083 | B81: ESCAV., CARGA E TRANSP. 3ª CATEG. C/ CARREGADEIRA - (DT: 1.601 A 1.800M) | C81: m3 | D81: 62.85
...
