Workbook
Name Excel_BuiltIn_Print_Area: #REF!
Name Excel_BuiltIn_Print_Area: #REF!
Name Excel_BuiltIn_Print_Area: #REF!
Name Excel_BuiltIn_Print_Area: #REF!
Name Excel_BuiltIn_Print_Area: 'CRONOGRAMA CONSOLIDADO'!$A$4:$F$25
Name Excel_BuiltIn_Print_Area: #REF!
Name Excel_BuiltIn_Print_Area: #REF!
Name Excel_BuiltIn_Print_Area: #REF!
Name Excel_BuiltIn_Print_Area: #REF!
Name Excel_BuiltIn_Print_Area: #REF!
Name Excel_BuiltIn_Print_Area: #REF!
Name Excel_BuiltIn_Print_Area: #REF!
Name Excel_BuiltIn_Print_Area: #REF!
Name Excel_BuiltIn_Print_Area: #REF!
Name Excel_BuiltIn_Print_Area: #REF!
Name Excel_BuiltIn_Print_Titles_1: #REF!
Name Excel_BuiltIn_Print_Titles_1: #REF!
Name Excel_BuiltIn_Print_Titles_1: #REF!
Name Excel_BuiltIn_Print_Titles_1: #REF!
Name Excel_BuiltIn_Print_Titles_1: #REF!
Name Excel_BuiltIn_Print_Titles_1: #REF!
Name Excel_BuiltIn_Print_Titles_1: #REF!
Name Excel_BuiltIn_Print_Titles_1: #REF!
Name Excel_BuiltIn_Print_Titles_1: #REF!
Name Excel_BuiltIn_Print_Titles_1: #REF!
Name Excel_BuiltIn_Print_Titles_1: #REF!
Name Excel_BuiltIn_Print_Titles_1: #REF!
Name Excel_BuiltIn_Print_Titles_1: #REF!
Name Excel_BuiltIn_Print_Titles_1: #REF!
Name Excel_BuiltIn_Print_Titles_1: #REF!
Name Excel_BuiltIn_Print_Titles_2: #REF!
Name Excel_BuiltIn_Print_Titles_2: #REF!
Name Excel_BuiltIn_Print_Titles_2: #REF!
Name Excel_BuiltIn_Print_Titles_2: #REF!
Name Excel_BuiltIn_Print_Titles_2_1: #REF!
Name Excel_BuiltIn_Print_Titles_2_1: #REF!
Name Excel_BuiltIn_Print_Titles_2_1: #REF!
Name Excel_BuiltIn_Print_Titles_2_1: #REF!

Sheet BD
C2: Obra | D2: Bancos | E2: B.D.I. | F2: B.D.I.
C3: COE 028/2024 - GOINFRA | D3: GOINFRA | E3: 1.1109 | F3: 1.0753
C4: =C3 -> COE 028/2024 - GOINFRA | D4: GOINFRA | E4: 0.1109 | F4: 0.0753

Sheet ORÇAMENTO CONSOLIDADO
B1: ORÇAMENTO LOTE 67 - PROGRAMA GOIÁS EM MOVIMENTO - EIXO MUNICÍPIOS 2024
A8: MUNICÍPIO | B8: DISCRIMINAÇÃO | C8: PREÇO | D8: PREÇO/M2
A9: CACHOEIRA ALTA | B9: ='ORÇ CACHOEIRA'!A67 -> PAVIMENTAÇÃO | C9: ='ORÇ CACHOEIRA'!S67 -> 502414.47 | D9: ='ORÇ CACHOEIRA'!Y67 -> 20.65
B10: ='ORÇ CACHOEIRA'!A69 -> SERVIÇOS COMPLEMENTARES | C10: ='ORÇ CACHOEIRA'!S69 -> 25578.39 | D10: ='ORÇ CACHOEIRA'!Y69 -> 1.05
B11: ='ORÇ CACHOEIRA'!A71 -> MOBILIZAÇÃO E INSTALAÇÃO DE CANTEIRO | C11: ='ORÇ CACHOEIRA'!S71 -> 127902.87 | D11: ='ORÇ CACHOEIRA'!Y71 -> 5.25
B12: TOTAL GERAL | C12: ='ORÇ CACHOEIRA'!S73 -> 655895.73 | D12: ='ORÇ CACHOEIRA'!Y73 -> 26.95
A14: PARANAIGUARA | B14: ='ORÇ PARANAIGUARA'!A58 -> PAVIMENTAÇÃO | C14: ='ORÇ PARANAIGUARA'!S58 -> 509403.64 | D14: ='ORÇ PARANAIGUARA'!Y58 -> 20.96
B15: ='ORÇ PARANAIGUARA'!A60 -> MOBILIZAÇÃO E INSTALAÇÃO DE CANTEIRO | C15: ='ORÇ PARANAIGUARA'!S60 -> 123667.64 | D15: ='ORÇ PARANAIGUARA'!Y60 -> 5.08
B16: TOTAL GERAL | C16: ='ORÇ PARANAIGUARA'!S62 -> 633071.28 | D16: ='ORÇ PARANAIGUARA'!Y62 -> 26.04
A18: PEROLÂNDIA | B18: ='ORÇ PEROLANDIA'!A59 -> PAVIMENTAÇÃO | C18: ='ORÇ PEROLANDIA'!S59 -> 525186.95 | D18: ='ORÇ PEROLANDIA'!Y59 -> 20.43
B19: ='ORÇ PEROLANDIA'!A61 -> MOBILIZAÇÃO E INSTALAÇÃO DE CANTEIRO | C19: ='ORÇ PEROLANDIA'!S61 -> 127165.96 | D19: ='ORÇ PEROLANDIA'!Y61 -> 4.94
B20: TOTAL GERAL | C20: ='ORÇ PEROLANDIA'!S63 -> 652352.91 | D20: ='ORÇ PEROLANDIA'!Y63 -> 25.37
A22: SANTA RITA DO ARAGUAIA | B22: ='ORÇ STA R ARAGUAIA'!A67 -> PAVIMENTAÇÃO | C22: =VLOOKUP(B22,'ORÇ STA R ARAGUAIA'!$A$63:$AA$80,19,FALSE) -> 504066.16 | D22: =VLOOKUP(B22,'ORÇ STA R ARAGUAIA'!$A$63:$AA$80,25,FALSE) -> 21.09
B23: ='ORÇ STA R ARAGUAIA'!A69 -> SERVIÇOS COMPLEMENTARES | C23: =VLOOKUP(B23,'ORÇ STA R ARAGUAIA'!$A$63:$AA$80,19,FALSE) -> 33731.82 | D23: =VLOOKUP(B23,'ORÇ STA R ARAGUAIA'!$A$63:$AA$80,25,FALSE) -> 1.41
B24: ='ORÇ STA R ARAGUAIA'!A71 -> MOBILIZAÇÃO E INSTALAÇÃO DE CANTEIRO | C24: =VLOOKUP(B24,'ORÇ STA R ARAGUAIA'!$A$63:$AA$80,19,FALSE) -> 153872.03 | D24: =VLOOKUP(B24,'ORÇ STA R ARAGUAIA'!$A$63:$AA$80,25,FALSE) -> 6.44
B25: TOTAL GERAL | C25: =VLOOKUP(B25,'ORÇ STA R ARAGUAIA'!$A$63:$AA$80,19,FALSE) -> 691670.01 | D25: =VLOOKUP(B25,'ORÇ STA R ARAGUAIA'!$A$63:$AA$80,25,FALSE) -> 28.94
C28: TOTAL GERAL | D28: =C12+C16+C20+C25 -> 2632989.9
B30: ORÇAMENTO CONSOLIDADO LOTE 67
B31: ITEM | C31: SERVIÇOS | D31: TOTAL
B32: 1 | C32: =A9 -> CACHOEIRA ALTA | D32: =C12 -> 655895.73
D33: =D32/D28 -> 0.24910681
B34: 2 | C34: =A14 -> PARANAIGUARA | D34: =C16 -> 633071.28
D35: =D34/D28 -> 0.24043817
B36: 3 | C36: =A18 -> PEROLÂNDIA | D36: =C20 -> 652352.91
D37: =D36/D28 -> 0.24776126
B38: 4 | C38: =A22 -> SANTA RITA DO ARAGUAIA | D38: =C25 -> 691670.01
D39: =D38/D28 -> 0.26269375
C41: TOTAL GERAL | D41: =D32+D34+D36+D38 -> 2632989.9
D42: =D41/D28 -> 1
A47: _____________________________________________ PAVIMETAS ENGENHARIA LTDA CNPJ nº 07.013.955/0001-22 Karine Cardoso Coelho - Procuradora CREA nº 1019145196/D RG nº 5871522 SSP - CPF nº 700.303.011-06

Sheet ORÇ CACHOEIRA
A1: À
A2: AGÊNCIA GOIANA DE INFRAESTRUTURA E TRANSPORTES – GOINFRA
A3: COMISSÃO PERMANENTE DE LICITAÇÃO
A4: REF.: CONCORRÊNCIA ELETRÔNICA Nº028/2024, 16 DE SETEMBRO DE 2024 ÁS 09:00H
A5: OBJETO: Serviços de execução conservação preventi va de pavimentos asfálti cos, a serem prestados nos municípios que compõeo LOTE 67 do programa Goiás em movimento – eixo municípios (Cachoeira Alta, Paranaiguara, Perolândia e Santa Rita do Araguaia), no Estado deGoiás.
A6: EMPRESA: PAVIMETAS ENGENHARIA LTDA - CNPJ: 07.013.955/0001-22
A8: Setor
A9: Orçamento | C9: : 202100036007032-1/2024 | U9: Data Orçamento : 04/04/2024
A10: Descrição | C10: : ORÇAMENTO DE RECUPERAÇÃO DE PAVIMENTO EM VIAS URBANAS - PROGRAMA GOIÁS EM MOVIMENTO - MUNICÍPIOS - CACHOEIRA ALTA - GOIÁS | AE10: 24328.46
A11: Versão | C11: : ORÇAMENTO REALIZADO NA TABELA DE TERRAPLENAGEM, PAVIMENTAÇÃO E OBRAS DE ARTE ESPECIAIS - DEZEMBRO/23 - SEM DESONERAÇÃO - T233
A12: Trecho | C12: :
A13: Nat. Serviço | C13: : Obra Rodoviária
A14: Subtrecho | C14: :
A15: Extensão | C15: : 24.328,46 m2
U16: Data Base : 01/12/2023
A17: ORÇAMENTO BASE - CACHOEIRA ALTA - GOIÁS | AC17: PROPOSTA PAVIMETAS
A19: Cód. Auxiliar | D19: Serviço | K19: Bdi | M19: Unid. | P19: Quantidade | V19: Preço Unitário | Z19: Total | AC19: Preço Unitário | AD19: Total
D20: PAVIMENTAÇÃO
A21: 40001 | D21: DESMATAMENTO E LIMPEZA - INCLUSO DESTOCAMENTO DE ÁRVORES COM DIÂMETROS MENORES DE 15 cm | K21: =BD!$E$4 -> 0.1109 | M21: m2 | P21: 81.09 | V21: 0.57 | Z21: 46.22 | AC21: 0.16 | AD21: =TRUNC(AC21*P21,2) -> 12.97
A22: 40305 | D22: ACABAMENTO E RECOMPOSIÇÃO DE JAZIDA | K22: =BD!$E$4 -> 0.1109 | M22: m2 | P22: 81.09 | V22: 0.42 | Z22: 34.05 | AC22: 0.14 | AD22: =TRUNC(AC22*P22,2) -> 11.35
A23: 44100 | D23: ESCAVAÇÃO E CARGA DE MATERIAL DE JAZIDA (PAV.URB.) | K23: =BD!$E$4 -> 0.1109 | M23: m3 | P23: 48.66 | V23: 8.08 | Z23: 393.17 | AC23: 2.36 | AD23: =TRUNC(AC23*P23,2) -> 114.83
A24: 44102 | D24: TRANSPORTE DE MATERIAL DE JAZIDA (CASCALHO) (PAV.URB.) | K24: =BD!$E$4 -> 0.1109 | M24: m3km | P24: 350.32 | V24: 3.22 | Z24: 1128.03 | AC24: 0.87 | AD24: =TRUNC(AC24*P24,2) -> 304.77
A25: 44151 | D25: ESTABILIZAÇÃO SOLO-CIMENTO 2% PESO-PISTA (PAV.URB.) S/ TRANS. LOCAL DE CIMENTO | K25: =BD!$E$4 -> 0.1109 | M25: m3 | P25: 38.92 | V25: 67.61 | Z25: 2631.38 | AC25: 43.43 | AD25: =TRUNC(AC25*P25,2) -> 1690.29
A26: 44201 | D26: PINTURA DE LIGAÇÃO (PAV.URB.) | K26: =BD!$E$4 -> 0.1109 | M26: m2 | P26: 973.13 | V26: 0.42 | Z26: 408.71 | AC26: 0.13 | AD26: =TRUNC(AC26*P26,2) -> 126.5
A27: 40425 | D27: REMOÇÃO E CARGA DE PAV. ASFÁLTICA ( EXCETO TRANSPORTE) | K27: =BD!$E$4 -> 0.1109 | M27: m3 | P27: 77.85 | V27: 9.68 | Z27: 753.58 | AC27: 3.08 | AD27: =TRUNC(AC27*P27,2) -> 239.77
A28: 40430 | D28: TRANSPORTE DE PAVIMENTO REMOVIDO | K28: =BD!$E$4 -> 0.1109 | M28: m3km | P28: 451.53 | V28: 3.29 | Z28: 1485.53 | AC28: 0.89 | AD28: =TRUNC(AC28*P28,2) -> 401.86
A29: 44300 | D29: TRANSPORTE LOCAL DE MATERIAL BETUMINOSO (PAV.URB.) | K29: =BD!$E$4 -> 0.1109 | M29: TKM | P29: 2.41 | V29: 3.16 | Z29: 7.61 | AC29: 0.85 | AD29: =TRUNC(AC29*P29,2) -> 2.04
A30: 44200 | D30: IMPRIMAÇÃO (PAV.URB.) | K30: =BD!$E$4 -> 0.1109 | M30: m2 | P30: 243.28 | V30: 0.51 | Z30: 124.07 | AC30: 0.16 | AD30: =TRUNC(AC30*P30,2) -> 38.92
A31: 44205 | D31: PRÉ-MISTURADO A FRIO - PMF (PAV.URB.) | K31: =BD!$E$4 -> 0.1109 | M31: m3 | P31: 38.93 | V31: 282.1 | Z31: 10982.15 | AC31: 158.88 | AD31: =TRUNC(AC31*P31,2) -> 6185.19
A32: 44211 | D32: MICRORREVESTIMENTO À FRIO - 1,0cm S/COMP. (BC) (PAV.URB.) | K32: =BD!$E$4 -> 0.1109 | M32: m2 | P32: 48656.92 | V32: 5.3 | Z32: 257881.67 | AC32: 2.11 | AD32: =TRUNC(AC32*P32,2) -> 102666.1
... A36: 40455 | D36: TRANSPORTE COMERCIAL DE AGREGADOS | K36: =BD!$E$4 -> 0.1109 | M36: m3km | P36: 22505.15 | V36: 1.42 | Z36: 31957.31 | AC36: 0.37 | AD36: =TRUNC(AC36*P36,2) -> 8326.9
A37: 40510 | D37: FORNECIMENTO DE EMULSÃO RR-1C | K37: =BD!$F$4 -> 0.0753 | M37: T | P37: 0.49 | V37: 3289.9 | Z37: 1612.05 | AC37: 3289.9 | AD37: =TRUNC(AC37*P37,2) -> 1612.05
A38: 40500 | D38: FORNECIMENTO DE EMULSÃO RL-1C | K38: =BD!$F$4 -> 0.0753 | M38: T | P38: 7.11 | V38: 3472.38 | Z38: 24688.62 | AC38: 3472.38 | AD38: =TRUNC(AC38*P38,2) -> 24688.62
A39: 40485 | D39: FORNECIMENTO DE EMULSÃO ASFÁLTICA PARA IMPRIMAÇÃO - EAI | K39: =BD!$F$4 -> 0.0753 | M39: t | P39: 0.32 | V39: 3681.8 | Z39: 1178.17 | AC39: 2765.68 | AD39: =TRUNC(AC39*P39,2) -> 885.01
A40: 40530 | D40: TRANSPORTE COMERCIAL DE MATERIAL BETUMINOSO (DT= 354,00KM) | K40: =BD!$E$4 -> 0.1109 | M40: tkm | P40: 32081.25 | V40: 1.89 | Z40: 60633.56 | AC40: 0.51 | AD40: =TRUNC(AC40*P40,2) -> 16361.43
A41: 40511 | D41: FORNECIMENTO DE EMULSÃO RC-1C COM POLÍMERO | K41: =BD!$F$4 -> 0.0753 | M41: t | P41: 82.72 | V41: 4883.55 | Z41: 403967.25 | AC41: 4068.14 | AD41: =TRUNC(AC41*P41,2) -> 336516.54
A43: Total do Grupo : | Y43: 803429.07 | AC43: 502414.47
A46: Cód. Auxiliar | D46: Serviço | K46: Bdi | M46: Unid. | P46: Quantidade | V46: Preço Unitário | Z46: Total | AC46: Preço Unitário | AD46: Total
D47: SERVIÇOS COMPLEMENTARES
A48: 40835 | D48: TACHA REFLETIVA BIDIRECIONAL | K48: =BD!$E$4 -> 0.1109 | M48: Un | P48: 214 | V48: 40.68 | Z48: 8705.52 | AC48: 37.45 | AD48: =TRUNC(AC48*P48,2) -> 8014.3
...

Sheet ADM CACHOEIRA
A1: PROGRAMA GOIÁS EM MOVIMENTO - MUNICÍPIOS - CACHOEIRA ALTA - GO (T-233)
A4: ADMINISTRAÇÃO LOCAL/ INSTALAÇÕES PROVISÓRIAS
A5: MÃO DE OBRA
A6: DESCRIÇÃO | B6: UNIDADE | C6: QUANTIDADE | D6: PARTIC. MENSAL MÉDIA (%) | E6: Meses | F6: PREÇO UNITÁRIO | G6: PREÇO TOTAL
A7: DIVISÃO DE ENGENHARIA
A8: Engenheiro de Produção/ Civil | B8: mês | C8: 1 | D8: 10 | E8: 2 | F8: 19573.29 | G8: =F8*E8*C8*(D8/100) -> 3914.658
A9: Laboratorista de Betumes e Concretos | B9: mês | C9: 1 | D9: 50 | E9: 2 | F9: 5499.71 | G9: =F9*E9*C9*(D9/100) -> 5499.71
A10: Auxiliar de Laboratorista | B10: mês | C10: 1 | D10: 100 | E10: 2 | F10: 2325.77 | G10: =F10*E10*C10*(D10/100) -> 4651.54
A11: DIVISÃO DE SEGURANÇA E MEDICINA DO TRABALHO
A12: Técnico de Segurança do Trabalho | B12: mês | C12: 1 | D12: 2.5 | E12: 2 | F12: 5016.14 | G12: =F12*E12*C12*(D12/100) -> 250.807
A13: DIVISÃO ADMINISTRATIVA
A14: Encarregado Administrativo | B14: mês | C14: 1 | D14: 2.5 | E14: 2 | F14: 4233.2 | G14: =F14*E14*C14*(D14/100) -> 211.66
A16: OUTROS ITENS
A17: MANUTENÇÃO DO CANTEIRO
A18: Material de Expediente / Cópias / Impressões | B18: mês | C18: 1 | D18: 100 | E18: 2 | F18: 150 | G18: =F18*E18*C18*(D18/100) -> 300
A19: Medicamentos | B19: mês | C19: 1 | D19: 100 | E19: 2 | F19: 37.5 | G19: =F19*E19*C19*(D19/100) -> 75
A20: VEÍCULOS
A21: Veículo sedan - 71 a 115 CV | B21: mês | C21: 1 | D21: 100 | E21: 2 | F21: 2446.3125 | G21: =F21*E21*C21*(D21/100) -> 4892.625
A22: EQUIPAMENTOS DIRETOS
A23: Equipamentos de Laboratório de Betume | B23: mês | C23: 1 | D23: 100 | E23: 2 | F23: 3901.8525 | G23: =F23*E23*C23*(D23/100) -> 7803.705
A24: Caminhão prancha 30 T | B24: mês | C24: 1 | D24: 2.5 | E24: 2 | F24: 27148.44 | G24: =F24*E24*C24*(D24/100) -> 1357.422
A26: IMÓVEIS
A27: Aluguel de escritório | B27: mês | C27: 1 | D27: 100 | E27: 2 | F27: 2942.9775 | G27: =F27*E27*C27*(D27/100) -> 5885.955
A28: Aluguel de casa para alojamento | B28: mês | C28: 1 | D28: 100 | E28: 2 | F28: 4033.83 | G28: =F28*E28*C28*(D28/100) -> 8067.66
A30: MOBILIÁRIO
A31: Mobiliário de alojamento p/ pessoal | B31: mês | C31: 1 | D31: 100 | E31: 2 | F31: 458.775 | G31: =F31*E31*C31*(D31/100) -> 917.55
A32: Mobiliário de escritório | B32: mês | C32: 1 | D32: 100 | E32: 2 | F32: 4422.54 | G32: =F32*E32*C32*(D32/100) -> 8845.08
A34: SERVIÇOS TÉCNICOS
A35: PCMSO (NR-7) | B35: und | C35: 1 | F35: 281.25 | G35: =F35*C35 -> 281.25
A36: PGR (NR-18 ) | B36: und | C36: 1 | F36: 2375.0025 | G36: =F36*C36 -> 2375.0025
A37: Exames Admissionais/Demissionais | B37: und | C37: 40 | F37: 23.1225 | G37: =F37*C37 -> 924.9
A38: Anotação de Responsabilidade Técnica | B38: und | C38: 1 | F38: 196.9125 | G38: =F38*C38 -> 196.9125
A39: OUTROS
A40: Banheiro Químico | B40: und | C40: 3 | F40: 559.26 | G40: =F40*C40 -> 1677.78
A41: SINALIZAÇÃO
A42: Placa Padrão Programa Goiás em Movimento | B42: m2 | C42: 7 | F42: 315.615 | G42: =F42*C42 -> 2209.305
A43: Sinalização - placas de sinalização (desvio / pare siga) | B43: m2 | C43: 15 | F43: 315.615 | G43: =F43*C43 -> 4734.225
A44: Cones de Sinalização | B44: und | C44: 50 | F44: 77.22 | G44: =F44*C44 -> 3861
A45: LICENÇAS AMBIENTAIS
A46: Licença de Instalação de Canteiro (fixo) | B46: und | C46: 1 | F46: 4052.28 | G46: =F46*C46 -> 4052.28
...

Sheet MOB CACHOEIRA
A1: MOBILIZAÇÃO E DEMOSMOBILIZAÇÃO - CACHOEIRA ALTA
A2: Equipamento | C2: Mobilizador | D2: FU (A) | E2: Hora Produtiv (B) | F2: DT” (C) | G2: Custo (D=AxB/60) | H2: Quantidade (E) | I2: Total (CxDxE)
A3: Autopropelidos
A4: 30050 | B4: CAMINHÃO APLICADOR DE MATERIAL TERMOPLÁSTICO | C4: 30050 | D4: 1 | E4: 177.4261 | F4: 354 | G4: =TRUNC(D4*E4/60,2) -> 2.95
A5: 30037 | B5: CAMINHÃO BASCULANTE 10 M3 - 15 T | C5: 30037 | D5: 1 | E5: 109.3683 | F5: 354 | G5: =TRUNC(D5*E5/60,2) -> 1.82 | H5: 1 | I5: =TRUNC(F5*G5*H5,2) -> 644.28
A6: 30036 | B6: CAMINHÃO BASCULANTE 6 M3 - 10,5 T | C6: 30036 | D6: 1 | E6: 64.9091 | F6: 354 | G6: =TRUNC(D6*E6/60,2) -> 1.08
A7: 30035 | B7: CAMINHÃO CARROCERIA MADEIRA - 15 T | C7: 30035 | D7: 1 | E7: 247.74 | F7: 354 | G7: =TRUNC(D7*E7/60,2) -> 4.12 | H7: 1 | I7: =TRUNC(F7*G7*H7,2) -> 1458.48
A8: 30125 | B8: CAMINHÃO COM BATE ESTACAS HIDRÁULICO PARA DEFENSA | C8: 30125 | D8: 1 | E8: 103.5519 | F8: 354 | G8: =TRUNC(D8*E8/60,2) -> 1.72
A9: 30120 | B9: CAMINHÃO DISTRIBUIDOR DE CIMENTO | C9: 30120 | D9: 1 | E9: 158.767 | F9: 354 | G9: =TRUNC(D9*E9/60,2) -> 2.64
A10: 31062 | B10: CAMINHÃO MUNCK (GUINDAUTO) | C10: 31062 | D10: 1 | E10: 90.6796 | F10: 354 | G10: =TRUNC(D10*E10/60,2) -> 1.51
A11: 30053 | B11: CAMINHÃO PARA HIDROSSEMEADURA | C11: 30053 | D11: 1 | E11: 107.9031 | F11: 354 | G11: =TRUNC(D11*E11/60,2) -> 1.79
A12: 30049 | B12: CAMINHÃO PARA PINTURA A FRIO COM DEMARCADOR DE FAIXAS | C12: 30049 | D12: 1 | E12: 307.6 | F12: 354 | G12: =TRUNC(D12*E12/60,2) -> 5.12 | H12: 1 | I12: =TRUNC(F12*G12*H12,2) -> 1812.48
A13: 30040 | B13: CAMINHÃO TANQUE 10.000L | C13: 30040 | D13: 1 | E13: 109.5681 | F13: 354 | G13: =TRUNC(D13*E13/60,2) -> 1.82 | H13: 1 | I13: =TRUNC(F13*G13*H13,2) -> 644.28
A14: 30039 | B14: CAMINHÃO TANQUE 6.000L | C14: 30039 | D14: 1 | E14: 83.3277 | F14: 354 | G14: =TRUNC(D14*E14/60,2) -> 1.38
A15: 30021 | B15: CAMINHÃO TANQUE DISTRIBUIDOR DE ASFALTO | C15: 30021 | D15: 1 | E15: 87.3126 | F15: 354 | G15: =TRUNC(D15*E15/60,2) -> 1.45 | H15: 1 | I15: =TRUNC(F15*G15*H15,2) -> 513.3
A16: 30030 | B16: USINA MÓVEL PARA MICRO REVESTIMENTO | C16: 30030 | D16: 1 | E16: 227.2577 | F16: 354 | G16: =TRUNC(D16*E16/60,2) -> 3.78 | H16: 1 | I16: =TRUNC(F16*G16*H16,2) -> 1338.12
A17: Rebocados
A18: 30010 | B18: CARREGADEIRA DE PNEUS CAT - 924 H OU EQUIVALENTE | C18: 30105 | D18: 0.5 | E18: 285.795 | F18: 354 | G18: =TRUNC(D18*E18/60,2) -> 2.38 | H18: 1 | I18: =TRUNC(F18*G18*H18,2) -> 842.52
A19: 30007 | B19: CARREGADEIRA DE PNEUS CAT - 950 H OU EQUIVALENTE | C19: 30105 | D19: 0.5 | E19: 285.795 | F19: 354 | G19: =TRUNC(D19*E19/60,2) -> 2.38
A20: 30011 | B20: ESCAVADEIRA HIDRÁULICA - 320DL OU EQUIVALENTE | C20: 30105 | D20: 1 | E20: 285.795 | F20: 354 | G20: =TRUNC(D20*E20/60,2) -> 4.76
A21: 30057 | B21: ESCAVADEIRA HIDRÁULICA - CAT 323DL OU EQUIVALENTE | C21: 30105 | D21: 1 | E21: 285.795 | F21: 354 | G21: =TRUNC(D21*E21/60,2) -> 4.76
A22: 30019 | B22: FRESADORA A FRIO - W 200 F OU EQUIVALENTE | C22: 30105 | D22: 1 | E22: 285.795 | F22: 354 | G22: =TRUNC(D22*E22/60,2) -> 4.76
A23: 30158 | B23: MINI-CARREGADEIRA DE PNEUS COM FRESADORA | C23: 30105 | D23: 0.33 | E23: 285.795 | F23: 354 | G23: =TRUNC(D23*E23/60,2) -> 1.57
A24: 30058 | B24: MINI-CARREGADEIRA DE PNEUS COM VASSOURA DE 1,8 m | C24: 30105 | D24: 0.33 | E24: 285.795 | F24: 354 | G24: =TRUNC(D24*E24/60,2) -> 1.57
A25: 30046 | B25: MOTONIVELADORA - CAT 120K OU EQUIVALENTE | C25: 30105 | D25: 1 | E25: 285.795 | F25: 354 | G25: =TRUNC(D25*E25/60,2) -> 4.76 | H25: 1 | I25: =TRUNC(F25*G25*H25,2) -> 1685.04
A26: 30029 | B26: PERFURATRIZ SOBRE ESTEIRAS - CRAWLER DRILL OU EQUIVALENTE | C26: 30105 | D26: 0.5 | E26: 285.795 | F26: 354 | G26: =TRUNC(D26*E26/60,2) -> 2.38
A27: 30101 | B27: RECICLADORA DE PAVIMENTO À FRIO - CATERPILLAR RM-500 OU EQUIVALENTE | C27: 30105 | D27: 1 | E27: 285.795 | F27: 354 | G27: =TRUNC(D27*E27/60,2) -> 4.76
A28: 30008 | B28: RETRO ESCAVADEIRA DE PNEUS - CATERPILLAR 416E OU EQUIVALENTE | C28: 30105 | D28: 0.5 | E28: 285.795 | F28: 354 | G28: =TRUNC(D28*E28/60,2) -> 2.38
A29: 30015 | B29: ROLO COMPACTADOR DE PNEUS AUTOPROPELIDO - 27 T | C29: 30105 | D29: 0.5 | E29: 285.795 | F29: 354 | G29: =TRUNC(D29*E29/60,2) -> 2.38 | H29: 1 | I29: =TRUNC(F29*G29*H29,2) -> 842.52
A30: 30012 | B30: ROLO LISO TANDEN - 6/8 T - CA-150 OU EQUIVALENTE | C30: 30105 | D30: 0.5 | E30: 285.795 | F30: 354 | G30: =TRUNC(D30*E30/60,2) -> 2.38 | H30: 1 | I30: =TRUNC(F30*G30*H30,2) -> 842.52
A31: 30014 | B31: ROLO LISO VIBRATORIO AUTOPROPELIDO - CS533 E OU EQUIVALENTE | C31: 30105 | D31: 0.5 | E31: 285.795 | F31: 354 | G31: =TRUNC(D31*E31/60,2) -> 2.38
A32: 30009 | B32: ROLO PÉ DE CARNEIRO AUTOPROPELIDO - CA 250 OU EQUIVALENTE | C32: 30105 | D32: 0.5 | E32: 285.795 | F32: 354 | G32: =TRUNC(D32*E32/60,2) -> 2.38 | H32: 1 | I32: =TRUNC(F32*G32*H32,2) -> 842.52
A33: 30020 | B33: TANQUE DE ESTOCAGEM ASFALTO (30.000L) | C33: 30105 | D33: 1 | E33: 285.795 | F33: 354 | G33: =TRUNC(D33*E33/60,2) -> 4.76 | H33: 1 | I33: =TRUNC(F33*G33*H33,2) -> 1685.04
A34: 30005 | B34: TRATOR DE PNEUS AGRÍCOLA - MF 4292 OU EQUIVALENTE | C34: 30105 | D34: 0.5 | E34: 285.795 | F34: 354 | G34: =TRUNC(D34*E34/60,2) -> 2.38 | H34: 1 | I34: =TRUNC(F34*G34*H34,2) -> 842.52
A35: 30006 | B35: TRATOR DE PNEUS COM ROÇADEIRA | C35: 30105 | D35: 0.5 | E35: 285.795 | F35: 354 | G35: =TRUNC(D35*E35/60,2) -> 2.38
A36: 30001 | B36: TRATOR ESTEIRAS COM LÃMINA - CAT D8 OU EQUIVALENTE | C36: 30105 | D36: 1 | E36: 285.795 | F36: 354 | G36: =TRUNC(D36*E36/60,2) -> 4.76 | H36: 1 | I36: =TRUNC(F36*G36*H36,2) -> 1685.04
A37: 30002 | B37: TRATOR ESTEIRAS COM ESCARIFICADOR - CAT D8 OU EQUIVALENTE | C37: 30105 | D37: 1 | E37: 285.795 | F37: 354 | G37: =TRUNC(D37*E37/60,2) -> 4.76
A38: 30059 | B38: TRATOR ESTEIRAS COM LAMINA - CAT D4 OU EQUIVALENTE | C38: 30105 | D38: 0.5 | E38: 285.795 | F38: 354 | G38: =TRUNC(D38*E38/60,2) -> 2.38
A39: 30000 | B39: TRATOR ESTEIRAS COM LAMINA - CAT D6 OU EQUIVALENTE | C39: 30105 | D39: 0.5 | E39: 285.795 | F39: 354 | G39: =TRUNC(D39*E39/60,2) -> 2.38
A40: 30025 | B40: USINA DE ASFALTO A QUENTE 80 t/h | C40: 30105 | D40: 3 | E40: 285.795 | F40: 354 | G40: =TRUNC(D40*E40/60,2) -> 14.28
...

Sheet ORÇ STA R ARAGUAIA
A1: À
A2: AGÊNCIA GOIANA DE INFRAESTRUTURA E TRANSPORTES – GOINFRA
A3: COMISSÃO PERMANENTE DE LICITAÇÃO
A4: REF.: CONCORRÊNCIA ELETRÔNICA Nº028/2024, 16 DE SETEMBRO DE 2024 ÁS 09:00H
A5: OBJETO: Serviços de execução conservação preventi va de pavimentos asfálti cos, a serem prestados nos municípios que compõeo LOTE 67 do programa Goiás em movimento – eixo municípios (Cachoeira Alta, Paranaiguara, Perolândia e Santa Rita do Araguaia), no Estado deGoiás.
A6: EMPRESA: PAVIMETAS ENGENHARIA LTDA - CNPJ: 07.013.955/0001-22
A8: Setor | C8: : GOINFRA - AGÊNCIA GOIANA DE INFRAESTRUTURA E TRANSPORTES
A9: Orçamento | C9: : 202100036007228-1/2024 | U9: Data Orçamento : 03/04/2024
A10: Descrição | C10: : ORÇAMENTO DE RECUPERAÇÃO DE PAVIMENTO EM VIAS URBANAS - PROGRAMA GOIÁS EM MOVIMENTO - MUNICÍPIOS - SANTA RITA DO ARAGUAIA - GOIÁS | AE10: 23892.24
A11: Versão | C11: : ORÇAMENTO REALIZADO NA TABELA DE TERRAPLENAGEM, PAVIMENTAÇÃO E OBRAS DE ARTE ESPECIAIS - DEZEMBRO/23 - SEM DESONERAÇÃO - T233
A12: Trecho | C12: :
A13: Nat. Serviço | C13: : Obra Rodoviária
A14: Subtrecho | C14: :
A15: Extensão | C15: : 23.892,24 m2
U16: Data Base : 01/12/2023
A17: ORÇAMENTO BASE - SANTA RITA DO ARAGUAIA | AC17: PROPOSTA PAVIMETAS
A19: Cód. Auxiliar | D19: Serviço | K19: Bdi | M19: Unid. | P19: Quantidade | V19: Preço Unitário | Z19: Total | AC19: Preço Unitário | AD19: Total
D20: PAVIMENTAÇÃO
A21: 40001 | D21: DESMATAMENTO E LIMPEZA - INCLUSO DESTOCAMENTO DE ÁRVORES COM DIÂMETROS MENORES DE 15 cm | K21: =BD!$E$4 -> 0.1109 | M21: m2 | P21: 79.64 | V21: 0.57 | Z21: 45.39 | AC21: 0.16 | AD21: =TRUNC(AC21*P21,2) -> 12.74
A22: 40305 | D22: ACABAMENTO E RECOMPOSIÇÃO DE JAZIDA | K22: =BD!$E$4 -> 0.1109 | M22: m2 | P22: 79.64 | V22: 0.42 | Z22: 33.44 | AC22: 0.14 | AD22: =TRUNC(AC22*P22,2) -> 11.14
A23: 44100 | D23: ESCAVAÇÃO E CARGA DE MATERIAL DE JAZIDA (PAV.URB.) | K23: =BD!$E$4 -> 0.1109 | M23: m3 | P23: 47.78 | V23: 8.08 | Z23: 386.06 | AC23: 2.36 | AD23: =TRUNC(AC23*P23,2) -> 112.76
A24: 44102 | D24: TRANSPORTE DE MATERIAL DE JAZIDA (CASCALHO) (PAV.URB.) | K24: =BD!$E$4 -> 0.1109 | M24: m3km | P24: 344.04 | V24: 3.22 | Z24: 1107.8 | AC24: 0.87 | AD24: =TRUNC(AC24*P24,2) -> 299.31
A25: 44151 | D25: ESTABILIZAÇÃO SOLO-CIMENTO 2% PESO-PISTA (PAV.URB.) S/ TRANS. LOCAL DE CIMENTO | K25: =BD!$E$4 -> 0.1109 | M25: m3 | P25: 38.23 | V25: 67.61 | Z25: 2584.73 | AC25: 43.43 | AD25: =TRUNC(AC25*P25,2) -> 1660.32
A26: 44201 | D26: PINTURA DE LIGAÇÃO (PAV.URB.) | K26: =BD!$E$4 -> 0.1109 | M26: m2 | P26: 955.68 | V26: 0.42 | Z26: 401.38 | AC26: 0.13 | AD26: =TRUNC(AC26*P26,2) -> 124.23
A27: 40425 | D27: REMOÇÃO E CARGA DE PAV. ASFÁLTICA ( EXCETO TRANSPORTE) | K27: =BD!$E$4 -> 0.1109 | M27: m3 | P27: 76.45 | V27: 9.68 | Z27: 740.03 | AC27: 3.08 | AD27: =TRUNC(AC27*P27,2) -> 235.46
A28: 40430 | D28: TRANSPORTE DE PAVIMENTO REMOVIDO | K28: =BD!$E$4 -> 0.1109 | M28: m3km | P28: 198.78 | V28: 3.29 | Z28: 653.98 | AC28: 0.89 | AD28: =TRUNC(AC28*P28,2) -> 176.91
A29: 44300 | D29: TRANSPORTE LOCAL DE MATERIAL BETUMINOSO (PAV.URB.) | K29: =BD!$E$4 -> 0.1109 | M29: TKM | P29: 0.79 | V29: 3.16 | Z29: 2.49 | AC29: 0.85 | AD29: =TRUNC(AC29*P29,2) -> 0.67
A30: 44200 | D30: IMPRIMAÇÃO (PAV.URB.) | K30: =BD!$E$4 -> 0.1109 | M30: m2 | P30: 238.92 | V30: 0.51 | Z30: 121.84 | AC30: 0.16 | AD30: =TRUNC(AC30*P30,2) -> 38.22
A31: 44205 | D31: PRÉ-MISTURADO A FRIO - PMF (PAV.URB.) | K31: =BD!$E$4 -> 0.1109 | M31: m3 | P31: 38.23 | V31: 282.1 | Z31: 10784.68 | AC31: 158.88 | AD31: =TRUNC(AC31*P31,2) -> 6073.98
A32: 44211 | D32: MICRORREVESTIMENTO À FRIO - 1,0cm S/COMP. (BC) (PAV.URB.) | K32: =BD!$E$4 -> 0.1109 | M32: m2 | P32: 47784.48 | V32: 5.3 | Z32: 253257.74 | AC32: 2.11 | AD32: =TRUNC(AC32*P32,2) -> 100825.25
... A35: 40455 | D35: TRANSPORTE COMERCIAL DE AGREGADOS | K35: =BD!$E$4 -> 0.1109 | M35: m3km | P35: 36907.56 | V35: 1.42 | Z35: 52408.73 | AC35: 0.37 | AD35: =TRUNC(AC35*P35,2) -> 13655.79
A36: 40510 | D36: FORNECIMENTO DE EMULSÃO RR-1C | K36: =BD!$F$4 -> 0.0753 | M36: T | P36: 0.48 | V36: 3289.9 | Z36: 1579.15 | AC36: 3289.9 | AD36: =TRUNC(AC36*P36,2) -> 1579.15
A37: 40500 | D37: FORNECIMENTO DE EMULSÃO RL-1C | K37: =BD!$F$4 -> 0.0753 | M37: T | P37: 6.98 | V37: 3472.38 | Z37: 24237.21 | AC37: 3472.38 | AD37: =TRUNC(AC37*P37,2) -> 24237.21
A38: 40485 | D38: FORNECIMENTO DE EMULSÃO ASFÁLTICA PARA IMPRIMAÇÃO - EAI | K38: =BD!$F$4 -> 0.0753 | M38: t | P38: 0.31 | V38: 3681.8 | Z38: 1141.35 | AC38: 2765.68 | AD38: =TRUNC(AC38*P38,2) -> 857.36
A39: 40530 | D39: TRANSPORTE COMERCIAL DE MATERIAL BETUMINOSO (DT= 521,00KM) | K39: =BD!$E$4 -> 0.1109 | M39: tkm | P39: 46369.02 | V39: 1.89 | Z39: 87637.44 | AC39: 0.51 | AD39: =TRUNC(AC39*P39,2) -> 23648.2
A40: 40511 | D40: FORNECIMENTO DE EMULSÃO RC-1C COM POLÍMERO | K40: =BD!$F$4 -> 0.0753 | M40: t | P40: 81.23 | V40: 4883.55 | Z40: 396690.76 | AC40: 4068.14 | AD40: =TRUNC(AC40*P40,2) -> 330455.01
A42: Total do Grupo : | Y42: 834040.27 | AC42: 504066.16
A45: Cód. Auxiliar | D45: Serviço | K45: Bdi | M45: Unid. | P45: Quantidade | V45: Preço Unitário | Z45: Total | AC45: Preço Unitário | AD45: Total
D46: SERVIÇOS COMPLEMENTARES
A47: 40835 | D47: TACHA REFLETIVA BIDIRECIONAL | K47: =BD!$E$4 -> 0.1109 | M47: Un | P47: 529 | V47: 40.68 | Z47: 21519.72 | AC47: 37.45 | AD47: =TRUNC(AC47*P47,2) -> 19811.05
...

Sheet ADM STA R
A1: PROGRAMA GOIÁS EM MOVIMENTO - MUNICÍPIOS - SANTA RITA DO ARAGUAIA - GO (T-233)
A4: ADMINISTRAÇÃO LOCAL/ INSTALAÇÕES PROVISÓRIAS
A5: MÃO DE OBRA
A6: DESCRIÇÃO | B6: UNIDADE | C6: QUANTIDADE | D6: PARTIC. MENSAL MÉDIA (%) | E6: Meses | F6: PREÇO UNITÁRIO | G6: PREÇO TOTAL
A7: DIVISÃO DE ENGENHARIA
A8: Engenheiro de Produção/ Civil | B8: mês | C8: 1 | D8: 10 | E8: 2 | F8: 19573.29 | G8: =F8*E8*C8*(D8/100) -> 3914.658
A9: Laboratorista de Betumes e Concretos | B9: mês | C9: 1 | D9: 50 | E9: 2 | F9: 5499.71 | G9: =F9*E9*C9*(D9/100) -> 5499.71
A10: Auxiliar de Laboratorista | B10: mês | C10: 1 | D10: 100 | E10: 2 | F10: 2325.77 | G10: =F10*E10*C10*(D10/100) -> 4651.54
A11: DIVISÃO DE SEGURANÇA E MEDICINA DO TRABALHO
A12: Técnico de Segurança do Trabalho | B12: mês | C12: 1 | D12: 2.5 | E12: 2 | F12: 5016.14 | G12: =F12*E12*C12*(D12/100) -> 250.807
A13: DIVISÃO ADMINISTRATIVA
A14: Encarregado Administrativo | B14: mês | C14: 1 | D14: 2.5 | E14: 2 | F14: 4233.2 | G14: =F14*E14*C14*(D14/100) -> 211.66
A16: OUTROS ITENS
A17: MANUTENÇÃO DO CANTEIRO
A18: Material de Expediente / Cópias / Impressões | B18: mês | C18: 1 | D18: 100 | E18: 2 | F18: 150 | G18: =F18*E18*C18*(D18/100) -> 300
A19: Medicamentos | B19: mês | C19: 1 | D19: 100 | E19: 2 | F19: 37.5 | G19: =F19*E19*C19*(D19/100) -> 75
A20: VEÍCULOS
A21: Veículo sedan - 71 a 115 CV | B21: mês | C21: 1 | D21: 100 | E21: 2 | F21: 2446.3125 | G21: =F21*E21*C21*(D21/100) -> 4892.625
A22: EQUIPAMENTOS DIRETOS
A23: Equipamentos de Laboratório de Betume | B23: mês | C23: 1 | D23: 100 | E23: 2 | F23: 3901.8525 | G23: =F23*E23*C23*(D23/100) -> 7803.705
A24: Caminhão prancha 30 T | B24: mês | C24: 1 | D24: 2.5 | E24: 2 | F24: 27148.44 | G24: =F24*E24*C24*(D24/100) -> 1357.422
A26: IMÓVEIS
A27: Aluguel de escritório | B27: mês | C27: 1 | D27: 100 | E27: 2 | F27: 2942.9775 | G27: =F27*E27*C27*(D27/100) -> 5885.955
A28: Aluguel de casa para alojamento | B28: mês | C28: 1 | D28: 100 | E28: 2 | F28: 4033.83 | G28: =F28*E28*C28*(D28/100) -> 8067.66
A30: MOBILIÁRIO
A31: Mobiliário de alojamento p/ pessoal | B31: mês | C31: 1 | D31: 100 | E31: 2 | F31: 458.775 | G31: =F31*E31*C31*(D31/100) -> 917.55
A32: Mobiliário de escritório | B32: mês | C32: 1 | D32: 100 | E32: 2 | F32: 4422.54 | G32: =F32*E32*C32*(D32/100) -> 8845.08
A34: SERVIÇOS TÉCNICOS
A35: PCMSO (NR-7) | B35: und | C35: 1 | F35: 281.25 | G35: =F35*C35 -> 281.25
A36: PGR (NR-18 ) | B36: und | C36: 1 | F36: 2375.0025 | G36: =F36*C36 -> 2375.0025
A37: Exames Admissionais/Demissionais | B37: und | C37: 40 | F37: 23.1225 | G37: =F37*C37 -> 924.9
A38: Anotação de Responsabilidade Técnica | B38: und | C38: 1 | F38: 196.9125 | G38: =F38*C38 -> 196.9125
A39: OUTROS
A40: Banheiro Químico | B40: und | C40: 3 | F40: 559.26 | G40: =F40*C40 -> 1677.78
A41: SINALIZAÇÃO
A42: Placa Padrão Programa Goiás em Movimento | B42: m2 | C42: 18 | F42: 315.615 | G42: =F42*C42 -> 5681.07
A43: Sinalização - placas de sinalização (desvio / pare siga) | B43: m2 | C43: 15 | F43: 315.615 | G43: =F43*C43 -> 4734.225
A44: Cones de Sinalização | B44: und | C44: 100 | F44: 77.22 | G44: =F44*C44 -> 7722
A45: LICENÇAS AMBIENTAIS
A46: Licença de Instalação de Canteiro (fixo) | B46: und | C46: 1 | F46: 4052.28 | G46: =F46*C46 -> 4052.28
...

Sheet MOB STA RITA
A1: MOBILIZAÇÃO E DEMOSMOBILIZAÇÃO - SANTA RITA DO ARAGUAIA
A2: Equipamento | C2: Mobilizador | D2: FU (A) | E2: Hora Produtiv (B) | F2: DT” (C) | G2: Custo (D=AxB/60) | H2: Quantidade (E) | I2: Total (CxDxE)
A3: Autopropelidos
A4: 30050 | B4: CAMINHÃO APLICADOR DE MATERIAL TERMOPLÁSTICO | C4: 30050 | D4: 1 | E4: 177.4261 | F4: 510 | G4: =TRUNC(D4*E4/60,2) -> 2.95
A5: 30037 | B5: CAMINHÃO BASCULANTE 10 M3 - 15 T | C5: 30037 | D5: 1 | E5: 109.3683 | F5: 510 | G5: =TRUNC(D5*E5/60,2) -> 1.82 | H5: 1 | I5: =TRUNC(F5*G5*H5,2) -> 928.2
A6: 30036 | B6: CAMINHÃO BASCULANTE 6 M3 - 10,5 T | C6: 30036 | D6: 1 | E6: 64.9091 | F6: 510 | G6: =TRUNC(D6*E6/60,2) -> 1.08
A7: 30035 | B7: CAMINHÃO CARROCERIA MADEIRA - 15 T | C7: 30035 | D7: 1 | E7: 247.74 | F7: 510 | G7: =TRUNC(D7*E7/60,2) -> 4.12 | H7: 1 | I7: =TRUNC(F7*G7*H7,2) -> 2101.2
A8: 30125 | B8: CAMINHÃO COM BATE ESTACAS HIDRÁULICO PARA DEFENSA | C8: 30125 | D8: 1 | E8: 103.5519 | F8: 510 | G8: =TRUNC(D8*E8/60,2) -> 1.72
A9: 30120 | B9: CAMINHÃO DISTRIBUIDOR DE CIMENTO | C9: 30120 | D9: 1 | E9: 158.767 | F9: 510 | G9: =TRUNC(D9*E9/60,2) -> 2.64
A10: 31062 | B10: CAMINHÃO MUNCK (GUINDAUTO) | C10: 31062 | D10: 1 | E10: 90.6796 | F10: 510 | G10: =TRUNC(D10*E10/60,2) -> 1.51
A11: 30053 | B11: CAMINHÃO PARA HIDROSSEMEADURA | C11: 30053 | D11: 1 | E11: 107.9031 | F11: 510 | G11: =TRUNC(D11*E11/60,2) -> 1.79
A12: 30049 | B12: CAMINHÃO PARA PINTURA A FRIO COM DEMARCADOR DE FAIXAS | C12: 30049 | D12: 1 | E12: 307.6 | F12: 510 | G12: =TRUNC(D12*E12/60,2) -> 5.12 | H12: 1 | I12: =TRUNC(F12*G12*H12,2) -> 2611.2
A13: 30040 | B13: CAMINHÃO TANQUE 10.000L | C13: 30040 | D13: 1 | E13: 109.5681 | F13: 510 | G13: =TRUNC(D13*E13/60,2) -> 1.82 | H13: 1 | I13: =TRUNC(F13*G13*H13,2) -> 928.2
A14: 30039 | B14: CAMINHÃO TANQUE 6.000L | C14: 30039 | D14: 1 | E14: 83.3277 | F14: 510 | G14: =TRUNC(D14*E14/60,2) -> 1.38
A15: 30021 | B15: CAMINHÃO TANQUE DISTRIBUIDOR DE ASFALTO | C15: 30021 | D15: 1 | E15: 87.3126 | F15: 510 | G15: =TRUNC(D15*E15/60,2) -> 1.45 | H15: 1 | I15: =TRUNC(F15*G15*H15,2) -> 739.5
A16: 30030 | B16: USINA MÓVEL PARA MICRO REVESTIMENTO | C16: 30030 | D16: 1 | E16: 227.2577 | F16: 510 | G16: =TRUNC(D16*E16/60,2) -> 3.78 | H16: 1 | I16: =TRUNC(F16*G16*H16,2) -> 1927.8
A17: Rebocados
A18: 30010 | B18: CARREGADEIRA DE PNEUS CAT - 924 H OU EQUIVALENTE | C18: 30105 | D18: 0.5 | E18: 285.795 | F18: 510 | G18: =TRUNC(D18*E18/60,2) -> 2.38 | H18: 1 | I18: =TRUNC(F18*G18*H18,2) -> 1213.8
A19: 30007 | B19: CARREGADEIRA DE PNEUS CAT - 950 H OU EQUIVALENTE | C19: 30105 | D19: 0.5 | E19: 285.795 | F19: 510 | G19: =TRUNC(D19*E19/60,2) -> 2.38
A20: 30011 | B20: ESCAVADEIRA HIDRÁULICA - 320DL OU EQUIVALENTE | C20: 30105 | D20: 1 | E20: 285.795 | F20: 510 | G20: =TRUNC(D20*E20/60,2) -> 4.76
A21: 30057 | B21: ESCAVADEIRA HIDRÁULICA - CAT 323DL OU EQUIVALENTE | C21: 30105 | D21: 1 | E21: 285.795 | F21: 510 | G21: =TRUNC(D21*E21/60,2) -> 4.76
A22: 30019 | B22: FRESADORA A FRIO - W 200 F OU EQUIVALENTE | C22: 30105 | D22: 1 | E22: 285.795 | F22: 510 | G22: =TRUNC(D22*E22/60,2) -> 4.76
A23: 30158 | B23: MINI-CARREGADEIRA DE PNEUS COM FRESADORA | C23: 30105 | D23: 0.33 | E23: 285.795 | F23: 510 | G23: =TRUNC(D23*E23/60,2) -> 1.57
A24: 30058 | B24: MINI-CARREGADEIRA DE PNEUS COM VASSOURA DE 1,8 m | C24: 30105 | D24: 0.33 | E24: 285.795 | F24: 510 | G24: =TRUNC(D24*E24/60,2) -> 1.57
A25: 30046 | B25: MOTONIVELADORA - CAT 120K OU EQUIVALENTE | C25: 30105 | D25: 1 | E25: 285.795 | F25: 510 | G25: =TRUNC(D25*E25/60,2) -> 4.76 | H25: 1 | I25: =TRUNC(F25*G25*H25,2) -> 2427.6
A26: 30029 | B26: PERFURATRIZ SOBRE ESTEIRAS - CRAWLER DRILL OU EQUIVALENTE | C26: 30105 | D26: 0.5 | E26: 285.795 | F26: 510 | G26: =TRUNC(D26*E26/60,2) -> 2.38
A27: 30101 | B27: RECICLADORA DE PAVIMENTO À FRIO - CATERPILLAR RM-500 OU EQUIVALENTE | C27: 30105 | D27: 1 | E27: 285.795 | F27: 510 | G27: =TRUNC(D27*E27/60,2) -> 4.76
A28: 30008 | B28: RETRO ESCAVADEIRA DE PNEUS - CATERPILLAR 416E OU EQUIVALENTE | C28: 30105 | D28: 0.5 | E28: 285.795 | F28: 510 | G28: =TRUNC(D28*E28/60,2) -> 2.38
A29: 30015 | B29: ROLO COMPACTADOR DE PNEUS AUTOPROPELIDO - 27 T | C29: 30105 | D29: 0.5 | E29: 285.795 | F29: 510 | G29: =TRUNC(D29*E29/60,2) -> 2.38 | H29: 1 | I29: =TRUNC(F29*G29*H29,2) -> 1213.8
A30: 30012 | B30: ROLO LISO TANDEN - 6/8 T - CA-150 OU EQUIVALENTE | C30: 30105 | D30: 0.5 | E30: 285.795 | F30: 510 | G30: =TRUNC(D30*E30/60,2) -> 2.38 | H30: 1 | I30: =TRUNC(F30*G30*H30,2) -> 1213.8
A31: 30014 | B31: ROLO LISO VIBRATORIO AUTOPROPELIDO - CS533 E OU EQUIVALENTE | C31: 30105 | D31: 0.5 | E31: 285.795 | F31: 510 | G31: =TRUNC(D31*E31/60,2) -> 2.38
A32: 30009 | B32: ROLO PÉ DE CARNEIRO AUTOPROPELIDO - CA 250 OU EQUIVALENTE | C32: 30105 | D32: 0.5 | E32: 285.795 | F32: 510 | G32: =TRUNC(D32*E32/60,2) -> 2.38 | H32: 1 | I32: =TRUNC(F32*G32*H32,2) -> 1213.8
A33: 30020 | B33: TANQUE DE ESTOCAGEM ASFALTO (30.000L) | C33: 30105 | D33: 1 | E33: 285.795 | F33: 510 | G33: =TRUNC(D33*E33/60,2) -> 4.76 | H33: 1 | I33: =TRUNC(F33*G33*H33,2) -> 2427.6
A34: 30005 | B34: TRATOR DE PNEUS AGRÍCOLA - MF 4292 OU EQUIVALENTE | C34: 30105 | D34: 0.5 | E34: 285.795 | F34: 510 | G34: =TRUNC(D34*E34/60,2) -> 2.38 | H34: 1 | I34: =TRUNC(F34*G34*H34,2) -> 1213.8
A35: 30006 | B35: TRATOR DE PNEUS COM ROÇADEIRA | C35: 30105 | D35: 0.5 | E35: 285.795 | F35: 510 | G35: =TRUNC(D35*E35/60,2) -> 2.38
A36: 30001 | B36: TRATOR ESTEIRAS COM LÃMINA - CAT D8 OU EQUIVALENTE | C36: 30105 | D36: 1 | E36: 285.795 | F36: 510 | G36: =TRUNC(D36*E36/60,2) -> 4.76 | H36: 1 | I36: =TRUNC(F36*G36*H36,2) -> 2427.6
A37: 30002 | B37: TRATOR ESTEIRAS COM ESCARIFICADOR - CAT D8 OU EQUIVALENTE | C37: 30105 | D37: 1 | E37: 285.795 | F37: 510 | G37: =TRUNC(D37*E37/60,2) -> 4.76
A38: 30059 | B38: TRATOR ESTEIRAS COM LAMINA - CAT D4 OU EQUIVALENTE | C38: 30105 | D38: 0.5 | E38: 285.795 | F38: 510 | G38: =TRUNC(D38*E38/60,2) -> 2.38
A39: 30000 | B39: TRATOR ESTEIRAS COM LAMINA - CAT D6 OU EQUIVALENTE | C39: 30105 | D39: 0.5 | E39: 285.795 | F39: 510 | G39: =TRUNC(D39*E39/60,2) -> 2.38
A40: 30025 | B40: USINA DE ASFALTO A QUENTE 80 t/h | C40: 30105 | D40: 3 | E40: 285.795 | F40: 510 | G40: =TRUNC(D40*E40/60,2) -> 14.28
...

Sheet ORÇ PARANAIGUARA
A1: À
A2: AGÊNCIA GOIANA DE INFRAESTRUTURA E TRANSPORTES – GOINFRA
A3: COMISSÃO PERMANENTE DE LICITAÇÃO
A4: REF.: CONCORRÊNCIA ELETRÔNICA Nº028/2024, 16 DE SETEMBRO DE 2024 ÁS 09:00H
A5: OBJETO: Serviços de execução conservação preventi va de pavimentos asfálti cos, a serem prestados nos municípios que compõeo LOTE 67 do programa Goiás em movimento – eixo municípios (Cachoeira Alta, Paranaiguara, Perolândia e Santa Rita do Araguaia), no Estado deGoiás. | AE5: 24299.4
A6: EMPRESA: PAVIMETAS ENGENHARIA LTDA - CNPJ: 07.013.955/0001-22
A8: Setor | C8: : GOINFRA - AGÊNCIA GOIANA DE INFRAESTRUTURA E TRANSPORTES
A9: Orçamento | C9: : 202200036002373-1/2024 | U9: Data Orçamento : 04/04/2024
A10: Descrição | C10: : ORÇAMENTO DE RECUPERAÇÃO DE PAVIMENTO EM VIAS URBANAS - PROGRAMA GOIÁS EM MOVIMENTO - MUNICÍPIOS - PARANAIGUARA - GOIÁS
A11: Versão | C11: : ORÇAMENTO REALIZADO NA TABELA DE TERRAPLENAGEM, PAVIMENTAÇÃO E OBRAS DE ARTE ESPECIAIS - DEZEMBRO/23 - SEM DESONERAÇÃO - T233
A12: Trecho | C12: :
A13: Nat. Serviço | C13: : Obra Rodoviária
A14: Subtrecho | C14: :
A15: Extensão | C15: : 24.299,40 m2
U16: Data Base : 01/12/2023
A17: ORÇAMENTO BASE - PARANAIGUARA | AC17: PROPOSTA PAVIMETAS
A19: Cód. Auxiliar | D19: Serviço | K19: Bdi | M19: Unid. | P19: Quantidade | V19: Preço Unitário | Z19: Total | AC19: Preço Unitário | AD19: Total
D20: PAVIMENTAÇÃO
A21: 40001 | D21: DESMATAMENTO E LIMPEZA - INCLUSO DESTOCAMENTO DE ÁRVORES COM DIÂMETROS MENORES DE 15 cm | K21: =BD!$E$4 -> 0.1109 | M21: m2 | P21: 81 | V21: 0.57 | Z21: 46.17 | AC21: 0.16 | AD21: =TRUNC(AC21*P21,2) -> 12.96
A22: 40305 | D22: ACABAMENTO E RECOMPOSIÇÃO DE JAZIDA | K22: =BD!$E$4 -> 0.1109 | M22: m2 | P22: 81 | V22: 0.42 | Z22: 34.02 | AC22: 0.14 | AD22: =TRUNC(AC22*P22,2) -> 11.34
A23: 44100 | D23: ESCAVAÇÃO E CARGA DE MATERIAL DE JAZIDA (PAV.URB.) | K23: =BD!$E$4 -> 0.1109 | M23: m3 | P23: 48.6 | V23: 8.08 | Z23: 392.68 | AC23: 2.36 | AD23: =TRUNC(AC23*P23,2) -> 114.69
A24: 44102 | D24: TRANSPORTE DE MATERIAL DE JAZIDA (CASCALHO) (PAV.URB.) | K24: =BD!$E$4 -> 0.1109 | M24: m3km | P24: 967.1 | V24: 3.22 | Z24: 3114.06 | AC24: 0.87 | AD24: =TRUNC(AC24*P24,2) -> 841.37
A25: 44151 | D25: ESTABILIZAÇÃO SOLO-CIMENTO 2% PESO-PISTA (PAV.URB.) S/ TRANS. LOCAL DE CIMENTO | K25: =BD!$E$4 -> 0.1109 | M25: m3 | P25: 38.88 | V25: 67.61 | Z25: 2628.67 | AC25: 43.43 | AD25: =TRUNC(AC25*P25,2) -> 1688.55
A26: 44201 | D26: PINTURA DE LIGAÇÃO (PAV.URB.) | K26: =BD!$E$4 -> 0.1109 | M26: m2 | P26: 971.97 | V26: 0.42 | Z26: 408.22 | AC26: 0.13 | AD26: =TRUNC(AC26*P26,2) -> 126.35
A27: 40425 | D27: REMOÇÃO E CARGA DE PAV. ASFÁLTICA ( EXCETO TRANSPORTE) | K27: =BD!$E$4 -> 0.1109 | M27: m3 | P27: 77.76 | V27: 9.68 | Z27: 752.71 | AC27: 3.08 | AD27: =TRUNC(AC27*P27,2) -> 239.5
A28: 40430 | D28: TRANSPORTE DE PAVIMENTO REMOVIDO | K28: =BD!$E$4 -> 0.1109 | M28: m3km | P28: 552.08 | V28: 3.29 | Z28: 1816.34 | AC28: 0.89 | AD28: =TRUNC(AC28*P28,2) -> 491.35
A29: 44300 | D29: TRANSPORTE LOCAL DE MATERIAL BETUMINOSO (PAV.URB.) | K29: =BD!$E$4 -> 0.1109 | M29: TKM | P29: 1.6 | V29: 3.16 | Z29: 5.05 | AC29: 0.85 | AD29: =TRUNC(AC29*P29,2) -> 1.36
A30: 44200 | D30: IMPRIMAÇÃO (PAV.URB.) | K30: =BD!$E$4 -> 0.1109 | M30: m2 | P30: 242.99 | V30: 0.51 | Z30: 123.92 | AC30: 0.16 | AD30: =TRUNC(AC30*P30,2) -> 38.87
A31: 44205 | D31: PRÉ-MISTURADO A FRIO - PMF (PAV.URB.) | K31: =BD!$E$4 -> 0.1109 | M31: m3 | P31: 38.88 | V31: 282.1 | Z31: 10968.04 | AC31: 158.88 | AD31: =TRUNC(AC31*P31,2) -> 6177.25
A32: 44211 | D32: MICRORREVESTIMENTO À FRIO - 1,0cm S/COMP. (BC) (PAV.URB.) | K32: =BD!$E$4 -> 0.1109 | M32: m2 | P32: 48598.8 | V32: 5.3 | Z32: 257573.64 | AC32: 2.11 | AD32: =TRUNC(AC32*P32,2) -> 102543.46
... A36: 40455 | D36: TRANSPORTE COMERCIAL DE AGREGADOS | K36: =BD!$E$4 -> 0.1109 | M36: m3km | P36: 42064.93 | V36: 1.42 | Z36: 59732.2 | AC36: 0.37 | AD36: =TRUNC(AC36*P36,2) -> 15564.02
A37: 40510 | D37: FORNECIMENTO DE EMULSÃO RR-1C | K37: =BD!$F$4 -> 0.0753 | M37: T | P37: 0.49 | V37: 3289.9 | Z37: 1612.05 | AC37: 3289.9 | AD37: =TRUNC(AC37*P37,2) -> 1612.05
A38: 40500 | D38: FORNECIMENTO DE EMULSÃO RL-1C | K38: =BD!$F$4 -> 0.0753 | M38: T | P38: 7.1 | V38: 3472.38 | Z38: 24653.89 | AC38: 3472.38 | AD38: =TRUNC(AC38*P38,2) -> 24653.89
A39: 40485 | D39: FORNECIMENTO DE EMULSÃO ASFÁLTICA PARA IMPRIMAÇÃO - EAI | K39: =BD!$F$4 -> 0.0753 | M39: t | P39: 0.32 | V39: 3681.8 | Z39: 1178.17 | AC39: 2765.68 | AD39: =TRUNC(AC39*P39,2) -> 885.01
A40: 40530 | D40: TRANSPORTE COMERCIAL DE MATERIAL BETUMINOSO (DT= 350,00KM) | K40: =BD!$E$4 -> 0.1109 | M40: tkm | P40: 31680.87 | V40: 1.89 | Z40: 59876.84 | AC40: 0.51 | AD40: =TRUNC(AC40*P40,2) -> 16157.24
A41: 40511 | D41: FORNECIMENTO DE EMULSÃO RC-1C COM POLÍMERO | K41: =BD!$F$4 -> 0.0753 | M41: t | P41: 82.62 | V41: 4883.55 | Z41: 403478.9 | AC41: 4068.14 | AD41: =TRUNC(AC41*P41,2) -> 336109.72
A43: Total do Grupo : | Y43: 831637.92 | AC43: 509403.64
A46: Cód. Auxiliar | D46: Serviço | K46: Bdi | M46: Unid. | P46: Quantidade | V46: Preço Unitário | Z46: Total | AC46: Preço Unitário | AD46: Total
D47: MOBILIZAÇÃO E INSTALAÇÃO DE CANTEIRO
A48: 42301 | D48: MOBILIZAÇÃO / DESMOBILIZAÇÃO - CONFORME DEMONSTRATIVO | K48: =BD!$E$4 -> 0.1109 | M48: un | P48: 1 | V48: 61862.14 | Z48: 61862.14 | AC48: 36429.308 | AD48: =TRUNC(AC48*P48,2) -> 36429.3
...

Sheet ADM PARANAIGUARA
A1: PROGRAMA GOIÁS EM MOVIMENTO - MUNICÍPIOS - PARANAIGUARA - GO (T-233)
A4: ADMINISTRAÇÃO LOCAL/ INSTALAÇÕES PROVISÓRIAS
A5: MÃO DE OBRA
A6: DESCRIÇÃO | B6: UNIDADE | C6: QUANTIDADE | D6: PARTIC. MENSAL MÉDIA (%) | E6: Meses | F6: PREÇO UNITÁRIO | G6: PREÇO TOTAL
A7: DIVISÃO DE ENGENHARIA
A8: Engenheiro de Produção/ Civil | B8: mês | C8: 1 | D8: 10 | E8: 2 | F8: 19573.29 | G8: =F8*E8*C8*(D8/100) -> 3914.658
A9: Laboratorista de Betumes e Concretos | B9: mês | C9: 1 | D9: 50 | E9: 2 | F9: 5499.71 | G9: =F9*E9*C9*(D9/100) -> 5499.71
A10: Auxiliar de Laboratorista | B10: mês | C10: 1 | D10: 100 | E10: 2 | F10: 2325.77 | G10: =F10*E10*C10*(D10/100) -> 4651.54
A11: DIVISÃO DE SEGURANÇA E MEDICINA DO TRABALHO
A12: Técnico de Segurança do Trabalho | B12: mês | C12: 1 | D12: 2.5 | E12: 2 | F12: 5016.14 | G12: =F12*E12*C12*(D12/100) -> 250.807
A13: DIVISÃO ADMINISTRATIVA
A14: Encarregado Administrativo | B14: mês | C14: 1 | D14: 2.5 | E14: 2 | F14: 4233.2 | G14: =F14*E14*C14*(D14/100) -> 211.66
A16: OUTROS ITENS
A17: MANUTENÇÃO DO CANTEIRO
A18: Material de Expediente / Cópias / Impressões | B18: mês | C18: 1 | D18: 100 | E18: 2 | F18: 150 | G18: =F18*E18*C18*(D18/100) -> 300
A19: Medicamentos | B19: mês | C19: 1 | D19: 100 | E19: 2 | F19: 37.5 | G19: =F19*E19*C19*(D19/100) -> 75
A20: VEÍCULOS
A21: Veículo sedan - 71 a 115 CV | B21: mês | C21: 1 | D21: 100 | E21: 2 | F21: 2446.3125 | G21: =F21*E21*C21*(D21/100) -> 4892.625
A22: EQUIPAMENTOS DIRETOS
A23: Equipamentos de Laboratório de Betume | B23: mês | C23: 1 | D23: 100 | E23: 2 | F23: 3901.8525 | G23: =F23*E23*C23*(D23/100) -> 7803.705
A24: Caminhão prancha 30 T | B24: mês | C24: 1 | D24: 2.5 | E24: 2 | F24: 27148.44 | G24: =F24*E24*C24*(D24/100) -> 1357.422
A26: IMÓVEIS
A27: Aluguel de escritório | B27: mês | C27: 1 | D27: 100 | E27: 2 | F27: 2942.9775 | G27: =F27*E27*C27*(D27/100) -> 5885.955
A28: Aluguel de casa para alojamento | B28: mês | C28: 1 | D28: 100 | E28: 2 | F28: 4033.83 | G28: =F28*E28*C28*(D28/100) -> 8067.66
A30: MOBILIÁRIO
A31: Mobiliário de alojamento p/ pessoal | B31: mês | C31: 1 | D31: 100 | E31: 2 | F31: 458.775 | G31: =F31*E31*C31*(D31/100) -> 917.55
A32: Mobiliário de escritório | B32: mês | C32: 1 | D32: 100 | E32: 2 | F32: 4422.54 | G32: =F32*E32*C32*(D32/100) -> 8845.08
A34: SERVIÇOS TÉCNICOS
A35: PCMSO (NR-7) | B35: und | C35: 1 | F35: 281.25 | G35: =F35*C35 -> 281.25
A36: PGR (NR-18 ) | B36: und | C36: 1 | F36: 2375.0025 | G36: =F36*C36 -> 2375.0025
A37: Exames Admissionais/Demissionais | B37: und | C37: 40 | F37: 23.1225 | G37: =F37*C37 -> 924.9
A38: Anotação de Responsabilidade Técnica | B38: und | C38: 1 | F38: 196.9125 | G38: =F38*C38 -> 196.9125
A39: OUTROS
A40: Banheiro Químico | B40: und | C40: 3 | F40: 559.26 | G40: =F40*C40 -> 1677.78
A41: SINALIZAÇÃO
A42: Placa Padrão Programa Goiás em Movimento | B42: m2 | C42: 7 | F42: 315.615 | G42: =F42*C42 -> 2209.305
A43: Sinalização - placas de sinalização (desvio / pare siga) | B43: m2 | C43: 15 | F43: 315.615 | G43: =F43*C43 -> 4734.225
A44: Cones de Sinalização | B44: und | C44: 50 | F44: 77.22 | G44: =F44*C44 -> 3861
A45: LICENÇAS AMBIENTAIS
A46: Licença de Instalação de Canteiro (fixo) | B46: und | C46: 1 | F46: 4052.28 | G46: =F46*C46 -> 4052.28
...

Sheet MOB PARANAIGUARA
A1: MOBILIZAÇÃO E DEMOSMOBILIZAÇÃO - PARANAIGUARA
A2: Equipamento | C2: Mobilizador | D2: FU (A) | E2: Hora Produtiv (B) | F2: DT” (C) | G2: Custo (D=AxB/60) | H2: Quantidade (E) | I2: Total (CxDxE)
A3: Autopropelidos
A4: 30050 | B4: CAMINHÃO APLICADOR DE MATERIAL TERMOPLÁSTICO | C4: 30050 | D4: 1 | E4: 177.4261 | F4: 352 | G4: =TRUNC(D4*E4/60,2) -> 2.95
A5: 30037 | B5: CAMINHÃO BASCULANTE 10 M3 - 15 T | C5: 30037 | D5: 1 | E5: 109.3683 | F5: 352 | G5: =TRUNC(D5*E5/60,2) -> 1.82 | H5: 1 | I5: =TRUNC(F5*G5*H5,2) -> 640.64
A6: 30036 | B6: CAMINHÃO BASCULANTE 6 M3 - 10,5 T | C6: 30036 | D6: 1 | E6: 64.9091 | F6: 352 | G6: =TRUNC(D6*E6/60,2) -> 1.08
A7: 30035 | B7: CAMINHÃO CARROCERIA MADEIRA - 15 T | C7: 30035 | D7: 1 | E7: 247.74 | F7: 352 | G7: =TRUNC(D7*E7/60,2) -> 4.12 | H7: 1 | I7: =TRUNC(F7*G7*H7,2) -> 1450.24
A8: 30125 | B8: CAMINHÃO COM BATE ESTACAS HIDRÁULICO PARA DEFENSA | C8: 30125 | D8: 1 | E8: 103.5519 | F8: 352 | G8: =TRUNC(D8*E8/60,2) -> 1.72
A9: 30120 | B9: CAMINHÃO DISTRIBUIDOR DE CIMENTO | C9: 30120 | D9: 1 | E9: 158.767 | F9: 352 | G9: =TRUNC(D9*E9/60,2) -> 2.64
A10: 31062 | B10: CAMINHÃO MUNCK (GUINDAUTO) | C10: 31062 | D10: 1 | E10: 90.6796 | F10: 352 | G10: =TRUNC(D10*E10/60,2) -> 1.51
A11: 30053 | B11: CAMINHÃO PARA HIDROSSEMEADURA | C11: 30053 | D11: 1 | E11: 107.9031 | F11: 352 | G11: =TRUNC(D11*E11/60,2) -> 1.79
A12: 30049 | B12: CAMINHÃO PARA PINTURA A FRIO COM DEMARCADOR DE FAIXAS | C12: 30049 | D12: 1 | E12: 307.6 | F12: 352 | G12: =TRUNC(D12*E12/60,2) -> 5.12
A13: 30040 | B13: CAMINHÃO TANQUE 10.000L | C13: 30040 | D13: 1 | E13: 109.5681 | F13: 352 | G13: =TRUNC(D13*E13/60,2) -> 1.82 | H13: 1 | I13: =TRUNC(F13*G13*H13,2) -> 640.64
A14: 30039 | B14: CAMINHÃO TANQUE 6.000L | C14: 30039 | D14: 1 | E14: 83.3277 | F14: 352 | G14: =TRUNC(D14*E14/60,2) -> 1.38
A15: 30021 | B15: CAMINHÃO TANQUE DISTRIBUIDOR DE ASFALTO | C15: 30021 | D15: 1 | E15: 87.3126 | F15: 352 | G15: =TRUNC(D15*E15/60,2) -> 1.45 | H15: 1 | I15: =TRUNC(F15*G15*H15,2) -> 510.4
A16: 30030 | B16: USINA MÓVEL PARA MICRO REVESTIMENTO | C16: 30030 | D16: 1 | E16: 227.2577 | F16: 352 | G16: =TRUNC(D16*E16/60,2) -> 3.78 | H16: 1 | I16: =TRUNC(F16*G16*H16,2) -> 1330.56
A17: Rebocados
A18: 30010 | B18: CARREGADEIRA DE PNEUS CAT - 924 H OU EQUIVALENTE | C18: 30105 | D18: 0.5 | E18: 285.795 | F18: 352 | G18: =TRUNC(D18*E18/60,2) -> 2.38 | H18: 1 | I18: =TRUNC(F18*G18*H18,2) -> 837.76
A19: 30007 | B19: CARREGADEIRA DE PNEUS CAT - 950 H OU EQUIVALENTE | C19: 30105 | D19: 0.5 | E19: 285.795 | F19: 352 | G19: =TRUNC(D19*E19/60,2) -> 2.38
A20: 30011 | B20: ESCAVADEIRA HIDRÁULICA - 320DL OU EQUIVALENTE | C20: 30105 | D20: 1 | E20: 285.795 | F20: 352 | G20: =TRUNC(D20*E20/60,2) -> 4.76
A21: 30057 | B21: ESCAVADEIRA HIDRÁULICA - CAT 323DL OU EQUIVALENTE | C21: 30105 | D21: 1 | E21: 285.795 | F21: 352 | G21: =TRUNC(D21*E21/60,2) -> 4.76
A22: 30019 | B22: FRESADORA A FRIO - W 200 F OU EQUIVALENTE | C22: 30105 | D22: 1 | E22: 285.795 | F22: 352 | G22: =TRUNC(D22*E22/60,2) -> 4.76
A23: 30158 | B23: MINI-CARREGADEIRA DE PNEUS COM FRESADORA | C23: 30105 | D23: 0.33 | E23: 285.795 | F23: 352 | G23: =TRUNC(D23*E23/60,2) -> 1.57
A24: 30058 | B24: MINI-CARREGADEIRA DE PNEUS COM VASSOURA DE 1,8 m | C24: 30105 | D24: 0.33 | E24: 285.795 | F24: 352 | G24: =TRUNC(D24*E24/60,2) -> 1.57
A25: 30046 | B25: MOTONIVELADORA - CAT 120K OU EQUIVALENTE | C25: 30105 | D25: 1 | E25: 285.795 | F25: 352 | G25: =TRUNC(D25*E25/60,2) -> 4.76 | H25: 1 | I25: =TRUNC(F25*G25*H25,2) -> 1675.52
A26: 30029 | B26: PERFURATRIZ SOBRE ESTEIRAS - CRAWLER DRILL OU EQUIVALENTE | C26: 30105 | D26: 0.5 | E26: 285.795 | F26: 352 | G26: =TRUNC(D26*E26/60,2) -> 2.38
A27: 30101 | B27: RECICLADORA DE PAVIMENTO À FRIO - CATERPILLAR RM-500 OU EQUIVALENTE | C27: 30105 | D27: 1 | E27: 285.795 | F27: 352 | G27: =TRUNC(D27*E27/60,2) -> 4.76
A28: 30008 | B28: RETRO ESCAVADEIRA DE PNEUS - CATERPILLAR 416E OU EQUIVALENTE | C28: 30105 | D28: 0.5 | E28: 285.795 | F28: 352 | G28: =TRUNC(D28*E28/60,2) -> 2.38
A29: 30015 | B29: ROLO COMPACTADOR DE PNEUS AUTOPROPELIDO - 27 T | C29: 30105 | D29: 0.5 | E29: 285.795 | F29: 352 | G29: =TRUNC(D29*E29/60,2) -> 2.38 | H29: 1 | I29: =TRUNC(F29*G29*H29,2) -> 837.76
A30: 30012 | B30: ROLO LISO TANDEN - 6/8 T - CA-150 OU EQUIVALENTE | C30: 30105 | D30: 0.5 | E30: 285.795 | F30: 352 | G30: =TRUNC(D30*E30/60,2) -> 2.38 | H30: 1 | I30: =TRUNC(F30*G30*H30,2) -> 837.76
A31: 30014 | B31: ROLO LISO VIBRATORIO AUTOPROPELIDO - CS533 E OU EQUIVALENTE | C31: 30105 | D31: 0.5 | E31: 285.795 | F31: 352 | G31: =TRUNC(D31*E31/60,2) -> 2.38
A32: 30009 | B32: ROLO PÉ DE CARNEIRO AUTOPROPELIDO - CA 250 OU EQUIVALENTE | C32: 30105 | D32: 0.5 | E32: 285.795 | F32: 352 | G32: =TRUNC(D32*E32/60,2) -> 2.38 | H32: 1 | I32: =TRUNC(F32*G32*H32,2) -> 837.76
A33: 30020 | B33: TANQUE DE ESTOCAGEM ASFALTO (30.000L) | C33: 30105 | D33: 1 | E33: 285.795 | F33: 352 | G33: =TRUNC(D33*E33/60,2) -> 4.76 | H33: 1 | I33: =TRUNC(F33*G33*H33,2) -> 1675.52
A34: 30005 | B34: TRATOR DE PNEUS AGRÍCOLA - MF 4292 OU EQUIVALENTE | C34: 30105 | D34: 0.5 | E34: 285.795 | F34: 352 | G34: =TRUNC(D34*E34/60,2) -> 2.38 | H34: 1 | I34: =TRUNC(F34*G34*H34,2) -> 837.76
A35: 30006 | B35: TRATOR DE PNEUS COM ROÇADEIRA | C35: 30105 | D35: 0.5 | E35: 285.795 | F35: 352 | G35: =TRUNC(D35*E35/60,2) -> 2.38
A36: 30001 | B36: TRATOR ESTEIRAS COM LÃMINA - CAT D8 OU EQUIVALENTE | C36: 30105 | D36: 1 | E36: 285.795 | F36: 352 | G36: =TRUNC(D36*E36/60,2) -> 4.76 | H36: 1 | I36: =TRUNC(F36*G36*H36,2) -> 1675.52
A37: 30002 | B37: TRATOR ESTEIRAS COM ESCARIFICADOR - CAT D8 OU EQUIVALENTE | C37: 30105 | D37: 1 | E37: 285.795 | F37: 352 | G37: =TRUNC(D37*E37/60,2) -> 4.76
A38: 30059 | B38: TRATOR ESTEIRAS COM LAMINA - CAT D4 OU EQUIVALENTE | C38: 30105 | D38: 0.5 | E38: 285.795 | F38: 352 | G38: =TRUNC(D38*E38/60,2) -> 2.38
A39: 30000 | B39: TRATOR ESTEIRAS COM LAMINA - CAT D6 OU EQUIVALENTE | C39: 30105 | D39: 0.5 | E39: 285.795 | F39: 352 | G39: =TRUNC(D39*E39/60,2) -> 2.38
A40: 30025 | B40: USINA DE ASFALTO A QUENTE 80 t/h | C40: 30105 | D40: 3 | E40: 285.795 | F40: 352 | G40: =TRUNC(D40*E40/60,2) -> 14.28
...

Sheet ORÇ PEROLANDIA
A1: À
A2: AGÊNCIA GOIANA DE INFRAESTRUTURA E TRANSPORTES – GOINFRA
A3: COMISSÃO PERMANENTE DE LICITAÇÃO
A4: REF.: CONCORRÊNCIA ELETRÔNICA Nº028/2024, 16 DE SETEMBRO DE 2024 ÁS 09:00H
A5: OBJETO: Serviços de execução conservação preventi va de pavimentos asfálti cos, a serem prestados nos municípios que compõeo LOTE 67 do programa Goiás em movimento – eixo municípios (Cachoeira Alta, Paranaiguara, Perolândia e Santa Rita do Araguaia), no Estado deGoiás. | AE5: 25694.94
A6: EMPRESA: PAVIMETAS ENGENHARIA LTDA - CNPJ: 07.013.955/0001-22
A8: Setor | C8: : GOINFRA - AGÊNCIA GOIANA DE INFRAESTRUTURA E TRANSPORTES
A9: Orçamento | C9: : 202100036007389-1/2024 | U9: Data Orçamento : 05/04/2024
A10: Descrição | C10: : ORÇAMENTO DE RECUPERAÇÃO DE PAVIMENTO EM VIAS URBANAS - PROGRAMA GOIÁS EM MOVIMENTO - MUNICÍPIOS - PEROLÂNDIA - GOIÁS
A11: Versão | C11: : ORÇAMENTO REALIZADO NA TABELA DE TERRAPLENAGEM, PAVIMENTAÇÃO E OBRAS DE ARTE ESPECIAIS - DEZEMBRO/23 - SEM DESONERAÇÃO - T233
A12: Trecho | C12: :
A13: Nat. Serviço | C13: : Obra Rodoviária
A14: Subtrecho | C14: :
A15: Extensão | C15: : 25.694,94 m2
U16: Data Base : 01/12/2023
A17: ORÇAMENTO BASE - PEROLÂNDIA | AC17: PROPOSTA PAVIMETAS
A19: Cód. Auxiliar | D19: Serviço | K19: Bdi | M19: Unid. | P19: Quantidade | V19: Preço Unitário | Z19: Total | AC19: Preço Unitário | AD19: Total
D20: PAVIMENTAÇÃO
A21: 40001 | D21: DESMATAMENTO E LIMPEZA - INCLUSO DESTOCAMENTO DE ÁRVORES COM DIÂMETROS MENORES DE 15 cm | K21: =BD!$E$4 -> 0.1109 | M21: m2 | P21: 85.65 | V21: 0.57 | Z21: 48.82 | AC21: 0.16 | AD21: =TRUNC(AC21*P21,2) -> 13.7
A22: 40305 | D22: ACABAMENTO E RECOMPOSIÇÃO DE JAZIDA | K22: =BD!$E$4 -> 0.1109 | M22: m2 | P22: 85.65 | V22: 0.42 | Z22: 35.97 | AC22: 0.14 | AD22: =TRUNC(AC22*P22,2) -> 11.99
A23: 44100 | D23: ESCAVAÇÃO E CARGA DE MATERIAL DE JAZIDA (PAV.URB.) | K23: =BD!$E$4 -> 0.1109 | M23: m3 | P23: 51.39 | V23: 8.08 | Z23: 415.23 | AC23: 2.36 | AD23: =TRUNC(AC23*P23,2) -> 121.28
A24: 44102 | D24: TRANSPORTE DE MATERIAL DE JAZIDA (CASCALHO) (PAV.URB.) | K24: =BD!$E$4 -> 0.1109 | M24: m3km | P24: 1022.62 | V24: 3.22 | Z24: 3292.83 | AC24: 0.87 | AD24: =TRUNC(AC24*P24,2) -> 889.67
A25: 44151 | D25: ESTABILIZAÇÃO SOLO-CIMENTO 2% PESO-PISTA (PAV.URB.) S/ TRANS. LOCAL DE CIMENTO | K25: =BD!$E$4 -> 0.1109 | M25: m3 | P25: 41.11 | V25: 67.61 | Z25: 2779.44 | AC25: 43.43 | AD25: =TRUNC(AC25*P25,2) -> 1785.4
A26: 44201 | D26: PINTURA DE LIGAÇÃO (PAV.URB.) | K26: =BD!$E$4 -> 0.1109 | M26: m2 | P26: 1027.78 | V26: 0.42 | Z26: 431.66 | AC26: 0.13 | AD26: =TRUNC(AC26*P26,2) -> 133.61
A27: 40425 | D27: REMOÇÃO E CARGA DE PAV. ASFÁLTICA ( EXCETO TRANSPORTE) | K27: =BD!$E$4 -> 0.1109 | M27: m3 | P27: 82.22 | V27: 9.68 | Z27: 795.88 | AC27: 3.08 | AD27: =TRUNC(AC27*P27,2) -> 253.23
A28: 40430 | D28: TRANSPORTE DE PAVIMENTO REMOVIDO | K28: =BD!$E$4 -> 0.1109 | M28: m3km | P28: 287.78 | V28: 3.29 | Z28: 946.79 | AC28: 0.89 | AD28: =TRUNC(AC28*P28,2) -> 256.12
A29: 44300 | D29: TRANSPORTE LOCAL DE MATERIAL BETUMINOSO (PAV.URB.) | K29: =BD!$E$4 -> 0.1109 | M29: TKM | P29: 1.7 | V29: 3.16 | Z29: 5.37 | AC29: 0.85 | AD29: =TRUNC(AC29*P29,2) -> 1.44
A30: 44200 | D30: IMPRIMAÇÃO (PAV.URB.) | K30: =BD!$E$4 -> 0.1109 | M30: m2 | P30: 256.94 | V30: 0.51 | Z30: 131.03 | AC30: 0.16 | AD30: =TRUNC(AC30*P30,2) -> 41.11
A31: 44205 | D31: PRÉ-MISTURADO A FRIO - PMF (PAV.URB.) | K31: =BD!$E$4 -> 0.1109 | M31: m3 | P31: 41.11 | V31: 282.1 | Z31: 11597.13 | AC31: 158.88 | AD31: =TRUNC(AC31*P31,2) -> 6531.55
A32: 44211 | D32: MICRORREVESTIMENTO À FRIO - 1,0cm S/COMP. (BC) (PAV.URB.) | K32: =BD!$E$4 -> 0.1109 | M32: m2 | P32: 51389.88 | V32: 5.3 | Z32: 272366.36 | AC32: 2.11 | AD32: =TRUNC(AC32*P32,2) -> 108432.64
... A36: 40455 | D36: TRANSPORTE COMERCIAL DE AGREGADOS | K36: =BD!$E$4 -> 0.1109 | M36: m3km | P36: 3461.53 | V36: 1.42 | Z36: 4915.37 | AC36: 0.37 | AD36: =TRUNC(AC36*P36,2) -> 1280.76
A37: 40510 | D37: FORNECIMENTO DE EMULSÃO RR-1C | K37: =BD!$F$4 -> 0.0753 | M37: T | P37: 0.51 | V37: 3289.9 | Z37: 1677.84 | AC37: 3289.9 | AD37: =TRUNC(AC37*P37,2) -> 1677.84
A38: 40500 | D38: FORNECIMENTO DE EMULSÃO RL-1C | K38: =BD!$F$4 -> 0.0753 | M38: T | P38: 7.5 | V38: 3472.38 | Z38: 26042.85 | AC38: 3472.38 | AD38: =TRUNC(AC38*P38,2) -> 26042.85
A39: 40485 | D39: FORNECIMENTO DE EMULSÃO ASFÁLTICA PARA IMPRIMAÇÃO - EAI | K39: =BD!$F$4 -> 0.0753 | M39: t | P39: 0.33 | V39: 3681.8 | Z39: 1214.99 | AC39: 2765.68 | AD39: =TRUNC(AC39*P39,2) -> 912.67
A40: 40530 | D40: TRANSPORTE COMERCIAL DE MATERIAL BETUMINOSO (DT= 386,00KM) | K40: =BD!$E$4 -> 0.1109 | M40: tkm | P40: 36946.05 | V40: 1.89 | Z40: 69828.03 | AC40: 0.51 | AD40: =TRUNC(AC40*P40,2) -> 18842.48
A41: 40511 | D41: FORNECIMENTO DE EMULSÃO RC-1C COM POLÍMERO | K41: =BD!$F$4 -> 0.0753 | M41: t | P41: 87.36 | V41: 4883.55 | Z41: 426626.92 | AC41: 4068.14 | AD41: =TRUNC(AC41*P41,2) -> 355392.71
A43: Total do Grupo : | Y43: 827008.84 | AC43: 525186.95
A46: Cód. Auxiliar | D46: Serviço | K46: Bdi | M46: Unid. | P46: Quantidade | V46: Preço Unitário | Z46: Total | AC46: Preço Unitário | AD46: Total
D47: MOBILIZAÇÃO E INSTALAÇÃO DE CANTEIRO
A48: 42301 | D48: MOBILIZAÇÃO / DESMOBILIZAÇÃO - CONFORME DEMONSTRATIVO | K48: =BD!$E$4 -> 0.1109 | M48: un | P48: 1 | V48: 67815.28 | Z48: 67815.28 | AC48: 39927.621 | AD48: =TRUNC(AC48*P48,2) -> 39927.62
...

Sheet ADM PEROLANDIA
A1: PROGRAMA GOIÁS EM MOVIMENTO - MUNICÍPIOS - PEROLÂNDIA - GO (T-233)
A4: ADMINISTRAÇÃO LOCAL/ INSTALAÇÕES PROVISÓRIAS
A5: MÃO DE OBRA
A6: DESCRIÇÃO | B6: UNIDADE | C6: QUANTIDADE | D6: PARTIC. MENSAL MÉDIA (%) | E6: Meses | F6: PREÇO UNITÁRIO | G6: PREÇO TOTAL
A7: DIVISÃO DE ENGENHARIA
A8: Engenheiro de Produção/ Civil | B8: mês | C8: 1 | D8: 10 | E8: 2 | F8: 19573.29 | G8: =F8*E8*C8*(D8/100) -> 3914.658
A9: Laboratorista de Betumes e Concretos | B9: mês | C9: 1 | D9: 50 | E9: 2 | F9: 5499.71 | G9: =F9*E9*C9*(D9/100) -> 5499.71
A10: Auxiliar de Laboratorista | B10: mês | C10: 1 | D10: 100 | E10: 2 | F10: 2325.77 | G10: =F10*E10*C10*(D10/100) -> 4651.54
A11: DIVISÃO DE SEGURANÇA E MEDICINA DO TRABALHO
A12: Técnico de Segurança do Trabalho | B12: mês | C12: 1 | D12: 2.5 | E12: 2 | F12: 5016.14 | G12: =F12*E12*C12*(D12/100) -> 250.807
A13: DIVISÃO ADMINISTRATIVA
A14: Encarregado Administrativo | B14: mês | C14: 1 | D14: 2.5 | E14: 2 | F14: 4233.2 | G14: =F14*E14*C14*(D14/100) -> 211.66
A16: OUTROS ITENS
A17: MANUTENÇÃO DO CANTEIRO
A18: Material de Expediente / Cópias / Impressões | B18: mês | C18: 1 | D18: 100 | E18: 2 | F18: 150 | G18: =F18*E18*C18*(D18/100) -> 300
A19: Medicamentos | B19: mês | C19: 1 | D19: 100 | E19: 2 | F19: 37.5 | G19: =F19*E19*C19*(D19/100) -> 75
A20: VEÍCULOS
A21: Veículo sedan - 71 a 115 CV | B21: mês | C21: 1 | D21: 100 | E21: 2 | F21: 2446.3125 | G21: =F21*E21*C21*(D21/100) -> 4892.625
A22: EQUIPAMENTOS DIRETOS
A23: Equipamentos de Laboratório de Betume | B23: mês | C23: 1 | D23: 100 | E23: 2 | F23: 3901.8525 | G23: =F23*E23*C23*(D23/100) -> 7803.705
A24: Caminhão prancha 30 T | B24: mês | C24: 1 | D24: 2.5 | E24: 2 | F24: 27148.44 | G24: =F24*E24*C24*(D24/100) -> 1357.422
A26: IMÓVEIS
A27: Aluguel de escritório | B27: mês | C27: 1 | D27: 100 | E27: 2 | F27: 2942.9775 | G27: =F27*E27*C27*(D27/100) -> 5885.955
A28: Aluguel de casa para alojamento | B28: mês | C28: 1 | D28: 100 | E28: 2 | F28: 4033.83 | G28: =F28*E28*C28*(D28/100) -> 8067.66
A30: MOBILIÁRIO
A31: Mobiliário de alojamento p/ pessoal | B31: mês | C31: 1 | D31: 100 | E31: 2 | F31: 458.775 | G31: =F31*E31*C31*(D31/100) -> 917.55
A32: Mobiliário de escritório | B32: mês | C32: 1 | D32: 100 | E32: 2 | F32: 4422.54 | G32: =F32*E32*C32*(D32/100) -> 8845.08
A34: SERVIÇOS TÉCNICOS
A35: PCMSO (NR-7) | B35: und | C35: 1 | F35: 281.25 | G35: =F35*C35 -> 281.25
A36: PGR (NR-18 ) | B36: und | C36: 1 | F36: 2375.0025 | G36: =F36*C36 -> 2375.0025
A37: Exames Admissionais/Demissionais | B37: und | C37: 40 | F37: 23.1225 | G37: =F37*C37 -> 924.9
A38: Anotação de Responsabilidade Técnica | B38: und | C38: 1 | F38: 196.9125 | G38: =F38*C38 -> 196.9125
A39: OUTROS
A40: Banheiro Químico | B40: und | C40: 3 | F40: 559.26 | G40: =F40*C40 -> 1677.78
A41: SINALIZAÇÃO
A42: Placa Padrão Programa Goiás em Movimento | B42: m2 | C42: 7 | F42: 315.615 | G42: =F42*C42 -> 2209.305
A43: Sinalização - placas de sinalização (desvio / pare siga) | B43: m2 | C43: 15 | F43: 315.615 | G43: =F43*C43 -> 4734.225
A44: Cones de Sinalização | B44: und | C44: 50 | F44: 77.22 | G44: =F44*C44 -> 3861
A45: LICENÇAS AMBIENTAIS
A46: Licença de Instalação de Canteiro (fixo) | B46: und | C46: 1 | F46: 4052.28 | G46: =F46*C46 -> 4052.28
...

Sheet MOB PEROLANDIA
A1: MOBILIZAÇÃO E DEMOSMOBILIZAÇÃO - PEROLÂNDIA
A2: Equipamento | C2: Mobilizador | D2: FU (A) | E2: Hora Produtiv (B) | F2: DT” (C) | G2: Custo (D=AxB/60) | H2: Quantidade (E) | I2: Total (CxDxE)
A3: Autopropelidos
A4: 30050 | B4: CAMINHÃO APLICADOR DE MATERIAL TERMOPLÁSTICO | C4: 30050 | D4: 1 | E4: 177.4261 | F4: 386 | G4: =TRUNC(D4*E4/60,2) -> 2.95
A5: 30037 | B5: CAMINHÃO BASCULANTE 10 M3 - 15 T | C5: 30037 | D5: 1 | E5: 109.3683 | F5: 386 | G5: =TRUNC(D5*E5/60,2) -> 1.82 | H5: 1 | I5: =TRUNC(F5*G5*H5,2) -> 702.52
A6: 30036 | B6: CAMINHÃO BASCULANTE 6 M3 - 10,5 T | C6: 30036 | D6: 1 | E6: 64.9091 | F6: 386 | G6: =TRUNC(D6*E6/60,2) -> 1.08
A7: 30035 | B7: CAMINHÃO CARROCERIA MADEIRA - 15 T | C7: 30035 | D7: 1 | E7: 247.74 | F7: 386 | G7: =TRUNC(D7*E7/60,2) -> 4.12 | H7: 1 | I7: =TRUNC(F7*G7*H7,2) -> 1590.32
A8: 30125 | B8: CAMINHÃO COM BATE ESTACAS HIDRÁULICO PARA DEFENSA | C8: 30125 | D8: 1 | E8: 103.5519 | F8: 386 | G8: =TRUNC(D8*E8/60,2) -> 1.72
A9: 30120 | B9: CAMINHÃO DISTRIBUIDOR DE CIMENTO | C9: 30120 | D9: 1 | E9: 158.767 | F9: 386 | G9: =TRUNC(D9*E9/60,2) -> 2.64
A10: 31062 | B10: CAMINHÃO MUNCK (GUINDAUTO) | C10: 31062 | D10: 1 | E10: 90.6796 | F10: 386 | G10: =TRUNC(D10*E10/60,2) -> 1.51
A11: 30053 | B11: CAMINHÃO PARA HIDROSSEMEADURA | C11: 30053 | D11: 1 | E11: 107.9031 | F11: 386 | G11: =TRUNC(D11*E11/60,2) -> 1.79
A12: 30049 | B12: CAMINHÃO PARA PINTURA A FRIO COM DEMARCADOR DE FAIXAS | C12: 30049 | D12: 1 | E12: 307.6 | F12: 386 | G12: =TRUNC(D12*E12/60,2) -> 5.12
A13: 30040 | B13: CAMINHÃO TANQUE 10.000L | C13: 30040 | D13: 1 | E13: 109.5681 | F13: 386 | G13: =TRUNC(D13*E13/60,2) -> 1.82 | H13: 1 | I13: =TRUNC(F13*G13*H13,2) -> 702.52
A14: 30039 | B14: CAMINHÃO TANQUE 6.000L | C14: 30039 | D14: 1 | E14: 83.3277 | F14: 386 | G14: =TRUNC(D14*E14/60,2) -> 1.38
A15: 30021 | B15: CAMINHÃO TANQUE DISTRIBUIDOR DE ASFALTO | C15: 30021 | D15: 1 | E15: 87.3126 | F15: 386 | G15: =TRUNC(D15*E15/60,2) -> 1.45 | H15: 1 | I15: =TRUNC(F15*G15*H15,2) -> 559.7
A16: 30030 | B16: USINA MÓVEL PARA MICRO REVESTIMENTO | C16: 30030 | D16: 1 | E16: 227.2577 | F16: 386 | G16: =TRUNC(D16*E16/60,2) -> 3.78 | H16: 1 | I16: =TRUNC(F16*G16*H16,2) -> 1459.08
A17: Rebocados
A18: 30010 | B18: CARREGADEIRA DE PNEUS CAT - 924 H OU EQUIVALENTE | C18: 30105 | D18: 0.5 | E18: 285.795 | F18: 386 | G18: =TRUNC(D18*E18/60,2) -> 2.38 | H18: 1 | I18: =TRUNC(F18*G18*H18,2) -> 918.68
