Workbook
Name \A: #REF!
Name \A: #REF!
Name \A: #REF!
Name \I: #REF!
Name \I: #REF!
Name \I: #REF!
Name \I: #REF!
Name \I: #REF!
Name \P: #REF!
Name \P: #REF!
Name \P: #REF!
Name \P: #REF!
Name \S: [1]COMPOS1!#REF!
Name \S: [1]COMPOS1!#REF!
Name \S: [1]COMPOS1!#REF!
Name \S: [1]COMPOS1!#REF!
Name \z: #REF!
Name \z: #REF!
Name \z: #REF!
Name _\0: #REF!
Name _\0: #REF!
Name _\0: #REF!
Name _\1: #REF!
Name _\1: #REF!
Name _\1: #REF!
Name _\2: [2]compos1!#REF!
Name _\2: [2]compos1!#REF!
Name _\2: [2]compos1!#REF!
Name _\a: #REF!
Name _\a: #REF!
Name _\a: #REF!
Name _\I: #REF!
Name _\I: #REF!
Name _\I: #REF!
Name _\m: #REF!
Name _\m: #REF!
Name _\m: #REF!
Name _\p: #REF!
Name _\s: #REF!
Name ________\0: #REF!
Name ________\1: #REF!
Name ________\2: [2]compos1!#REF!
Name ________\2: [2]compos1!#REF!
Name ________\a: #REF!
Name ________\a: #REF!
Name ________\a: #REF!
Name ________\I: #REF!
Name ________\I: #REF!
Name ________\I: #REF!
Name ________\m: #REF!
Name ________\m: #REF!
Name ________\m: #REF!
Name ________\p: #REF!
Name ________\s: #REF!
Name _______________Ext2: '[3]P A T O 99 B'!#REF!
Name _______________Ext2: '[3]P A T O 99 B'!#REF!
Name _______________PL1: #REF!
Name _______________PL1: #REF!
Name _______________PL1: #REF!
Name ______________Ext2: '[3]P A T O 99 B'!#REF!

Sheet Orçamento
E1: ORÇAMENTO - PROJETO EXECUTIVO | H1: Data Base: | K1: R$ / m²
E2: PONTE CÓRREGO MATEIRO - GO-215 | F2: m² obra: | G2: =30*10.8 -> 324 | H2: Tabela GOINFRA T-289 (Fev/25) Tabela SICRO GO (Jan/25) | K2: =H4/G2 -> 5626.5328
B3: Código | C3: Descrição | F3: Unid. | G3: Quant. | H3: Pç. Unit. | I3: Pç. Total
B4: 1 | C4: OBRAS DE ARTE ESPECIAIS | H4: =H6+H13+H18+H23+H30+H41+H48+H56+H52+H62+H68 -> 1822996.6
C5: Serviços Preliminares
C6: Escavação | H6: =SUM(I7:I12) -> 10697.92 | J6: =H6/$H$4 -> 0.0058683158
B7: 45005 | C7: =IFERROR(VLOOKUP(B7,Tabela!$A$9:$V$563,3,0),"") -> ESCAVAÇÃO MANUAL MAT. 1ª CAT. | F7: =IFERROR(VLOOKUP(B7,Tabela!$A$9:$V$563,18,0),"") -> m3 | G7: ='MEMORIAL OAE'!T17 -> 65.52 | H7: =IFERROR(VLOOKUP(B7,Tabela!$A$9:$V$563,21,0),"") -> 116.84 | I7: =ROUND(G7*H7,2) -> 7655.36
B8: 45015 | C8: =IFERROR(VLOOKUP(B8,Tabela!$A$9:$V$563,3,0),"") -> ESCAVAÇÃO MANUAL MAT. 3ª CAT. | F8: =IFERROR(VLOOKUP(B8,Tabela!$A$9:$V$563,18,0),"") -> m3 | H8: =IFERROR(VLOOKUP(B8,Tabela!$A$9:$V$563,21,0),"") -> 478.1 | I8: =ROUND(G8*H8,2) -> 0
B9: 45590 | C9: =IFERROR(VLOOKUP(B9,Tabela!$A$9:$V$563,3,0),"") -> ESCORAMENTO CONTÍNUO EM VALAS(ESP. 2,00M) | F9: =IFERROR(VLOOKUP(B9,Tabela!$A$9:$V$563,18,0),"") -> m2 | H9: =IFERROR(VLOOKUP(B9,Tabela!$A$9:$V$563,21,0),"") -> 113.73 | I9: =ROUND(G9*H9,2) -> 0
B10: 45055 | C10: =IFERROR(VLOOKUP(B10,Tabela!$A$9:$V$563,3,0),"") -> ENSECADEIRA | F10: =IFERROR(VLOOKUP(B10,Tabela!$A$9:$V$563,18,0),"") -> m2 | G10: ='MEMORIAL OAE'!T21 -> 0 | H10: =IFERROR(VLOOKUP(B10,Tabela!$A$9:$V$563,21,0),"") -> 635 | I10: =ROUND(G10*H10,2) -> 0
B11: 45060 | C11: =IFERROR(VLOOKUP(B11,Tabela!$A$9:$V$563,3,0),"") -> ENCHIMENTO COM ARGILA | F11: =IFERROR(VLOOKUP(B11,Tabela!$A$9:$V$563,18,0),"") -> m3 | G11: ='MEMORIAL OAE'!T22 -> 0 | H11: =IFERROR(VLOOKUP(B11,Tabela!$A$9:$V$563,21,0),"") -> 116.84 | I11: =ROUND(G11*H11,2) -> 0
B12: 45430 | C12: =IFERROR(VLOOKUP(B12,Tabela!$A$9:$V$563,3,0),"") -> REATERRO APILOADO DE VALAS | F12: =IFERROR(VLOOKUP(B12,Tabela!$A$9:$V$563,18,0),"") -> m3 | G12: ='MEMORIAL OAE'!T19 -> 34.8 | H12: =IFERROR(VLOOKUP(B12,Tabela!$A$9:$V$563,21,0),"") -> 87.43 | I12: =ROUND(G12*H12,2) -> 3042.56
C13: Infra-Estrutura Estacas Raiz | H13: =SUM(I14:I17) -> 164306.42
B14: 45266 | C14: =IFERROR(VLOOKUP(B14,Tabela!$A$9:$V$563,3,0),"") -> ESTACA RAIZ PERFURADA NO SOLO - D = 40 cm | F14: =IFERROR(VLOOKUP(B14,Tabela!$A$9:$V$563,18,0),"") -> m | G14: ='MEMORIAL OAE'!T68 -> 288 | H14: =IFERROR(VLOOKUP(B14,Tabela!$A$9:$V$563,21,0),"") -> 354.87 | I14: =ROUND(G14*H14,2) -> 102202.56
B15: 45275 | C15: =IFERROR(VLOOKUP(B15,Tabela!$A$9:$V$563,3,0),"") -> ESTACA RAIZ PERFURADA NA ROCHA - D = 31 cm | F15: =IFERROR(VLOOKUP(B15,Tabela!$A$9:$V$563,18,0),"") -> m | G15: ='MEMORIAL OAE'!T69 -> 0 | H15: =IFERROR(VLOOKUP(B15,Tabela!$A$9:$V$563,21,0),"") -> 1911.87 | I15: =ROUND(G15*H15,2) -> 0
B16: 45291 | C16: =IFERROR(VLOOKUP(B16,Tabela!$A$9:$V$563,3,0),"") -> ARRASAMENTO DE ESTACAS DE CONCRETO | F16: =IFERROR(VLOOKUP(B16,Tabela!$A$9:$V$563,18,0),"") -> m3 | G16: ='MEMORIAL OAE'!T70 -> 3.01 | H16: =IFERROR(VLOOKUP(B16,Tabela!$A$9:$V$563,21,0),"") -> 739.86 | I16: =ROUND(G16*H16,2) -> 2226.98
B17: 45155 | C17: =IFERROR(VLOOKUP(B17,Tabela!$A$9:$V$563,3,0),"") -> AÇO CA50/60 AQUISIÇÃO, ARMAÇÃO E COLOCAÇÃO (INCLUSO PERDAS) | F17: =IFERROR(VLOOKUP(B17,Tabela!$A$9:$V$563,18,0),"") -> Kg | G17: ='MEMORIAL OAE'!T66 -> 3687 | H17: =IFERROR(VLOOKUP(B17,Tabela!$A$9:$V$563,21,0),"") -> 16.24 | I17: =ROUND(G17*H17,2) -> 59876.88
C18: Infra-Estrutura Blocos | H18: =SUM(I19:I22) -> 74273.22 | J18: =H18/$H$4 -> 0.040742379
B19: 45038 | C19: =IFERROR(VLOOKUP(B19,Tabela!$A$9:$V$563,3,0),"") -> FORMA CHAPA COMPENSADA PLASTIFICADA 17 mm - UTILIZAÇÃO 1X (CONFECÇÃO, INSTALAÇÃO E RETIRADA) | F19: =IFERROR(VLOOKUP(B19,Tabela!$A$9:$V$563,18,0),"") -> m2 | G19: ='MEMORIAL OAE'!T133 -> 49.92 | H19: =IFERROR(VLOOKUP(B19,Tabela!$A$9:$V$563,21,0),"") -> 240.5 | I19: =ROUND(G19*H19,2) -> 12005.76
B20: 45166 | C20: =IFERROR(VLOOKUP(B20,Tabela!$A$9:$V$563,3,0),"") -> CONCRETO FCK=30 MPA | F20: =IFERROR(VLOOKUP(B20,Tabela!$A$9:$V$563,18,0),"") -> m3 | G20: ='MEMORIAL OAE'!T131 -> 30.72 | H20: =IFERROR(VLOOKUP(B20,Tabela!$A$9:$V$563,21,0),"") -> 657.63 | I20: =ROUND(G20*H20,2) -> 20202.39
B21: 45155 | C21: =IFERROR(VLOOKUP(B21,Tabela!$A$9:$V$563,3,0),"") -> AÇO CA50/60 AQUISIÇÃO, ARMAÇÃO E COLOCAÇÃO (INCLUSO PERDAS) | F21: =IFERROR(VLOOKUP(B21,Tabela!$A$9:$V$563,18,0),"") -> Kg | G21: ='MEMORIAL OAE'!T134 -> 2545 | H21: =IFERROR(VLOOKUP(B21,Tabela!$A$9:$V$563,21,0),"") -> 16.24 | I21: =ROUND(G21*H21,2) -> 41330.8
B22: 45050 | C22: =IFERROR(VLOOKUP(B22,Tabela!$A$9:$V$563,3,0),"") -> CONCRETO FCK=15 MPA | F22: =IFERROR(VLOOKUP(B22,Tabela!$A$9:$V$563,18,0),"") -> m3 | G22: ='MEMORIAL OAE'!T132 -> 1.28 | H22: =IFERROR(VLOOKUP(B22,Tabela!$A$9:$V$563,21,0),"") -> 573.65 | I22: =ROUND(G22*H22,2) -> 734.27
C23: Meso-Estrutura | H23: =SUM(I24:I29) -> 99219.51 | J23: =H23/$H$4 -> 0.054426601
B24: 45038 | C24: =IFERROR(VLOOKUP(B24,Tabela!$A$9:$V$563,3,0),"") -> FORMA CHAPA COMPENSADA PLASTIFICADA 17 mm - UTILIZAÇÃO 1X (CONFECÇÃO, INSTALAÇÃO E RETIRADA) | F24: =IFERROR(VLOOKUP(B24,Tabela!$A$9:$V$563,18,0),"") -> m2 | G24: ='MEMORIAL OAE'!T183+'MEMORIAL OAE'!T201+'MEMORIAL OAE'!T318 -> 74.79 | H24: =IFERROR(VLOOKUP(B24,Tabela!$A$9:$V$563,21,0),"") -> 240.5 | I24: =ROUND(G24*H24,2) -> 17987
B25: 45166 | C25: =IFERROR(VLOOKUP(B25,Tabela!$A$9:$V$563,3,0),"") -> CONCRETO FCK=30 MPA | F25: =IFERROR(VLOOKUP(B25,Tabela!$A$9:$V$563,18,0),"") -> m3 | G25: ='MEMORIAL OAE'!T200+'MEMORIAL OAE'!T182 -> 19.76 | H25: =IFERROR(VLOOKUP(B25,Tabela!$A$9:$V$563,21,0),"") -> 657.63 | I25: =ROUND(G25*H25,2) -> 12994.77
B26: SICRO - 1109680 | C26: Argamassa para reparos e graouteamento | F26: m3 | G26: ='MEMORIAL OAE'!T317 -> 0.09 | H26: ='Composições SICRO'!I34 -> 4918.85 | I26: =ROUND(G26*H26,2) -> 442.7
B27: 45155 | C27: =IFERROR(VLOOKUP(B27,Tabela!$A$9:$V$563,3,0),"") -> AÇO CA50/60 AQUISIÇÃO, ARMAÇÃO E COLOCAÇÃO (INCLUSO PERDAS) | F27: =IFERROR(VLOOKUP(B27,Tabela!$A$9:$V$563,18,0),"") -> Kg | G27: ='MEMORIAL OAE'!T184+'MEMORIAL OAE'!T319+'MEMORIAL OAE'!T185+'MEMORIAL OAE'!T202 -> 2533 | H27: =IFERROR(VLOOKUP(B27,Tabela!$A$9:$V$563,21,0),"") -> 16.24 | I27: =ROUND(G27*H27,2) -> 41135.92
B28: 45235 | C28: =IFERROR(VLOOKUP(B28,Tabela!$A$9:$V$563,3,0),"") -> NEOPRENE | F28: =IFERROR(VLOOKUP(B28,Tabela!$A$9:$V$563,18,0),"") -> Kg | G28: ='MEMORIAL OAE'!T321 -> 123.07692 | H28: =IFERROR(VLOOKUP(B28,Tabela!$A$9:$V$563,21,0),"") -> 64.76 | I28: =ROUND(G28*H28,2) -> 7970.46
B29: 45135 | C29: =IFERROR(VLOOKUP(B29,Tabela!$A$9:$V$563,3,0),"") -> ESCORAMENTO PARA PONTE | F29: =IFERROR(VLOOKUP(B29,Tabela!$A$9:$V$563,18,0),"") -> m3 | G29: ='MEMORIAL OAE'!T204 -> 141.57 | H29: =IFERROR(VLOOKUP(B29,Tabela!$A$9:$V$563,21,0),"") -> 132.01 | I29: =ROUND(G29*H29,2) -> 18688.66
C30: Super-Estrutura (Longarina) | H30: =SUM(I31:I40) -> 306231.28 | J30: =H30/$H$4 -> 0.16798236
B31: 45038 | C31: =IFERROR(VLOOKUP(B31,Tabela!$A$9:$V$563,3,0),"") -> FORMA CHAPA COMPENSADA PLASTIFICADA 17 mm - UTILIZAÇÃO 1X (CONFECÇÃO, INSTALAÇÃO E RETIRADA) | F31: =IFERROR(VLOOKUP(B31,Tabela!$A$9:$V$563,18,0),"") -> m2 | G31: ='MEMORIAL OAE'!T334 -> 211.68 | H31: =IFERROR(VLOOKUP(B31,Tabela!$A$9:$V$563,21,0),"") -> 240.5 | I31: =ROUND(G31*H31,2) -> 50909.04
B32: 45167 | C32: =IFERROR(VLOOKUP(B32,Tabela!$A$9:$V$563,3,0),"") -> CONCRETO FCK=35 MPA | F32: =IFERROR(VLOOKUP(B32,Tabela!$A$9:$V$563,18,0),"") -> m3 | G32: ='MEMORIAL OAE'!T333 -> 52.92 | H32: =IFERROR(VLOOKUP(B32,Tabela!$A$9:$V$563,21,0),"") -> 697.17 | I32: =ROUND(G32*H32,2) -> 36894.24
B33: 45155 | C33: =IFERROR(VLOOKUP(B33,Tabela!$A$9:$V$563,3,0),"") -> AÇO CA50/60 AQUISIÇÃO, ARMAÇÃO E COLOCAÇÃO (INCLUSO PERDAS) | F33: =IFERROR(VLOOKUP(B33,Tabela!$A$9:$V$563,18,0),"") -> Kg | G33: ='MEMORIAL OAE'!T335 -> 13450 | H33: =IFERROR(VLOOKUP(B33,Tabela!$A$9:$V$563,21,0),"") -> 16.24 | I33: =ROUND(G33*H33,2) -> 218428
B34: SICRO - 4507958 | C34: Cordoalha engraxada CP 190 RB D = 12,7 mm - fornecimento, preparo e colocação | F34: kg | G34: ='MEMORIAL OAE'!T336 -> 0 | I34: =ROUND(G34*H34,2) -> 0
B35: SICRO - 4507783 | C35: Ancoragem ativa para lajes para cordoalhas engraxadas D = 12,7 mm com placa de ancoragem, cunha tripartida e protensão | F35: und. | G35: ='MEMORIAL OAE'!T337 -> 0 | I35: =ROUND(G35*H35,2) -> 0
B36: SICRO - 4507866 | C36: Ancoragem passiva para lajes para cordoalhas engraxadas D = 12,7 mm com placa de ancoragem e cunha tripartida - fornecimento e instalação | F36: und. | G36: ='MEMORIAL OAE'!T338 -> 0 | I36: =ROUND(G36*H36,2) -> 0
B37: SICRO - 3806420 | C37: Lançamento de viga pré-moldada de até 500kN com utilização de guindaste | F37: und. | I37: =ROUND(G37*H37,2) -> 0
B38: SICRO - 3806420 | C38: Lançamento de viga pré-moldada de 500 a 750 kN com utilização de guindaste | F38: und. | I38: =ROUND(G38*H38,2) -> 0
B39: SICRO - 3806422 | C39: Lançamento de viga pré-moldada de 750 a 1000 kN com utilização de guindaste | F39: und. | G39: ='[40]MEMORIAL OAE'!T286 -> 0 | I39: =ROUND(G39*H39,2) -> 0
B40: SICRO - 5915333 | C40: Transporte em cavalo mecânico com dollys de 5 e 4 eixos com capacidade de 111 t - rodovia pavimentada | F40: T.km | G40: ='[40]MEMORIAL OAE'!T287 -> 0 | I40: =ROUND(G40*H40,2) -> 0
...

Sheet Cronograma
A1: CRONOGRAMA FÍSICO-FINANCEIRO
A2: =[41]Orçamento!E2 -> PONTE CÓRREGO MATEIRO - GO-215
A8: FÍSICO | B8: ATIVIDADES | C8: VALOR ETAPA | E8: 1º MÊS | F8: 2º MÊS | G8: 3º MÊS | H8: 4º MÊS | I8: 5º MÊS | J8: 6º MÊS | K8: 7º MÊS | L8: 8º MÊS | M8: 9º MÊS | N8: 10º MÊS | O8: 11º MÊS | P8: 12º MÊS
B9: Serviços Preliminares | C9: =Orçamento!H6 -> 10697.92 | E9: =$C9*E11 -> 10697.92
E11: 1 | R11: =SUM(E11:P11) -> 1
B12: Infra-Estrutura | C12: =Orçamento!H13+Orçamento!H18 -> 238579.64 | E12: =$C12*E14 -> 71573.892 | F12: =$C12*F14 -> 71573.892 | G12: =$C12*G14 -> 95431.856
E14: 0.3 | F14: 0.3 | G14: 0.4 | R14: =SUM(E14:P14) -> 1
B15: Meso-Estrutura | C15: =Orçamento!H23 -> 99219.51 | F15: =$C15*F17 -> 29765.853 | G15: =$C15*G17 -> 29765.853 | H15: =$C15*H17 -> 39687.804
F17: 0.3 | G17: 0.3 | H17: 0.4 | R17: =SUM(E17:P17) -> 1
B18: Superestrutura | C18: =Orçamento!H30+Orçamento!H41+Orçamento!H48+Orçamento!H52+Orçamento!H56 -> 1333892.2 | H18: =$C18*H20 -> 266778.43 | I18: =$C18*I20 -> 266778.43 | J18: =$C18*J20 -> 400167.65 | K18: =$C18*K20 -> 400167.65
H20: 0.2 | I20: 0.2 | J20: 0.3 | K20: 0.3 | R20: =SUM(E20:P20) -> 1
B21: Diversos | C21: =Orçamento!H62 -> 140607.41 | K21: =$C21*K23 -> 70303.705 | L21: =$C21*L23 -> 70303.705
K23: 0.5 | L23: 0.5 | R23: =SUM(E23:P23) -> 1
B24: Admistração / Canteiro / Mobilização | C24: =[41]Orçamento!H67 -> 0 | E24: =$C24*E26 -> 0 | F24: =$C24*F26 -> 0 | G24: =$C24*G26 -> 0 | H24: =$C24*H26 -> 0 | I24: =$C24*I26 -> 0 | J24: =$C24*J26 -> 0 | K24: =$C24*K26 -> 0 | L24: =$C24*L26 -> 0
E26: 0.125 | F26: 0.125 | G26: 0.125 | H26: 0.125 | I26: 0.125 | J26: 0.125 | K26: 0.125 | L26: 0.125 | R26: =SUM(E26:P26) -> 1
R29: =SUM(E29:P29) -> 0
R32: =SUM(E32:P32) -> 0
R35: =SUM(E35:P35) -> 0
A36: FINANCEIRO | B36: TOTAL | C36: =C9+C12+C15+C18+C21+C24+C27+C30 -> 1822996.6
B37: Parcial (R$) | E37: =SUM(E9,E12,E15,E18,E30,E21,E24,E27,E33) -> 82271.812 | F37: =SUM(F9,F12,F15,F18,F30,F21,F24,F27,F33) -> 101339.75 | G37: =SUM(G9,G12,G15,G18,G30,G21,G24,G27,G33) -> 125197.71 | H37: =SUM(H9,H12,H15,H18,H30,H21,H24,H27,H33) -> 306466.24 | I37: =SUM(I9,I12,I15,I18,I30,I21,I24,I27,I33) -> 266778.43 | J37: =SUM(J9,J12,J15,J18,J30,J21,J24,J27,J33) -> 400167.65 | K37: =SUM(K9,K12,K15,K18,K30,K21,K24,K27,K33) -> 470471.35 | L37: =SUM(L9,L12,L15,L18,L30,L21,L24,L27,L33) -> 70303.705 | ... P37: =SUM(P9,P12,P15,P18,P30,P21,P24,P27,P33) -> 0
B38: Percentual Parcial %) | E38: =E37/$C$36 -> 0.045129986 | F38: =F37/$C$36 -> 0.05558965 | G38: =G37/$C$36 -> 0.068676873 | H38: =H37/$C$36 -> 0.16811125 | I38: =I37/$C$36 -> 0.14634061 | J38: =J37/$C$36 -> 0.21951091 | K38: =K37/$C$36 -> 0.25807582 | L38: =L37/$C$36 -> 0.038564912 | ... P38: =P37/$C$36 -> 0
B39: Acumulado (R$) | E39: =E37 -> 82271.812 | F39: =F37+E39 -> 183611.56 | G39: =G37+F39 -> 308809.27 | H39: =H37+G39 -> 615275.5 | I39: =I37+H39 -> 882053.93 | J39: =J37+I39 -> 1282221.6 | K39: =K37+J39 -> 1752692.9 | L39: =L37+K39 -> 1822996.6 | M39: =M37+#REF! -> #REF! | N39: =N37+M39 -> #REF! | O39: =O37+N39 -> #REF! | P39: =P37+O39 -> #REF! | R39: =C36-[41]Orçamento!H4 -> -88080.35
B40: Percentual Acumulado (%) | E40: =E39/$C$36 -> 0.045129986 | F40: =F39/$C$36 -> 0.10071964 | G40: =G39/$C$36 -> 0.16939651 | H40: =H39/$C$36 -> 0.33750775 | I40: =I39/$C$36 -> 0.48384836 | J40: =J39/$C$36 -> 0.70335927 | K40: =K39/$C$36 -> 0.96143509 | L40: =L39/$C$36 -> 1 | ... P40: =P39/$C$36 -> #REF! | R40: =C36-[41]Orçamento!H4 -> -88080.35
A41: =[41]Orçamento!H2 -> Tabela GOINFRA T-289 (Fev/25) Tabela SICRO GO (Jan/25)

Sheet MEMORIAL OAE
A1: MEMORIA DE CÁLCULO DE QUANTIDADES - CÓRREGO MATEIRO - GO-215 - MOLDADO IN LOCO
A4: ESCAVAÇÃO E REATERRO
A5: O volume de escavação é estimado a partir da dimensão do bloco, assim como a profundidade da escavação
D7: B1 a B4
C8: Comprimento C: | D8: =G125 -> 2 | E8: m | G8: m | I8: m | K8: m
C9: Largura L: | D9: =G126 -> 3.2 | E9: m | G9: m | I9: m | K9: m
C10: Altura do Bloco/sapata H: | D10: =G127 -> 1.2 | E10: m | G10: m | I10: m | K10: m
C11: Quant. Blocos/sapatas Q: | D11: =G128 -> 4
C12: Altura de Escavação A: | D12: =(2.15+0.45)/2 -> 1.3 | E12: m | G12: m | I12: m | K12: m
C13: Folga Mat. 1ª F1: | D13: 0.5 | E13: m | G13: m | I13: m | K13: m
C14: Folga Mat. 3ª F2: | E14: m | G14: m | I14: m | K14: m
C15: Inclinação Mat. 1ª I1: | D15: 0
C16: Inclinação Mat. 3ª I2: | D16: 0 | P16: Quadro final de valores
P17: Volume de escavação 1ª Cat | T17: =D18+F18+H18+J18 -> 65.52
C18: Vol. Material 1ª Cat.:* | D18: =(D8+2*D13)*(D9+2*D13)*(D12)*D11 -> 65.52 | E18: m³ | F18: =(F8+2*F13)*(F9+2*F13)*(F12-F10)*F11 -> 0 | G18: m³ | H18: =(H8+2*H13)*(H9+2*H13)*(H12-H10)*H11 -> 0 | I18: m³ | J18: =(((((J8+2*J13)*(J9+2*J13))+(J8+2*J13)+2*((J12-J10)*J15))+(((J8+2*J13)+2*((J12-J10)*J15))*((J9+2*J13)+2*((J12-J10)*J15))))/2)*(J12-J10)*J11 -> 0 | K18: m³ | P18: Volume de escavação 3ª Cat | T18: =D19+F19+H19+J19 -> 0
C19: Vol. Material 3ª Cat.:** | E19: m³ | F19: =(F8+2*F14)*(F9+2*F14)*F10*F11 -> 0 | G19: m³ | H19: =(H8+2*H14)*(H9+2*H14)*H10*H11 -> 0 | I19: m³ | J19: =(J8+2*J14)*(J9+2*J14)*(J10+J14)*J11 -> 0 | K19: m³ | P19: Volume de reaterro**** | T19: =T17+T18-T131 -> 34.8
P20: Escoramento Contínuo | T20: =D22+F22+H22+J22 -> 0
C21: Escoramento (sim/não) | D21: NÃO | F21: NÃO | H21: NÃO | J21: NÃO | P21: Ensecadeira | T21: =D33 -> 0
C22: Área de Escoramento *** | D22: =IF(D21="sim",((D8+2*D13)*2+(D9+2*D13)*2)*D11*D12,0) -> 0 | F22: =IF(F21="sim",((F8+2*F13)*2+(F9+2*F13)*2)*F11*F12,0) -> 0 | H22: =IF(H21="sim",((H8+2*H13)*2+(H9+2*H13)*2)*H11*H12,0) -> 0 | J22: =IF(J21="sim",((J8+J13)*(J9+J13)*J12*J11),0) -> 0 | P22: Enchimento em Argila | T22: =D38 -> 0
A24: * Vol 1ª = (((C+2*F1)*(L+2*F1)+((C+2*F1)*(L+2*F1)*((A-H)*I1*2))/2)*(A-H)*Q
A25: ** Vol 3ª = (C+2*F2)*((L+2*F2)*H
A26: *** Escor = (2*(C+2*F1)+2*(L+2*F1))*A*Q
A27: **** Vol reat = Vol escav - Vol Conc. Sapata
C29: Comp. Ext. Ensecadeira C: | E29: m
C30: Comp. Int. Ensecadeira L: | E30: m
C31: Altura Esecadeira H: | E31: m
C32: Quantidade: | E32: un
C33: *Área de Ensecadeira A: = | D33: =ROUND((2*(D29+D30)*D31+2*((D29-2*D35)+(D30-2*D35))*D31),2)*D32 -> 0 | E33: m²
C35: Largura de enchimento L1: | E35: m
C36: Altura de enchimento H1: | E36: m
C37: Quantidade: | E37: un
C38: **Volume de enchimento: | D38: =D35*D36*D29*2+D35*D36*(D30-D35*2)*2*D37 -> 0 | E38: m³
A40: * Área da ensecadeira = (C+L)*2*H+((C-2*L1)+(L-2*L1))*2*H
A41: ** Vol. De enchimento = 2*C*L1*H1+2*(L-L1)*L1*H1
A43: Escavação: | B43: A*B*H*n | G43: 1ª Cat | K43: 3ª Cat
F44: A= | G44: =$G$125+2*0.6 -> 3.2 | H44: metros | J44: A= | K44: =$G$125+2*0.6 -> 3.2 | L44: metros
F45: B= | G45: =$G$126+2*0.6 -> 4.4 | H45: metros | J45: B= | K45: =$G$126+2*0.6 -> 4.4 | L45: metros
F46: Hm= | G46: =$G$127+2 -> 3.2 | H46: metros | J46: Hm= | K46: =$G$127+0.5 -> 1.7 | L46: metros
F47: Hb= | G47: 2 | H47: metros | J47: Hb= | K47: 0.7 | L47: metros
F48: n= | H48: unid. | J48: n= | L48: unid.
...

Sheet Transporte
B1: MEMORIAL DE CÁLCULO - OBRA DE ARTE ESPECIAL
B3: =Orçamento!E2 -> PONTE CÓRREGO MATEIRO - GO-215
B6: TRANSPORTES
B8: Tranporte Local de Material Básico ( 47050) | I8: Terra | K8: Asfalto
B9: Serviço | C9: Referência | D9: Material | E9: Quant. | F9: Consumo | G9: Unid. | H9: Quant. (ton) | I9: DMT | J9: Quant. (t x km) | K9: DMT Asf. | L9: Quant. (t x km)
B10: Forma | C10: 45150 | D10: Madeira | E10: =Orçamento!G19+Orçamento!G24+Orçamento!G31+Orçamento!G42+Orçamento!G49+Orçamento!G53 -> 1039.45 | F10: =((0.075*0.075*0.44922)+(0.017*0.4043)+(0.025*0.05*0.19908)+(0.025*0.07*2.09003)+(0.025*0.3*0.35938))*1.1 -> 0.017601887 | G10: ton / m² | H10: =ROUND(F10*E10,2) -> 18.3 | I10: =DT´s!$E$6 -> 5 | J10: =ROUND(I10*H10,2) -> 91.5 | K10: =DT´s!$F$6 -> 0 | L10: =ROUND(K10*H10,2) -> 0
B11: Escoramento para ponte | C11: 45135 | D11: Madeira | E11: =Orçamento!G46+Orçamento!G29 -> 1989.44 | F11: =(PI()*(0.06^2)*(0.4))+((PI()*((0.1)^2))*0.25)+(0.025*0.07*1)*1.1 -> 0.014302875 | G11: ton / m² | H11: =ROUND(F11*E11,2) -> 28.45 | I11: =DT´s!$E$6 -> 5 | J11: =ROUND(I11*H11,2) -> 142.25 | K11: =DT´s!$F$6 -> 0 | L11: =ROUND(K11*H11,2) -> 0
B12: Escoramento contínuo | C12: SICRO - 2106292 | D12: Madeira | E12: =Orçamento!G9 -> 0 | F12: 0.0218 | G12: ton / m² | H12: 2.74 | I12: =DT´s!$E$6 -> 5 | J12: =ROUND(I12*H12,2) -> 13.7 | K12: =DT´s!$F$6 -> 0 | L12: =ROUND(K12*H12,2) -> 0
B13: Aço CA-50 / 60 | C13: 45155 | D13: Aço | E13: =Orçamento!G17+Orçamento!G21+Orçamento!G27+Orçamento!G33+Orçamento!G45+Orçamento!G50+Orçamento!G54 -> 43221.04 | F13: 0.0011 | G13: kg / ton | H13: =ROUND(F13*E13,2) -> 47.54 | I13: =DT´s!$E$6 -> 5 | J13: =ROUND(I13*H13,2) -> 237.7 | K13: =DT´s!$F$6 -> 0 | L13: =ROUND(K13*H13,2) -> 0
B14: Cordoalha Aço CP-190 | C14: SICRO - 4507958 | D14: Cordoalha | E14: =Orçamento!G34 -> 0 | F14: 0.001 | G14: kg / ton | H14: =ROUND(F14*E14,2) -> 0 | I14: =DT´s!$E$6 -> 5 | J14: =ROUND(I14*H14,2) -> 0 | K14: =DT´s!$F$6 -> 0 | L14: =ROUND(K14*H14,2) -> 0
B15: Estaca metálica | D15: Estaca | F15: =(62)/1000 -> 0.062 | G15: ton / m | H15: =ROUND(F15*E15,2) -> 0 | I15: =DT´s!$E$6 -> 5 | J15: =ROUND(I15*H15,2) -> 0 | K15: =DT´s!$F$6 -> 0 | L15: =ROUND(K15*H15,2) -> 0
B16: Ancoragens | C16: SICRO - 4507783 | D16: Ancoragem | E16: =Orçamento!G35+Orçamento!G36 -> 0 | F16: 0.0013 | G16: kg / ton | H16: =ROUND(F16*E16,2) -> 0 | I16: =DT´s!$E$6 -> 5 | J16: =ROUND(I16*H16,2) -> 0 | K16: =DT´s!$F$6 -> 0 | L16: =ROUND(K16*H16,2) -> 0
G17: Quantidade Total de Material Básico (ton): | H17: =SUM(H10:H16) -> 97.03 | J17: =SUM(J10:J16) -> 485.15 | L17: =SUM(L10:L16) -> 0
B19: Tranporte Comercial de Material Básico (40451) | I19: Terra | K19: Asfalto
B20: Serviço | C20: Referência | D20: Material | E20: Quant. | F20: Consumo | G20: Unid. | H20: Quant. (ton) | I20: DMT | J20: Quant. (t x km) | K20: DMT | L20: Quant. (t x km)
B21: Cordoalha Aço CP-190 | C21: =C14 -> SICRO - 4507958 | D21: Cordoalha | E21: =E14 -> 0 | F21: 0.001 | G21: kg / ton | H21: =ROUND(F21*E21,2) -> 0 | I21: =DT´s!$E$12 -> 0 | J21: =ROUND(I21*H21,2) -> 0 | K21: =DT´s!$F$12 -> 0 | L21: =ROUND(K21*H21,2) -> 0
B22: Ancoragens | C22: =C16 -> SICRO - 4507783 | D22: Ancoragem | E22: =E16 -> 0 | F22: =F16 -> 0.0013 | G22: kg / ton | H22: =ROUND(F22*E22,2) -> 0 | I22: =DT´s!$E$12 -> 0 | J22: =ROUND(I22*H22,2) -> 0 | K22: =DT´s!$F$12 -> 0 | L22: =ROUND(K22*H22,2) -> 0
B23: Argamassa Estaca Raiz Ø 40 | C23: SICRO - 2306066 | D23: Cimento | E23: =Orçamento!G14+Orçamento!G15 -> 288 | F23: =0.083 -> 0.083 | G23: ton / m | H23: =ROUND(F23*E23,2) -> 23.9 | I23: =DT´s!$E$10 -> 0 | J23: =ROUND(I23*H23,2) -> 0 | K23: =DT´s!$F$10 -> 61 | L23: =ROUND(K23*H23,2) -> 1457.9
B24: Argamassa Pedra Argamassada | C24: 42856 | D24: Cimento | E24: =Orçamento!G64 -> 392.73 | F24: =0.15*0.35 -> 0.0525 | G24: ton / m | H24: =ROUND(F24*E24,2) -> 20.62 | I24: =DT´s!$E$10 -> 0 | J24: =ROUND(I24*H24,2) -> 0 | K24: =DT´s!$F$10 -> 61 | L24: =ROUND(K24*H24,2) -> 1257.82
B25: Concreto Fck 15 Mpa | C25: 45050 | D25: Cimento | E25: =Orçamento!G22 -> 1.28 | F25: 0.332 | G25: ton / m³ | H25: =ROUND(F25*E25,2) -> 0.42 | I25: =DT´s!$E$10 -> 0 | J25: =ROUND(I25*H25,2) -> 0 | K25: =DT´s!$F$10 -> 61 | L25: =ROUND(K25*H25,2) -> 25.62
B26: Concreto Fck 20MPa | C26: 45125 | D26: Cimento | E26: 0 | F26: 0.364 | G26: ton / m³ | H26: =ROUND(F26*E26,2) -> 0 | I26: =DT´s!$E$10 -> 0 | J26: =ROUND(I26*H26,2) -> 0 | K26: =DT´s!$F$10 -> 61 | L26: =ROUND(K26*H26,2) -> 0
B27: Concreto Fck 25MPa | C27: 45165 | D27: Cimento | E27: =Orçamento!G43+Orçamento!G67 -> 0 | F27: 0.389 | G27: ton / m³ | H27: =ROUND(F27*E27,2) -> 0 | I27: =DT´s!$E$10 -> 0 | J27: =ROUND(I27*H27,2) -> 0 | K27: =DT´s!$F$10 -> 61 | L27: =ROUND(K27*H27,2) -> 0
B28: Concreto Fck 30MPa | C28: 45166 | D28: Cimento | E28: =Orçamento!G20+Orçamento!G25+Orçamento!G50 -> 74.38 | F28: 0.422 | G28: ton / m³ | H28: =ROUND(F28*E28,2) -> 31.39 | I28: =DT´s!$E$10 -> 0 | J28: =ROUND(I28*H28,2) -> 0 | K28: =DT´s!$F$10 -> 61 | L28: =ROUND(K28*H28,2) -> 1914.79 | N28: =Orçamento!G55+Orçamento!G51+Orçamento!G44+Orçamento!G32+Orçamento!G25+Orçamento!G20 -> 3815.93
B29: Concreto Fck 35MPa | C29: 45167 | D29: Cimento | E29: =Orçamento!G54+Orçamento!G44+Orçamento!G32 -> 205.59 | F29: 0.467 | G29: ton / m³ | H29: =ROUND(F29*E29,2) -> 96.01 | I29: =DT´s!$E$10 -> 0 | J29: =ROUND(I29*H29,2) -> 0 | K29: =DT´s!$F$10 -> 61 | L29: =ROUND(K29*H29,2) -> 5856.61
B30: Concreto Fck 40MPa | C30: 40168 | D30: Cimento | E30: 0 | F30: 0.516 | G30: ton / m³ | H30: =ROUND(F30*E30,2) -> 0 | I30: =DT´s!$E$10 -> 0 | J30: =ROUND(I30*H30,2) -> 0 | K30: =DT´s!$F$10 -> 61 | L30: =ROUND(K30*H30,2) -> 0
B31: Forma Comum de Madeira | C31: =C10 -> 45150 | D31: Madeira | E31: =E10 -> 1039.45 | F31: =F10 -> 0.017601887 | G31: ton / m² | H31: =ROUND(F31*E31,2) -> 18.3 | I31: =DT´s!$E$7 -> 0 | J31: =ROUND(I31*H31,2) -> 0 | K31: =DT´s!$F$7 -> 117 | L31: =ROUND(K31*H31,2) -> 2141.1
B32: Escoramento para ponte | C32: =C11 -> 45135 | D32: Madeira | E32: =E11 -> 1989.44 | F32: =F11 -> 0.014302875 | G32: ton / m³ | H32: =ROUND(F32*E32,2) -> 28.45 | I32: =DT´s!$E$7 -> 0 | J32: =ROUND(I32*H32,2) -> 0 | K32: =DT´s!$F$7 -> 117 | L32: =ROUND(K32*H32,2) -> 3328.65
B33: Estaca metálica | C33: =C15 -> 0 | D33: Estaca | E33: =E15 -> 0 | F33: =(62)/1000 -> 0.062 | G33: ton / m | H33: =ROUND(F33*E33,2) -> 0 | I33: =DT´s!$E$7 -> 0 | J33: =ROUND(I33*H33,2) -> 0 | K33: =DT´s!$F$7 -> 117 | L33: =ROUND(K33*H33,2) -> 0
B34: Escoramento contínuo | C34: SICRO - 2106292 | D34: Madeira | E34: =E12 -> 0 | F34: 0.0218 | G34: ton / m² | H34: =ROUND(F34*E34,2) -> 0 | I34: =DT´s!$E$7 -> 0 | J34: =ROUND(I34*H34,2) -> 0 | K34: =DT´s!$F$7 -> 117 | L34: =ROUND(K34*H34,2) -> 0
B35: Aço CA-50 / 60 | C35: =C13 -> 45155 | D35: Aço | E35: =E13 -> 43221.04 | F35: 0.0011 | G35: kg / ton | H35: =ROUND(F35*E35,2) -> 47.54 | I35: =DT´s!$E$7 -> 0 | J35: =ROUND(I35*H35,2) -> 0 | K35: =DT´s!$F$7 -> 117 | L35: =ROUND(K35*H35,2) -> 5562.18
G36: Quantidade Total de Material Básico (ton): | H36: =SUM(H21:H35) -> 266.63 | J36: =SUM(J21:J35) -> 0 | L36: =SUM(L21:L35) -> 21544.67
B38: Transporte Local de Concreto | I38: Terra | K38: Asfalto
B39: Serviço | C39: Referência | D39: Material | E39: Quant. | F39: Consumo | G39: Unid. | H39: Quant. (m³) | I39: DMT | J39: Quant. (m³ x km) | K39: DMT | L39: Quant. (m³ x km)
B40: Concreto Magro | D40: Concreto | E40: =E25 -> 1.28 | F40: 1 | G40: m³ / m³ | H40: =F40*E40 -> 1.28 | I40: =DT´s!$E$6 -> 5 | J40: =ROUND(I40*H40,2) -> 6.4 | K40: =DT´s!$F$6 -> 0 | L40: =ROUND(K40*H40,2) -> 0
B41: Concreto Ciclopico | D41: Concreto | F41: 1 | G41: m³ / m³ | H41: =F41*E41 -> 0 | I41: =DT´s!$E$6 -> 5 | J41: =ROUND(I41*H41,2) -> 0 | K41: =DT´s!$F$6 -> 0 | L41: =ROUND(K41*H41,2) -> 0
B42: Concreto Fck 20MPa | D42: Concreto | E42: =E26 -> 0 | F42: 1 | G42: m³ / m³ | H42: =F42*E42 -> 0 | I42: =DT´s!$E$6 -> 5 | J42: =ROUND(I42*H42,2) -> 0 | K42: =DT´s!$F$6 -> 0 | L42: =ROUND(K42*H42,2) -> 0
B43: Concreto Fck 25MPa | D43: Concreto | E43: =E27 -> 0 | F43: 1 | G43: m³ / m³ | H43: =F43*E43 -> 0 | I43: =DT´s!$E$6 -> 5 | J43: =ROUND(I43*H43,2) -> 0 | K43: =DT´s!$F$6 -> 0 | L43: =ROUND(K43*H43,2) -> 0
B44: Concreto Fck 30MPa | D44: Concreto | E44: =E28 -> 74.38 | F44: 1 | G44: m³ / m³ | H44: =F44*E44 -> 74.38 | I44: =DT´s!$E$6 -> 5 | J44: =ROUND(I44*H44,2) -> 371.9 | K44: =DT´s!$F$6 -> 0 | L44: =ROUND(K44*H44,2) -> 0
B45: Concreto Fck 35MPa | D45: Concreto | E45: =E29 -> 205.59 | F45: 1 | G45: m³ / m³ | H45: =F45*E45 -> 205.59 | I45: =DT´s!$E$6 -> 5 | J45: =ROUND(I45*H45,2) -> 1027.95 | K45: =DT´s!$F$6 -> 0 | L45: =ROUND(K45*H45,2) -> 0
B46: Concreto Fck 40MPa | D46: Concreto | E46: =E30 -> 0 | F46: 1 | G46: m³ / m³ | H46: =F46*E46 -> 0 | I46: =DT´s!$E$6 -> 5 | J46: =ROUND(I46*H46,2) -> 0 | K46: =DT´s!$F$6 -> 0 | L46: =ROUND(K46*H46,2) -> 0
...

Sheet DT´s
A1: MAPA DT´S ORIGEM DOS MATERIAIS
A3: =[42]Orçamento!E2 -> PONTE CÓRREGO MATEIRO - GO-215
A5: Item | B5: Material | C5: Origem | D5: Destino | E5: DMT Terra | F5: DMT Asfalto | G5: Observação
A6: 1 | B6: Diversos | C6: Canteiro | D6: Obra | E6: 5
A7: 2 | B7: Aço / Madeira / Cordoalha | C7: Goiania | D7: Canteiro | E7: 0 | F7: 117
A8: 3 | B8: Brita / Pedra | C8: Pedreira | D8: Canteiro | F8: 101 | G8: Goyas Britas
A9: 4 | B9: Areia | C9: Areal | D9: Canteiro | F9: 29 | G9: Areal 02 - Edealina - GO
A10: 5 | B10: Cimento | C10: Cimenteira | D10: Canteiro | E10: 0 | F10: 61 | G10: Votorantim (Edealina)
A11: 6
A12: 7
A13: 8
A14: 9
A15: 10
A16: 11
B18: Aço / Madeira / Cordoalha | G18: Areia
B36: Cimento | G36: Brita / Pedra

Sheet Consumos
A4: CONSUMOS - OBRAS LONGARINAS PRÉ-MOLDADAS
A5: Elementos | B5: Obra 1 | C5: Obra 2 | D5: Obra 3 | E5: Obra 4 | F5: Obra 5 | G5: Obra 6 | H5: Obra 7 | I5: Obra 8 | J5: Obra 9 | K5: Obra 10 | L5: Média
A6: Estaca Raiz (kg/m) | B6: 14 | C6: 25 | D6: 14 | E6: 17 | G6: 18 | I6: 19 | J6: 11 | K6: 16 | L6: =ROUND((AVERAGE(B6:K6)),0) -> 17
A7: Blocos | B7: 60 | C7: 71 | D7: 57 | E7: 50 | F7: 61 | G7: 64 | H7: 49 | I7: 51 | J7: 60 | K7: 55 | L7: =ROUND((AVERAGE(B7:K7)),0) -> 58
A8: Pilares | B8: 88 | C8: 85 | D8: 93 | E8: 55 | F8: 309 | G8: 60 | H8: 433 | I8: 85 | J8: 156 | K8: 52 | L8: =ROUND((AVERAGE(B8:K8)),0) -> 142
A9: Travessas / alas / cortinas | B9: 171 | C9: 168 | D9: 135 | E9: 142 | F9: 99 | G9: 158 | H9: 176 | I9: 211 | J9: 262 | K9: 166 | L9: =ROUND((AVERAGE(B9:K9)),0) -> 169
A10: Longarinas (CA-50) | B10: 146 | C10: 181 | D10: 200 | E10: 183 | F10: 174 | G10: 160 | H10: 183 | I10: 161 | J10: 124 | K10: 176 | L10: =ROUND((AVERAGE(B10:K10)),0) -> 169
A11: Longarinas (CP) | B11: 41 | C11: 38 | D11: 47 | E11: 65 | F11: 46 | G11: 65 | H11: 52 | I11: 45 | J11: 44 | K11: 45 | L11: =ROUND((AVERAGE(B11:K11)),0) -> 49
A12: Transversinas | B12: 140 | C12: 120 | D12: 145 | E12: 134 | F12: 130 | G12: 172 | H12: 226 | I12: 140 | J12: 123 | K12: 117 | L12: =ROUND((AVERAGE(B12:K12)),0) -> 145
A13: Pré lajes | B13: 325 | C13: 319 | D13: 550 | E13: 360 | F13: 209 | G13: 204 | H13: 193 | I13: 299 | J13: 340 | K13: 272 | L13: =ROUND((AVERAGE(B13:K13)),0) -> 307
A14: Lajes | B14: 108 | C14: 94 | D14: 184 | E14: 81 | F14: 148 | G14: 169 | H14: 97 | I14: 100 | J14: 102 | K14: 95 | L14: =ROUND((AVERAGE(B14:K14)),0) -> 118
A15: Laje de Transição | B15: 137 | C15: 122 | D15: 145 | E15: 72 | F15: 80 | G15: 87 | H15: 89 | I15: 55 | J15: 114 | K15: 154 | L15: =ROUND((AVERAGE(B15:K15)),0) -> 106
A16: New Jerseys | B16: 89 | C16: 84 | D16: 71 | E16: 87 | F16: 86 | G16: 86 | H16: 73 | I16: 118 | J16: 90 | K16: 89 | L16: =ROUND((AVERAGE(B16:K16)),0) -> 87
A18: Obra 1: | B18: Ponte Rio Murere Vazante I - BR-158/MS - DNIT | G18: Obra 6: | H18: Viaduto GO-139 com GO-213 - GOINFRA
A19: Obra 2: | B19: Ponte Rio Pintado - GO-154 - GOINFRA | G19: Obra 7: | H19: Viaduto GO-020 com GO-536 - AGETOP
A20: Obra 3: | B20: Viaduto BR-324 (Feira de Santana) - DNIT | G20: Obra 8: | H20: Viaduto SINOP - P.M. Sinop
A21: Obra 4: | B21: Ponte Ribeirão Água Limpa - CODEVASF | G21: Obra 9: | H21: Ponte Av. Cidade Livre - P.M. Aparecida de Goiânia
A22: Obra 5: | B22: Viaduto acesso ARAUCO MS-377 - AGESUL | G22: Obra 10: | H22: Ponte Rio Aquidauana - BR-419/MS - DNIT
A25: CONSUMOS - OBRAS LONGARINAS MOLDADAS IN LOCO
A26: Elementos | B26: Obra 1 | C26: Obra 2 | D26: Obra 3 | E26: Obra 4 | F26: Obra 5 | G26: Obra 6 | H26: Obra 7 | I26: Obra 8 | J26: Obra 9 | K26: Obra 10 | L26: Média
A27: Estaca Raiz (kg/m) | B27: 13 | C27: 28 | E27: 29 | F27: 9 | G27: 19 | H27: 9 | K27: 8 | L27: =ROUND((AVERAGE(B27:K27)),0) -> 16
A28: Blocos | B28: 69 | C28: 117 | D28: 50 | E28: 56 | F28: 56 | G28: 58 | H28: 74 | K28: 96 | L28: =ROUND((AVERAGE(B28:K28)),0) -> 72
A29: Pilares | B29: 66 | C29: 65 | D29: 55 | E29: 68 | F29: 93 | G29: 79 | H29: 71 | I29: 101 | J29: 105 | K29: 62 | L29: =ROUND((AVERAGE(B29:K29)),0) -> 77
A30: Travessas | B30: 190 | C30: 199 | D30: 180 | E30: 211 | F30: 217 | G30: 194 | H30: 193 | I30: 167 | J30: 167 | K30: 198 | L30: =ROUND((AVERAGE(B30:K30)),0) -> 192
A31: Longarinas (CA-50) | F31: 230 | I31: 178 | J31: 177 | L31: =ROUND((AVERAGE(B31:K31)),0) -> 195
A32: Longarinas (CA-50) | B32: 137 | C32: 168 | D32: 110 | E32: 136 | G32: 127 | H32: 114 | K32: 170 | L32: =ROUND((AVERAGE(B32:K32)),0) -> 137
A33: Longarinas (CP) | B33: 50 | C33: 40 | D33: 41 | E33: 44 | G33: 33 | H33: 42 | K33: 40 | L33: =ROUND((AVERAGE(B33:K33)),0) -> 41
A34: Transversinas / alas / cortinas | B34: 186 | C34: 194 | D34: 209 | E34: 202 | F34: 240 | G34: 200 | H34: 195 | I34: 180 | J34: 180 | K34: 198 | L34: =ROUND((AVERAGE(B34:K34)),0) -> 198
A35: Laje de Transição | B35: 102 | C35: 91 | D35: 123 | E35: 146 | F35: 80 | G35: 147 | H35: 91 | I35: 85 | J35: 85 | K35: 91 | L35: =ROUND((AVERAGE(B35:K35)),0) -> 104
A36: Lajes | B36: 116 | C36: 98 | D36: 105 | E36: 151 | F36: 156 | G36: 167 | H36: 116 | I36: 148 | J36: 148 | K36: 100 | L36: =ROUND((AVERAGE(B36:K36)),0) -> 131
A37: New Jerseys | B37: 87 | C37: 82 | D37: 88 | E37: 96 | F37: 87 | G37: 97 | H37: 90 | I37: 77 | J37: 77 | K37: 82 | L37: =ROUND((AVERAGE(B37:K37)),0) -> 86
A39: Obra 1: | B39: Ponte Ribeirão Olhos d´água GO-460 - GOINFRA | G39: Obra 6: | H39: Ponte Córrego Palmeiras GO-108 - GOINFRA
A40: Obra 2: | B40: Ponte Córrego Bandeirantes GO-336 - GOINFRA | G40: Obra 7: | H40: Ponte Ribeirão Andorinhas GO-139 - GOINFRA
A41: Obra 3: | B41: Ponte Córrego Retiro GO-221 - GOINFRA | G41: Obra 8: | H41: Ponte Córrego Lajeado BR-419/MS - DNIT
A42: Obra 4: | B42: Ponte Córrego São Bernanrdo GO-108 - GOINFRA | G42: Obra 9: | H42: Ponte Córrego Mambuca BR-419/MS - DNIT
A43: Obra 5: | B43: Ponte Córrego dos Macacos GO-236 - GOINFRA | G43: Obra 10: | H43: Ponte GO-156 - GOINFRA

Sheet Conversão
B5: Elemento: | C5: Estaca
A6: Ø mm | B6: Massa (kg/m) | C6: Comp. (m) | D6: Comp. (m) | E6: Comp. (m) | F6: Comp. (m) | G6: Comp. (m) | H6: Comp. (m) | I6: Comp. (m) | J6: Comp. (m) | K6: Comp. (m) | L6: Comp. (m) | M6: Total (m) | N6: Massa Total (kg)
A7: 4.2 | B7: 0.1088 | M7: =SUM(C7:L7) -> 0 | N7: =ROUND(M7*B7,0) -> 0
A8: 5.0 | B8: 0.154 | M8: =SUM(C8:L8) -> 0 | N8: =ROUND(M8*B8,0) -> 0
A9: 6.3 | B9: 0.2447 | M9: =SUM(C9:L9) -> 0 | N9: =ROUND(M9*B9,0) -> 0
A10: 8.0 | B10: 0.3946 | M10: =SUM(C10:L10) -> 0 | N10: =ROUND(M10*B10,0) -> 0
A11: 10.0 | B11: 0.617 | M11: =SUM(C11:L11) -> 0 | N11: =ROUND(M11*B11,0) -> 0
A12: 12.5 | B12: 0.963 | M12: =SUM(C12:L12) -> 0 | N12: =ROUND(M12*B12,0) -> 0
A13: 16.0 | B13: 1.5783 | M13: =SUM(C13:L13) -> 0 | N13: =ROUND(M13*B13,0) -> 0
A14: 20.0 | B14: 2.466 | M14: =SUM(C14:L14) -> 0 | N14: =ROUND(M14*B14,0) -> 0
A15: 25.0 | B15: 3.8534 | M15: =SUM(C15:L15) -> 0 | N15: =ROUND(M15*B15,0) -> 0
A16: 32.0 | B16: 6.3133 | M16: =SUM(C16:L16) -> 0 | N16: =ROUND(M16*B16,0) -> 0
A17: 40.0 | B17: 9.8646 | M17: =SUM(C17:L17) -> 0 | N17: =ROUND(M17*B17,0) -> 0
M18: Total CA 50 (kg): | N18: =SUM(N9:N17) -> 0
M19: Total CA 60 (kg): | N19: =SUM(N7:N8) -> 0
B21: Elemento: | C21: Bloco
A22: Ø mm | B22: Massa (kg/m) | C22: Comp. (m) | D22: Comp. (m) | E22: Comp. (m) | F22: Comp. (m) | G22: Comp. (m) | H22: Comp. (m) | I22: Comp. (m) | J22: Comp. (m) | K22: Comp. (m) | L22: Comp. (m) | M22: Total (m) | N22: Massa Total (kg)
A23: 4.2 | B23: 0.1088 | M23: =SUM(C23:L23) -> 0 | N23: =ROUND(M23*B23,0) -> 0
A24: 5.0 | B24: 0.154 | M24: =SUM(C24:L24) -> 0 | N24: =ROUND(M24*B24,0) -> 0
A25: 6.3 | B25: 0.2447 | M25: =SUM(C25:L25) -> 0 | N25: =ROUND(M25*B25,0) -> 0
A26: 8.0 | B26: 0.3946 | M26: =SUM(C26:L26) -> 0 | N26: =ROUND(M26*B26,0) -> 0
A27: 10.0 | B27: 0.617 | M27: =SUM(C27:L27) -> 0 | N27: =ROUND(M27*B27,0) -> 0
A28: 12.5 | B28: 0.963 | M28: =SUM(C28:L28) -> 0 | N28: =ROUND(M28*B28,0) -> 0
A29: 16.0 | B29: 1.5783 | M29: =SUM(C29:L29) -> 0 | N29: =ROUND(M29*B29,0) -> 0
A30: 20.0 | B30: 2.466 | M30: =SUM(C30:L30) -> 0 | N30: =ROUND(M30*B30,0) -> 0
A31: 25.0 | B31: 3.8534 | M31: =SUM(C31:L31) -> 0 | N31: =ROUND(M31*B31,0) -> 0
A32: 32.0 | B32: 6.3133 | M32: =SUM(C32:L32) -> 0 | N32: =ROUND(M32*B32,0) -> 0
A33: 40.0 | B33: 9.8646 | M33: =SUM(C33:L33) -> 0 | N33: =ROUND(M33*B33,0) -> 0
M34: Total CA 50 (kg): | N34: =SUM(N25:N33) -> 0
M35: Total CA 60 (kg): | N35: =SUM(N23:N24) -> 0
B37: Elemento: | C37: Ala
A38: Ø mm | B38: Massa (kg/m) | C38: Comp. (m) | D38: Comp. (m) | E38: Comp. (m) | F38: Comp. (m) | G38: Comp. (m) | H38: Comp. (m) | I38: Comp. (m) | J38: Comp. (m) | K38: Comp. (m) | L38: Comp. (m) | M38: Total (m) | N38: Massa Total (kg)
A39: 4.2 | B39: 0.1088 | M39: =SUM(C39:L39) -> 0 | N39: =ROUND(M39*B39,0) -> 0
A40: 5.0 | B40: 0.154 | M40: =SUM(C40:L40) -> 0 | N40: =ROUND(M40*B40,0) -> 0
A41: 6.3 | B41: 0.2447 | M41: =SUM(C41:L41) -> 0 | N41: =ROUND(M41*B41,0) -> 0
A42: 8.0 | B42: 0.3946 | C42: 162.38 | D42: 250.88 | M42: =SUM(C42:L42) -> 413.26 | N42: =ROUND(M42*B42,0) -> 163
A43: 10.0 | B43: 0.617 | M43: =SUM(C43:L43) -> 0 | N43: =ROUND(M43*B43,0) -> 0
A44: 12.5 | B44: 0.963 | M44: =SUM(C44:L44) -> 0 | N44: =ROUND(M44*B44,0) -> 0
A45: 16.0 | B45: 1.5783 | C45: 100.8 | D45: 44.48 | M45: =SUM(C45:L45) -> 145.28 | N45: =ROUND(M45*B45,0) -> 229
A46: 20.0 | B46: 2.466 | M46: =SUM(C46:L46) -> 0 | N46: =ROUND(M46*B46,0) -> 0
...

Sheet Mob e Desmob Pav
A1: MOBILIZAÇÃO DE EQUIPAMENTO
A2: DESCRIÇÃO | C2: DT | D2: Custo | E2: CONFORME PROJETO | H2: Cronograma de Utilização
A3: EQUIPAMENTO DE GRANDE PORTE – 40 KM/H | E3: QUANTIDADE | F3: CUSTO TOTAL | H3: 1º MÊS | I3: 2º MÊS | J3: 3º MÊS | K3: 4º MÊS | L3: 5º MÊS | M3: 6º MÊS | N3: 7º MÊS | O3: 8º MÊS
A4: MINI-CARREGADEIRA DE PNEUS COM VASSOURA DE 1,8m | C4: =DT´s!F7 -> 117 | D4: 2.86 | E4: 1 | F4: =TRUNC(C4*E4*D4,2) -> 334.62 | H4: 1 | I4: 1 | J4: 1 | K4: 1 | L4: 1 | M4: 1 | N4: 1 | O4: 1
A5: CARREGADEIRA DE PNEUS CAT - 924 G OU EQUIVALENTE | F5: =TRUNC(C5*E5*D5,2) -> 0
A6: CARREGADEIRA DE PNEUS CAT - 950 H OU EQUIVALENTE | F6: =TRUNC(C6*E6*D6,2) -> 0
A7: ESCAVADEIRA HIDRÁULICA - 320DL OU EQUIVALENTE | C7: =$C$4 -> 117 | D7: 9.56 | E7: 1 | F7: =TRUNC(C7*E7*D7,2) -> 1118.52 | H7: 1 | I7: 1
A8: ESCAVADEIRA HIDRÁULICA - CAT 323DL OU EQUIVALENTE | F8: =TRUNC(C8*E8*D8,2) -> 0
A9: FRESADORA A FRIO W200 OU EQUIVALENTE | F9: =TRUNC(C9*E9*D9,2) -> 0
A10: MOTONIVELADORA - CAT 120K OU EQUIVALENTE | F10: =TRUNC(C10*E10*D10,2) -> 0
A11: PERFURATRIZ SOBRE ESTEIRAS - CRAWLER DRILL OU EQUIVALENTE | C11: =$C$4 -> 117 | D11: 9.56 | E11: 1 | F11: =TRUNC(C11*E11*D11,2) -> 1118.52 | H11: 1 | I11: 1 | J11: 1
A12: RETRO ESCAVADEIRA DE PNEUS - MF 86HS OU EQUIVALENTE | F12: =TRUNC(C12*E12*D12,2) -> 0
A13: RECICLADORA DE PAVIMENTO À FRIO | F13: =TRUNC(C13*E13*D13,2) -> 0
A14: ROLO COMPAC. PNEUS AUTOPROP. 27 T | F14: =TRUNC(C14*E14*D14,2) -> 0
A15: ROLO LISO TANDEN - 6/8 T - CA-150 OU EQUIVALENTE | F15: =TRUNC(C15*E15*D15,2) -> 0
A16: ROLO LISO VIBRAT. AUTOPROP. - CA 250 OU EQUIVALENTE | F16: =TRUNC(C16*E16*D16,2) -> 0
A17: ROLO PÉ DE CARNEIRO AUTOPROP. CA-25 OU EQUIVALENTE | F17: =TRUNC(C17*E17*D17,2) -> 0
A18: TRATOR DE PNEUS AGRÍCOLA – MF4292 OU EQUIVALENTE | F18: =TRUNC(C18*E18*D18,2) -> 0
A19: TRATOR EST. C/ ESCARIFICADOR - CAT D8 OU EQUIVALENTE | F19: =TRUNC(C19*E19*D19,2) -> 0
A20: TRATOR ESTEIRA C/ LÂMINA - CAT D8 OU EQUIVALENTE | F20: =TRUNC(C20*E20*D20,2) -> 0
A21: TRATOR ESTEIRAS COM LAMINA - CAT D-6 OU EQUIVALENTE | F21: =TRUNC(C21*E21*D21,2) -> 0
A22: TRATOR ESTEIRAS COM LAMINA - Komatsu: D41E-6 OU EQUIVALENTE | F22: =TRUNC(C22*E22*D22,2) -> 0
A23: TANQUE EST. ASFALTO (30.000L) | F23: =TRUNC(C23*E23*D23,2) -> 0
... A27: VIBROACABADORA DE ASFALTO SOBRE ESTEIRAS | F27: =TRUNC(C27*E27*D27,2) -> 0
A28: TOTAL (A) | E28: =SUM(F4:F27) -> 2571.66
A30: VEÍCULOS DE PRODUÇÃO (AUTOPROPELIDOS) – 50 KM/H | C30: DT | D30: Custo | E30: CONFORME PROJETO | H30: Cronograma de Utilização
E31: QUANTIDADE | F31: CUSTO TOTAL | H31: 1º MÊS | I31: 2º MÊS | J31: 3º MÊS | K31: 4º MÊS | L31: 5º MÊS | M31: 6º MÊS | N31: 7º MÊS | O31: 8º MÊS
A32: CAMINHÃO BASCULANTE 10 M3 - 15 T | C32: =$C$4 -> 117 | D32: 6.01 | E32: 2 | F32: =TRUNC(C32*E32*D32,2) -> 1406.34 | H32: 1 | I32: 1 | J32: 1 | K32: 1 | L32: 1 | M32: 1 | N32: 1 | O32: 1
A33: CAMINHÃO BASCULANTE 6 M3 - 10,5 T | F33: =TRUNC(C33*E33*D33,2) -> 0
A34: CAMINHÃO CARROCERIA MADEIRA - 15 T | C34: =$C$4 -> 117 | D34: 5.14 | E34: 1 | F34: =TRUNC(C34*E34*D34,2) -> 601.38 | H34: 1 | I34: 1 | J34: 1 | K34: 1 | L34: 1 | M34: 1 | N34: 1 | O34: 1
A35: CAMINHÃO TANQUE 10.000L | F35: =TRUNC(C35*E35*D35,2) -> 0
A36: CAMINHÃO TANQUE 6.000L | F36: =TRUNC(C36*E36*D36,2) -> 0
A37: CAMINHÃO MUNCK | C37: =$C$4 -> 117 | D37: 5.07 | E37: 1 | F37: =TRUNC(C37*E37*D37,2) -> 593.19 | H37: 1 | I37: 1 | J37: 1 | K37: 1 | L37: 1 | M37: 1 | N37: 1 | O37: 1
A38: USINA MOVEL DE LAMA ASFÁLTICA | F38: =TRUNC(C38*E38*D38,2) -> 0
A39: USINA MÓVEL PARA MICRO REVESTIMENTO | F39: =TRUNC(C39*E39*D39,2) -> 0
A40: CAMINHÃO DISTRIBUIDOR DE ASFALTO | F40: =TRUNC(C40*E40*D40,2) -> 0
A41: CAMINHÃO PARA HIDROSEMEADURA – 7.000l | F41: =TRUNC(C41*E41*D41,2) -> 0
A42: CAMINHÃO PARA PINTURA A FRIO COM DEMARCADOR DE FAIXAS | F42: =TRUNC(C42*E42*D42,2) -> 0
A43: TOTAL (B) | E43: =SUM(F32:F42) -> 2600.91
A45: CUSTO TOTAL ((A)+(B))*2 | E45: =(E28+E43)*2 -> 10345.14
...

Sheet Tabela
H1: GOINFRA - Agência Goiana de Infraestrutura e Transportes | S1: 06/05/2025 - 10:35
H3: Custo Referencial de Serviços
A5: Tabela de Preços: | F5: TABELA DE TERRAPLENAGEM, PAVIMENTAÇÃO E OBRAS DE ARTE ESPECIAIS - FEV/25 - SEM DESONERAÇÃO - T289 | P5: Data Base: 01/02/2025
A6: Valores com BDI - BDI: 27,21%
A8: Código Auxiliar | C8: Serviço | R8: Unidade | U8: Preço Unitário
A9: 100001 | C9: TERRAPLENAGEM
A10: 40001 | C10: DESMATAMENTO E LIMPEZA - INCLUSO DESTOCAMENTO DE ÁRVORES COM DIÂMETROS MENORES DE 15 cm | R10: m2 | U10: 0.68
A11: 40003 | C11: DESTOCAMENTO DE ÁRVORES COM DIÂMETRO DE 15 A 30 cm | R11: un | U11: 51.44
A12: 40004 | C12: DESTOCAMENTO DE ÁRVORES COM DIÂMETRO MAIOR QUE 30 cm | R12: un | U12: 128.62
A13: 40005 | C13: CARGA DE ENTULHOS | R13: m3 | U13: 3.25
A14: 40006 | C14: TRANSPORTE DE ENTULHOS | R14: m3km | U14: 2.95
A15: 40010 | C15: ESCAVAÇÃO, CARGA E TRANSPORTE DE MATERIAL DE 1ª CATEGORIA ATÉ 50M | R15: m3 | U15: 3.75
A16: 40011 | C16: ESCAVAÇÃO, CARGA E TRANSPORTE DE MATERIAL DE 2ª CATEGORIA ATÉ 50M | R16: m3 | U16: 8.66
A17: 40012 | C17: ESCAVAÇÃO, CARGA E TRANSPORTE DE MATERIAL DE 3ª CATEGORIA ATÉ 50M | R17: m3 | U17: 43.22
A18: 40015 | C18: ESCAV., CARGA E TRANSPORTE DE MAT. 1ª CATEG. - C/ ESCAVADEIRA - (DT: 51 A 200M) | R18: m3 | U18: 9.32
A19: 40016 | C19: ESCAV., CARGA E TRANSPORTE DE MAT. 1ª CATEG. - C/ ESCAVADEIRA - (DT: 201 A 400M) | R19: m3 | U19: 10.78
A20: 40017 | C20: ESCAV., CARGA E TRANSPORTE DE MAT. 1ª CATEG. - C/ ESCAVADEIRA - (DT: 401 A 600M) | R20: m3 | U20: 11.42
A21: 40018 | C21: ESCAV., CARGA E TRANSPORTE DE MAT. 1ª CATEG. - C/ ESCAVADEIRA - (DT: 601 A 800M) | R21: m3 | U21: 12.81
... A99: 40145 | C99: ESPALHAMENTO DE MATERIAL EM BOTA-FORA | R99: m3 | U99: 2.55
A100: 100002 | C100: PAVIMENTAÇÃO
A101: 40305 | C101: ACABAMENTO E RECOMPOSIÇÃO DE JAZIDA | R101: m2 | U101: 0.5
A102: 40310 | C102: REGULARIZAÇÃO E COMPACTAÇÃO DO SUB-LEITO | R102: m2 | U102: 3.53
A103: 40315 | C103: ESCAVAÇÃO E CARGA DE MATERIAL DE JAZIDA | R103: m3 | U103: 5.36
A104: 40317 | C104: FORNECIMENTO DE MATERIAL DE JAZIDA (CASCALHO) | R104: m3 | U104: 24.58
A105: 40320 | C105: TRANSPORTE DE MATERIAL DE JAZIDA (CASCALHO) | R105: m3km | U105: 3.25
A106: 40325 | C106: TRANSPORTE LOCAL DA MISTURA | R106: m3km | U106: 2.35
A107: 40326 | C107: TRANSPORTE COMERCIAL DA MISTURA | R107: m3km | U107: 1.59
A108: 40335 | C108: ESTABILIZAÇÃO GRANULOMÉTRICA SEM MISTURA - REF.PROCTOR: 26 GOLPES (100% P.I.) | R108: m3 | U108: 23.24
A109: 40336 | C109: ESTABILIZAÇÃO GRANULOMÉTRICA SEM MISTURA - REF.PROCTOR: 39 GOLPES (100% P.IM.) | R109: m3 | U109: 26.19
A110: 40337 | C110: ESTABILIZAÇÃO GRANULOMÉTRICA SEM MISTURA - REF.PROCTOR: 55 GOLPES (100% P.M.) | R110: m3 | U110: 29.25
A111: 40350 | C111: ESTABILIZAÇÃO SOLO-CIMENTO 2% PESO - PISTA | R111: m3 | U111: 61.23
A112: 40365 | C112: ESTABILIZAÇÃO SOLO-CIMENTO 6% PESO - USINA | R112: m3 | U112: 133.6
... A165: 42498 | C165: USINAGEM DE CONCRETO BETUMINOSO USINADO À QUENTE - CBUQ - FAIXA B | R165: m3 | U165: 474.2
A166: 100004 | C166: DRENAGEM
A167: 41201 | C167: SARJETA TRIANGULAR DE CONCRETO - STC 150-30 | R167: m | U167: 106.83
A168: 41202 | C168: SARJETA TRIANGULAR DE CONCRETO - STC 125-25 | R168: m | U168: 89.11
A169: 41203 | C169: SARJETA TRIANGULAR DE CONCRETO - STC 100-20 | R169: m | U169: 71.61
A170: 41204 | C170: SARJETA TRIANGULAR DE CONCRETO - STC 80-15 | R170: m | U170: 57.37
A171: 41205 | C171: SARJETA TRIANGULAR DE CONCRETO - STC 150-32 | R171: m | U171: 109.8
A172: 41206 | C172: SARJETA TRIANGULAR DE CONCRETO - STC 125-27 | R172: m | U172: 91.79
...

Sheet Composições SICRO
K2: BDI GOINFRA
A3: CGCIT | I3: DNIT | K3: 0.2721
A4: SISTEMA DE CUSTOS REFERENCIAIS DE OBRAS - SICRO | D4: Goiás
A5: Custo Unitário de Referência | D5: Janeiro/2025 | G5: Produção da equipe | H5: 1.19712 | I5: m³
A6: 1109680 | B6: Argamassa para reparos e grauteamento - confecção em misturador e lançamento manual | H6: Valores em reais (R$)
A7: A - EQUIPAMENTOS | C7: Quantidade | D7: Utilização | F7: Custo Horário | I7: Custo
D8: Operativa | E8: Improdutiva | F8: Produtivo | G8: Improdutivo | I8: Horário Total
A9: E9788 | B9: Misturador de argamassa com capacidade de 0,250 m³ - 3,70 kW | C9: 1 | D9: 1 | E9: 0 | F9: 35.0575 | G9: 29.5315 | I9: 35.0575
A10: E9064 | B10: Transportador manual gerica com capacidade de 180 l | C10: 2 | D10: 0.17 | E10: 0.83 | F10: 1.5373 | G10: 1.0451 | I10: 2.2575
G11: Custo horário total de equipamentos | I11: 37.315
A12: B - MÃO DE OBRA | C12: Quantidade | D12: Unidade | F12: Custo Horário | G12: Custo Horário Total
A13: P9821 | B13: Pedreiro | C13: 1 | D13: h | F13: 28.0926 | I13: 28.0926
A14: P9824 | B14: Servente | C14: 2 | D14: h | F14: 21.4442 | I14: 42.8884
C15: Custo horário total de mão de obra | I15: 70.981
C16: Custo horário total de execução | I16: 108.296
C17: Custo unitário de execução | I17: 90.4638
G18: Custo do FIC | I18: -
G19: Custo do FIT | I19: -
A20: C - MATERIAL | C20: Quantidade | D20: Unidade | F20: Preço Unitário | G20: Custo Unitário
A21: M0083 | B21: Argamassa pré-dosada para grauteamento | C21: 2073.75 | D21: kg | F21: 1.7888 | I21: 3709.524
C22: Custo unitário total de material | I22: 3709.524
A23: D - ATIVIDADES AUXILIARES | C23: Quantidade | D23: Unidade | F23: Custo Unitário | G23: Custo Unitário
C24: Custo total de atividades auxiliares
G25: Subtotal | I25: 3799.9878
A26: E - TEMPO FIXO | C26: Código | D26: Quantidade | E26: Unidade | G26: Custo Unitário | H26: Custo Unitário
A27: M0083 | B27: Argamassa pré-dosada para grauteamento - Caminhão carroceria 15 t | C27: 5914655 | D27: 2.07375 | E27: t | G27: 32.18 | I27: 66.7333
C28: Custo unitário total de tempo fixo | I28: 66.7333
A29: F - MOMENTO DE TRANSPORTE | C29: Quantidade | D29: Unidade | E29: DMT | I29: Custo Unitário
E30: LN | F30: RP | G30: P
A31: M0083 | B31: Argamassa pré-dosada para grauteamento - Caminhão carroceria 15 t | C31: 2.07375 | D31: tkm | E31: 5914449 | F31: 5914464 | G31: 5914479
C32: Custo unitário total de transporte
E33: Custo unitário direto total | I33: 3866.72
A34: Obs. | D34: BDI: | E34: =$K$3 -> 0.2721 | F34: Valor Unitário: | I34: =TRUNC(I33*(1+E34),2) -> 4918.85
A36: CGCIT | I36: DNIT
A37: SISTEMA DE CUSTOS REFERENCIAIS DE OBRAS - SICRO | D37: Goiás
A38: Custo Unitário de Referência | D38: Janeiro/2025 | G38: Produção da equipe | H38: 1.18571 | I38: un
A39: 3806420 | B39: Lançamento de viga pré-moldada de até 500 kN com utilização de guindaste | H39: Valores em reais (R$)
A40: A - EQUIPAMENTOS | C40: Quantidade | D40: Utilização | F40: Custo Horário | I40: Custo
D41: Operativa | E41: Improdutiva | F41: Produtivo | G41: Improdutivo | I41: Horário Total
A42: E9094 | B42: Guindaste móvel sobre pneus com 6 eixos com capacidade máxima de 350 t - 450 kW | C42: 2 | D42: 1 | E42: 0 | F42: 2911.209 | G42: 1516.3136 | I42: 5822.418
...
