Workbook
Name __shared_1_0_0: "[.A1]*[.G1]"
Name __shared_1_0_0: "[.H1]*[.A1]"
Name __shared_1_1_0: "[.A1]*[.G1]"
Name __shared_1_10_0: "[.A1]*[.G1]"
Name __shared_1_11_0: "[.A1]*[.G1]"
Name __shared_1_12_0: "[.A1]*[.G1]"
Name __shared_1_13_0: "[.A1]*[.G1]"
Name __shared_1_14_0: "[.A1]*[.G1]"
Name __shared_1_15_0: "[.A1]*[.G1]"
Name __shared_1_16_0: "[.A1]*[.G1]"
Name __shared_1_17_0: "[.A1]*[.G1]"
Name __shared_1_18_0: "[.A1]*[.G1]"
Name __shared_1_19_0: "[.A1]*[.G1]"
Name __shared_1_2_0: "[.A1]*[.G1]"
Name __shared_1_20_0: "[.A1]*[.G1]"
Name __shared_1_21_0: "[.A1]*[.G1]"
Name __shared_1_22_0: "[.A1]*[.G1]"
Name __shared_1_23_0: "[.A1]*[.G1]"
Name __shared_1_24_0: "[.A1]*[.G1]"
Name __shared_1_25_0: "[.A1]*[.G1]"
Name __shared_1_26_0: "[.A1]*[.G1]"
Name __shared_1_27_0: "[.A1]*[.G1]"
Name __shared_1_28_0: "[.A1]*[.G1]"
Name __shared_1_29_0: "[.A1]*[.G1]"
Name __shared_1_3_0: "[.A1]*[.G1]"
Name __shared_1_30_0: "[.A1]*[.G1]"
Name __shared_1_31_0: "[.A1]*[.G1]"
Name __shared_1_32_0: "[.A1]*[.G1]"
Name __shared_1_33_0: "[.A1]*[.G1]"
Name __shared_1_34_0: "[.A1]*[.G1]"
Name __shared_1_35_0: "[.A1]*[.G1]"
Name __shared_1_36_0: "[.A1]*[.G1]"
Name __shared_1_37_0: "[.A1]*[.G1]"
Name __shared_1_38_0: "[.A1]*[.G1]"
Name __shared_1_39_0: "[.A1]*[.G1]"
Name __shared_1_4_0: "[.A1]*[.G1]"
Name __shared_1_40_0: "[.A1]+[.B1]"
Name __shared_1_41_0: "[.A1]*[.G1]"
Name __shared_1_42_0: "[.A1]*[.G1]"
Name __shared_1_43_0: "[.A1]*[.G1]"
Name __shared_1_44_0: "[.A1]*[.G1]"
Name __shared_1_45_0: "[.A1]*[.G1]"
Name __shared_1_46_0: "[.A1]*[.G1]"
Name __shared_1_47_0: "[.A1]*[.G1]"
Name __shared_1_48_0: "[.A1]*[.G1]"
Name __shared_1_49_0: "[.A1]*[.G1]"
Name __shared_1_5_0: "[.A1]*[.G1]"
Name __shared_1_50_0: "[.A1]*[.G1]"
Name __shared_1_51_0: "[.A1]+[.B1]"
Name __shared_1_52_0: "[.A1]+[.B1]"
Name __shared_1_53_0: "[.A1]*[.G1]"
Name __shared_1_54_0: "[.A1]+[.B1]"
Name __shared_1_55_0: "[.A1]*[.G1]"
Name __shared_1_56_0: "[.A1]+[.B1]"
Name __shared_1_57_0: "[.A1]*[.G1]"
Name __shared_1_58_0: "[.A1]+[.B1]"
Name __shared_1_59_0: "[.A1]*[.G1]"
Name __shared_1_6_0: "[.A1]*[.G1]"
Name __shared_1_60_0: "[.A1]+[.B1]"
Name __shared_1_61_0: "[.A1]*[.G1]"

Sheet RESUMO
A5: OBRA: | B5: CONCLUSÃO DA CONSTRUÇÃO DO CENTRO DE ATENDIMENTO SÓCIO EDUCATIVO - CASE ITUMBIARA
A6: TABELA: | B6: SINAPI – NOVEMBRO/2020 (ONERADA)
A7: DATA: | B7: MAIO / 2021
A8: PROCESSO: | B8: 202000036012687
A10: RESUMO
A12: ITEM | B12: UNIDADE | C12: ÁREA: | D12: UND | E12: QTDE | F12: CUSTO TOTAL DA MÃO DE OBRA | G12: CUSTO TOTAL DO MATERIAL | H12: CUSTO TOTAL DO ORÇAMENTO
A14: 1 | B14: UNID_ADMINISTRATIVA | C14: =INDEX(INDIRECT(B14&"!C:C"),MATCH($C$12,INDIRECT(B14&"!A:A"),0)) -> 13,35m² | D14: UN | E14: 1 | F14: =+INDEX(INDIRECT(B14&"!J:J"),MATCH($F$12,INDIRECT(B14&"!A:A"),0)) -> 142090.11 | G14: =+INDEX(INDIRECT(B14&"!J:J"),MATCH($G$12,INDIRECT(B14&"!A:A"),0)) -> 372532.95 | H14: =+INDEX(INDIRECT(B14&"!J:J"),MATCH($H$12,INDIRECT(B14&"!A:A"),0)) -> 514623.07
A16: 2 | B16: VISITA_ÍNTIMA | C16: =+INDEX(INDIRECT(B16&"!C:C"),MATCH($C$12,INDIRECT(B16&"!A:A"),0)) -> 45,04m² | D16: UN | E16: 1 | F16: =+INDEX(INDIRECT(B16&"!J:J"),MATCH($F$12,INDIRECT(B16&"!A:A"),0)) -> 22006.284 | G16: =+INDEX(INDIRECT(B16&"!J:J"),MATCH($G$12,INDIRECT(B16&"!A:A"),0)) -> 44857.4 | H16: =+INDEX(INDIRECT(B16&"!J:J"),MATCH($H$12,INDIRECT(B16&"!A:A"),0)) -> 66863.684
A18: 3 | B18: UNID_CONTROLE | C18: =+INDEX(INDIRECT(B18&"!C:C"),MATCH($C$12,INDIRECT(B18&"!A:A"),0)) -> 233,62 m² | D18: UN | E18: 1 | F18: =+INDEX(INDIRECT(B18&"!J:J"),MATCH($F$12,INDIRECT(B18&"!A:A"),0)) -> 68565.59 | G18: =+INDEX(INDIRECT(B18&"!J:J"),MATCH($G$12,INDIRECT(B18&"!A:A"),0)) -> 147484.13 | H18: =+INDEX(INDIRECT(B18&"!J:J"),MATCH($H$12,INDIRECT(B18&"!A:A"),0)) -> 216049.72
A20: 5 | B20: COB_VISITANTES | C20: =+INDEX(INDIRECT(B20&"!C:C"),MATCH($C$12,INDIRECT(B20&"!A:A"),0)) -> 90,00m² | D20: UN | E20: 1 | F20: =+INDEX(INDIRECT(B20&"!J:J"),MATCH($F$12,INDIRECT(B20&"!A:A"),0)) -> 11884.284 | G20: =+INDEX(INDIRECT(B20&"!J:J"),MATCH($G$12,INDIRECT(B20&"!A:A"),0)) -> 21929.89 | H20: =+INDEX(INDIRECT(B20&"!J:J"),MATCH($H$12,INDIRECT(B20&"!A:A"),0)) -> 33814.175
A22: 6 | B22: GUARITA | C22: =+INDEX(INDIRECT(B22&"!C:C"),MATCH($C$12,INDIRECT(B22&"!A:A"),0)) -> 13,35m² | D22: UN | E22: 1 | F22: =+INDEX(INDIRECT(B22&"!J:J"),MATCH($F$12,INDIRECT(B22&"!A:A"),0)) -> 16756.63 | G22: =+INDEX(INDIRECT(B22&"!J:J"),MATCH($G$12,INDIRECT(B22&"!A:A"),0)) -> 32544.957 | H22: =+INDEX(INDIRECT(B22&"!J:J"),MATCH($H$12,INDIRECT(B22&"!A:A"),0)) -> 49301.587
A24: 7 | B24: CASA_MOTOR_BOMBA | C24: =+INDEX(INDIRECT(B24&"!C:C"),MATCH($C$12,INDIRECT(B24&"!A:A"),0)) -> 7,48m² | D24: UN | E24: 1 | F24: =+INDEX(INDIRECT(B24&"!J:J"),MATCH($F$12,INDIRECT(B24&"!A:A"),0)) -> 4229.8635 | G24: =+INDEX(INDIRECT(B24&"!J:J"),MATCH($G$12,INDIRECT(B24&"!A:A"),0)) -> 9237.408 | H24: =+INDEX(INDIRECT(B24&"!J:J"),MATCH($H$12,INDIRECT(B24&"!A:A"),0)) -> 13467.271
A26: 8 | B26: QUADRA | C26: =+INDEX(INDIRECT(B26&"!C:C"),MATCH($C$12,INDIRECT(B26&"!A:A"),0)) -> 634,27m² | D26: UN | E26: 1 | F26: =+INDEX(INDIRECT(B26&"!J:J"),MATCH($F$12,INDIRECT(B26&"!A:A"),0)) -> 35868.981 | G26: =+INDEX(INDIRECT(B26&"!J:J"),MATCH($G$12,INDIRECT(B26&"!A:A"),0)) -> 66579.043 | H26: =+INDEX(INDIRECT(B26&"!J:J"),MATCH($H$12,INDIRECT(B26&"!A:A"),0)) -> 102448.02
A28: 9 | B28: PROTEGIDA_COMPARTILHADA | C28: =+INDEX(INDIRECT(B28&"!C:C"),MATCH($C$12,INDIRECT(B28&"!A:A"),0)) -> 1.582,91m² | D28: UN | E28: 1 | F28: =+INDEX(INDIRECT(B28&"!J:J"),MATCH($F$12,INDIRECT(B28&"!A:A"),0)) -> 297687.06 | G28: =+INDEX(INDIRECT(B28&"!J:J"),MATCH($G$12,INDIRECT(B28&"!A:A"),0)) -> 739033.35 | H28: =+INDEX(INDIRECT(B28&"!J:J"),MATCH($H$12,INDIRECT(B28&"!A:A"),0)) -> 1036720.4
A30: 10 | B30: PASSARELA | C30: =+INDEX(INDIRECT(B30&"!C:C"),MATCH($C$12,INDIRECT(B30&"!A:A"),0)) -> 59,29 m² | D30: UN | E30: 1 | F30: =+INDEX(INDIRECT(B30&"!J:J"),MATCH($F$12,INDIRECT(B30&"!A:A"),0)) -> 8790.7598 | G30: =+INDEX(INDIRECT(B30&"!J:J"),MATCH($G$12,INDIRECT(B30&"!A:A"),0)) -> 16208.397 | H30: =+INDEX(INDIRECT(B30&"!J:J"),MATCH($H$12,INDIRECT(B30&"!A:A"),0)) -> 24999.157
A32: 11 | B32: UNID_SERVIÇOS | C32: =+INDEX(INDIRECT(B32&"!C:C"),MATCH($C$12,INDIRECT(B32&"!A:A"),0)) -> 518,64m² | D32: UN | E32: 1 | F32: =+INDEX(INDIRECT(B32&"!J:J"),MATCH($F$12,INDIRECT(B32&"!A:A"),0)) -> 96045.749 | G32: =+INDEX(INDIRECT(B32&"!J:J"),MATCH($G$12,INDIRECT(B32&"!A:A"),0)) -> 276778.98 | H32: =+INDEX(INDIRECT(B32&"!J:J"),MATCH($H$12,INDIRECT(B32&"!A:A"),0)) -> 372824.73
A34: 12 | B34: CASA_GRUPO_GERADOR | C34: =+INDEX(INDIRECT(B34&"!C:C"),MATCH($C$12,INDIRECT(B34&"!A:A"),0)) -> 16,34m² | D34: UN | E34: 1 | F34: =+INDEX(INDIRECT(B34&"!J:J"),MATCH($F$12,INDIRECT(B34&"!A:A"),0)) -> 12131.895 | G34: =+INDEX(INDIRECT(B34&"!J:J"),MATCH($G$12,INDIRECT(B34&"!A:A"),0)) -> 172943.57 | H34: =+INDEX(INDIRECT(B34&"!J:J"),MATCH($H$12,INDIRECT(B34&"!A:A"),0)) -> 185075.47
A36: 12 | B36: VESTIÁRIO | C36: =+INDEX(INDIRECT(B36&"!C:C"),MATCH($C$12,INDIRECT(B36&"!A:A"),0)) -> 52,24m² | D36: UN | E36: 1 | F36: =+INDEX(INDIRECT(B36&"!J:J"),MATCH($F$12,INDIRECT(B36&"!A:A"),0)) -> 14232.73 | G36: =+INDEX(INDIRECT(B36&"!J:J"),MATCH($G$12,INDIRECT(B36&"!A:A"),0)) -> 31494.564 | H36: =+INDEX(INDIRECT(B36&"!J:J"),MATCH($H$12,INDIRECT(B36&"!A:A"),0)) -> 45727.294
A38: 13 | B38: IMPLANTAÇÃO | C38: =+INDEX(INDIRECT(B38&"!C:C"),MATCH($C$12,INDIRECT(B38&"!A:A"),0)) -> 39.345,81m² | D38: UN | E38: 1 | F38: =+INDEX(INDIRECT(B38&"!J:J"),MATCH($F$12,INDIRECT(B38&"!A:A"),0)) -> 948495.23 | G38: =+INDEX(INDIRECT(B38&"!J:J"),MATCH($G$12,INDIRECT(B38&"!A:A"),0)) -> 2145732.9 | H38: =+INDEX(INDIRECT(B38&"!J:J"),MATCH($H$12,INDIRECT(B38&"!A:A"),0)) -> 3094228.2
A40: 14 | B40: GALPÃO | C40: =+INDEX(INDIRECT(B40&"!C:C"),MATCH($C$12,INDIRECT(B40&"!A:A"),0)) -> 743,43m² | D40: UN | E40: 1 | F40: =+INDEX(INDIRECT(B40&"!J:J"),MATCH($F$12,INDIRECT(B40&"!A:A"),0)) -> 58037.601 | G40: =+INDEX(INDIRECT(B40&"!J:J"),MATCH($G$12,INDIRECT(B40&"!A:A"),0)) -> 170208.23 | H40: =+INDEX(INDIRECT(B40&"!J:J"),MATCH($H$12,INDIRECT(B40&"!A:A"),0)) -> 228245.83
A43: CUSTO TOTAL | F43: =F40+F38+F36+F34+F32+F30+F28+F26+F24+F22+F20+F18+F16+F14 -> 1736822.8 | G43: =G40+G38+G36+G34+G32+G30+G28+G26+G24+G22+G20+G18+G16+G14 -> 4247565.8 | H43: =H40+H38+H36+H34+H32+H30+H28+H26+H24+H22+H20+H18+H16+H14 -> 5984388.6
B45: ITENS DE MERO FORNECIMENTO (MATERIAIS E EQUIPAMENTOS PARA BDI REDUZIDO)
B46: GRUPO MOTOR GERADOR 200KVA 380V COM REDUTOR DE RUIDO MÍNIMO DE 75 dB E QUADRO DE TRANSFERÊNCIA AUTOMÁTICA | E46: 1 | G46: =+CASA_GRUPO_GERADOR!G73 -> 131840 | H46: =E46*G46 -> 131840
B47: TRANSPORTE COMERCIAL DE MATERIAL BETUMINOSO | E47: 1 | G47: =+IMPLANTAÇÃO!J31 -> 3653.7785 | H47: =E47*G47 -> 3653.7785
B48: FORNECIMENTO DE CM-30 | E48: 1 | G48: =+IMPLANTAÇÃO!J32 -> 38299.907 | H48: =E48*G48 -> 38299.907
B49: FORNECIMENTO DE EMULSÃO RR-2C | E49: 1 | G49: =+IMPLANTAÇÃO!J34 -> 42426.305 | H49: =E49*G49 -> 42426.305
B50: CUSTO DE FORNECIMENTO DE MATERIAIS E EQUIPAMENTOS | H50: =SUM(H46:H49) -> 216219.99
A52: CUSTO TOTAL DE MATERIAIS E SERVIÇOS | H52: =+H43-H50 -> 5768168.6
A53: BDI REDUZIDO (13,51%): | H53: =H50*0.1351 -> 29211.321
A54: BDI PARA OBRA E SERVIÇOS (18,32%): | H54: =H52*0.1832 -> 1056728.5
A55: BDI TOTAL: | H55: =SUM(H53:H54) -> 1085939.8
A56: TOTAL GERAL: | H56: =+H55+H43 -> 7070328.4

Sheet UNID_ADMINISTRATIVA
A4: OBRA: | C4: =+RESUMO!B5 -> CONCLUSÃO DA CONSTRUÇÃO DO CENTRO DE ATENDIMENTO SÓCIO EDUCATIVO - CASE ITUMBIARA
A5: TABELA: | C5: =+RESUMO!B6 -> SINAPI – NOVEMBRO/2020 (ONERADA)
A6: DATA: | C6: =+RESUMO!B7 -> MAIO / 2021
A7: PROCESSO: | C7: 2.0200004e+18
A8: BLOCO: | C8: ADMINISTRATIVA
A9: ÁREA: | C9: 13,35m²
A11: TABELA | B11: CÓDIGO | C11: SERVIÇO | D11: UND | E11: QTDE | F11: M.OBRA | G11: MATERIAL | H11: EQUIP | I11: C. UNIT. (R$) | J11: C. TOTAL (R$)
B13: 164 | C13: SERVIÇOS PRELIMINARES
A14: COMPOS | B14: 37 | C14: =(IF($A14="SINAPI",INDEX(SINAPI_NOV2020_NDES!$A$7:$H$6703,MATCH($B14,SINAPI_NOV2020_NDES!$A$7:$A$6703,0),2),IF($A14="GOINFRA",INDEX(#REF!,MATCH($B14,#REF!,0),2),(INDEX(COMPOS!$A$4:$G$390,MATCH($B14,COMPOS!$A$4:A$390,0),2))))) -> LOCAÇÃO DE PRAÇA, QUADRA, IMPLANTAÇÃO UTILIZANDO CAVALETE, INCLUSIVE PIQUET COM TESTEMUNHA | D14: =(IF($A14="SINAPI",INDEX(SINAPI_NOV2020_NDES!$A$7:$H$6703,MATCH($B14,SINAPI_NOV2020_NDES!$A$7:$A$6703,0),3),IF($A14="GOINFRA",INDEX(#REF!,MATCH($B14,#REF!,0),3),(INDEX(COMPOS!$A$4:$G$39000,MATCH($B14,COMPOS!$A$4:A$39000,0),3))))) -> M2 | E14: =47.66*2 -> 95.32 | F14: =(IF($A14="SINAPI",INDEX(SINAPI_NOV2020_NDES!$A$7:$H$6703,MATCH($B14,SINAPI_NOV2020_NDES!$A$7:$A$6703,0),5),(INDEX(COMPOS!$A$4:$G$801,MATCH($B14,COMPOS!$A$4:A$801,0),4)))) -> 2.117407 | G14: =(IF($A14="SINAPI",INDEX(SINAPI_NOV2020_NDES!$A$7:$H$6703,MATCH($B14,SINAPI_NOV2020_NDES!$A$7:$A$6703,0),6),(INDEX(COMPOS!$A$4:$G$801,MATCH($B14,COMPOS!$A$4:A$801,0),5)))) -> 0.205516 | H14: =(IF($A14="SINAPI",INDEX(SINAPI_NOV2020_NDES!$A$7:$H$6703,MATCH($B14,SINAPI_NOV2020_NDES!$A$7:$A$6703,0),7),(INDEX(COMPOS!$A$4:$G$801,MATCH($B14,COMPOS!$A$4:A$801,0),6)))) -> 0 | I14: =SUM(F14:H14) -> 2.322923 | J14: =+I14*E14 -> 221.42102
A15: COMPOS | B15: 450 | C15: =(IF($A15="SINAPI",INDEX(SINAPI_NOV2020_NDES!$A$7:$H$6703,MATCH($B15,SINAPI_NOV2020_NDES!$A$7:$A$6703,0),2),IF($A15="GOINFRA",INDEX(#REF!,MATCH($B15,#REF!,0),2),(INDEX(COMPOS!$A$4:$G$3900,MATCH($B15,COMPOS!$A$4:A$3900,0),2))))) -> TRANSPORTE DE ENTULHO EM CAÇAMBA ESTACIONÁRIA INCLUSO A CARGA MANUAL | D15: =(IF($A15="SINAPI",INDEX(SINAPI_NOV2020_NDES!$A$7:$H$6703,MATCH($B15,SINAPI_NOV2020_NDES!$A$7:$A$6703,0),3),IF($A15="GOINFRA",INDEX(#REF!,MATCH($B15,#REF!,0),3),(INDEX(COMPOS!$A$4:$G$39000,MATCH($B15,COMPOS!$A$4:A$39000,0),3))))) -> M3 | E15: =890.11*0.07*0.5 -> 31.15385 | F15: =(IF($A15="SINAPI",INDEX(SINAPI_NOV2020_NDES!$A$7:$H$6703,MATCH($B15,SINAPI_NOV2020_NDES!$A$7:$A$6703,0),5),(INDEX(COMPOS!$A$4:$G$801,MATCH($B15,COMPOS!$A$4:A$801,0),4)))) -> 10.8792 | G15: =(IF($A15="SINAPI",INDEX(SINAPI_NOV2020_NDES!$A$7:$H$6703,MATCH($B15,SINAPI_NOV2020_NDES!$A$7:$A$6703,0),6),(INDEX(COMPOS!$A$4:$G$801,MATCH($B15,COMPOS!$A$4:A$801,0),5)))) -> 50.39 | H15: =(IF($A15="SINAPI",INDEX(SINAPI_NOV2020_NDES!$A$7:$H$6703,MATCH($B15,SINAPI_NOV2020_NDES!$A$7:$A$6703,0),7),(INDEX(COMPOS!$A$4:$G$801,MATCH($B15,COMPOS!$A$4:A$801,0),6)))) -> 0 | I15: =SUM(F15:H15) -> 61.2692 | J15: =+I15*E15 -> 1908.7715
A16: SUB-TOTAL | J16: =SUM(J14:J15) -> 2130.1925
B17: 166 | C17: SERVIÇO EM TERRA
A18: COMPOS | B18: 305 | C18: =(IF($A18="SINAPI",INDEX(SINAPI_NOV2020_NDES!$A$7:$H$6703,MATCH($B18,SINAPI_NOV2020_NDES!$A$7:$A$6703,0),2),IF($A18="GOINFRA",INDEX(#REF!,MATCH($B18,#REF!,0),2),(INDEX(COMPOS!$A$4:$G$390,MATCH($B18,COMPOS!$A$4:A$390,0),2))))) -> REGULARIZAÇÃO DO TERRENO SEM APILOAMENTO COM TRANSPORTE MANUAL DE TERRA ESCAVADA | D18: =(IF($A18="SINAPI",INDEX(SINAPI_NOV2020_NDES!$A$7:$H$6703,MATCH($B18,SINAPI_NOV2020_NDES!$A$7:$A$6703,0),3),IF($A18="GOINFRA",INDEX(#REF!,MATCH($B18,#REF!,0),3),(INDEX(COMPOS!$A$4:$G$39000,MATCH($B18,COMPOS!$A$4:A$39000,0),3))))) -> M2 | E18: 248.15 | F18: =(IF($A18="SINAPI",INDEX(SINAPI_NOV2020_NDES!$A$7:$H$6703,MATCH($B18,SINAPI_NOV2020_NDES!$A$7:$A$6703,0),5),(INDEX(COMPOS!$A$4:$G$801,MATCH($B18,COMPOS!$A$4:A$801,0),4)))) -> 2.842123 | G18: =(IF($A18="SINAPI",INDEX(SINAPI_NOV2020_NDES!$A$7:$H$6703,MATCH($B18,SINAPI_NOV2020_NDES!$A$7:$A$6703,0),6),(INDEX(COMPOS!$A$4:$G$801,MATCH($B18,COMPOS!$A$4:A$801,0),5)))) -> 0 | H18: =(IF($A18="SINAPI",INDEX(SINAPI_NOV2020_NDES!$A$7:$H$6703,MATCH($B18,SINAPI_NOV2020_NDES!$A$7:$A$6703,0),7),(INDEX(COMPOS!$A$4:$G$801,MATCH($B18,COMPOS!$A$4:A$801,0),6)))) -> 0 | I18: =SUM(F18:H18) -> 2.842123 | J18: =+I18*E18 -> 705.27282
A19: COMPOS | B19: 302 | C19: =(IF($A19="SINAPI",INDEX(SINAPI_NOV2020_NDES!$A$7:$H$6703,MATCH($B19,SINAPI_NOV2020_NDES!$A$7:$A$6703,0),2),IF($A19="GOINFRA",INDEX(#REF!,MATCH($B19,#REF!,0),2),(INDEX(COMPOS!$A$4:$G$390,MATCH($B19,COMPOS!$A$4:A$390,0),2))))) -> APILOAMENTO | D19: =(IF($A19="SINAPI",INDEX(SINAPI_NOV2020_NDES!$A$7:$H$6703,MATCH($B19,SINAPI_NOV2020_NDES!$A$7:$A$6703,0),3),IF($A19="GOINFRA",INDEX(#REF!,MATCH($B19,#REF!,0),3),(INDEX(COMPOS!$A$4:$G$39000,MATCH($B19,COMPOS!$A$4:A$39000,0),3))))) -> M2 | E19: 152.83 | F19: =(IF($A19="SINAPI",INDEX(SINAPI_NOV2020_NDES!$A$7:$H$6703,MATCH($B19,SINAPI_NOV2020_NDES!$A$7:$A$6703,0),5),(INDEX(COMPOS!$A$4:$G$801,MATCH($B19,COMPOS!$A$4:A$801,0),4)))) -> 6.044 | G19: =(IF($A19="SINAPI",INDEX(SINAPI_NOV2020_NDES!$A$7:$H$6703,MATCH($B19,SINAPI_NOV2020_NDES!$A$7:$A$6703,0),6),(INDEX(COMPOS!$A$4:$G$801,MATCH($B19,COMPOS!$A$4:A$801,0),5)))) -> 0 | H19: =(IF($A19="SINAPI",INDEX(SINAPI_NOV2020_NDES!$A$7:$H$6703,MATCH($B19,SINAPI_NOV2020_NDES!$A$7:$A$6703,0),7),(INDEX(COMPOS!$A$4:$G$801,MATCH($B19,COMPOS!$A$4:A$801,0),6)))) -> 0 | I19: =SUM(F19:H19) -> 6.044 | J19: =+I19*E19 -> 923.70452
A20: SUB-TOTAL | J20: =SUM(J18:J19) -> 1628.9773
B21: 169 | C21: INST. ELÉT./TELEFÔNICA/CABEAMENTO ESTRUTURADO
A22: SINAPI | B22: 91927 | C22: =(IF($A22="SINAPI",INDEX(SINAPI_NOV2020_NDES!$A$7:$H$6703,MATCH($B22,SINAPI_NOV2020_NDES!$A$7:$A$6703,0),2),IF($A22="GOINFRA",INDEX(#REF!,MATCH($B22,#REF!,0),2),(INDEX(COMPOS!$A$4:$G$390,MATCH($B22,COMPOS!$A$4:A$390,0),2))))) -> CABO DE COBRE FLEXÍVEL ISOLADO, 2,5 MM², ANTI-CHAMA 0,6/1,0 KV, PARA CIRCUITOS TERMINAIS - FORNECIMENTO E INSTALAÇÃO. AF_12/2015 | D22: =(IF($A22="SINAPI",INDEX(SINAPI_NOV2020_NDES!$A$7:$H$6703,MATCH($B22,SINAPI_NOV2020_NDES!$A$7:$A$6703,0),3),IF($A22="GOINFRA",INDEX(#REF!,MATCH($B22,#REF!,0),3),(INDEX(COMPOS!$A$4:$G$39000,MATCH($B22,COMPOS!$A$4:A$39000,0),3))))) -> M | E22: 5188.73 | F22: =(IF($A22="SINAPI",INDEX(SINAPI_NOV2020_NDES!$A$7:$H$6703,MATCH($B22,SINAPI_NOV2020_NDES!$A$7:$A$6703,0),5),(INDEX(COMPOS!$A$4:$G$801,MATCH($B22,COMPOS!$A$4:A$801,0),4)))) -> 0.88 | G22: =(IF($A22="SINAPI",INDEX(SINAPI_NOV2020_NDES!$A$7:$H$6703,MATCH($B22,SINAPI_NOV2020_NDES!$A$7:$A$6703,0),6),(INDEX(COMPOS!$A$4:$G$801,MATCH($B22,COMPOS!$A$4:A$801,0),5)))) -> 2.68 | H22: =(IF($A22="SINAPI",INDEX(SINAPI_NOV2020_NDES!$A$7:$H$6703,MATCH($B22,SINAPI_NOV2020_NDES!$A$7:$A$6703,0),7),(INDEX(COMPOS!$A$4:$G$801,MATCH($B22,COMPOS!$A$4:A$801,0),6)))) -> 0 | I22: =SUM(F22:H22) -> 3.56 | J22: =+I22*E22 -> 18471.879
A23: SINAPI | B23: 91929 | C23: =(IF($A23="SINAPI",INDEX(SINAPI_NOV2020_NDES!$A$7:$H$6703,MATCH($B23,SINAPI_NOV2020_NDES!$A$7:$A$6703,0),2),IF($A23="GOINFRA",INDEX(#REF!,MATCH($B23,#REF!,0),2),(INDEX(COMPOS!$A$4:$G$390,MATCH($B23,COMPOS!$A$4:A$390,0),2))))) -> CABO DE COBRE FLEXÍVEL ISOLADO, 4 MM², ANTI-CHAMA 0,6/1,0 KV, PARA CIRCUITOS TERMINAIS - FORNECIMENTO E INSTALAÇÃO. AF_12/2015 | D23: =(IF($A23="SINAPI",INDEX(SINAPI_NOV2020_NDES!$A$7:$H$6703,MATCH($B23,SINAPI_NOV2020_NDES!$A$7:$A$6703,0),3),IF($A23="GOINFRA",INDEX(#REF!,MATCH($B23,#REF!,0),3),(INDEX(COMPOS!$A$4:$G$39000,MATCH($B23,COMPOS!$A$4:A$39000,0),3))))) -> M | E23: 130 | F23: =(IF($A23="SINAPI",INDEX(SINAPI_NOV2020_NDES!$A$7:$H$6703,MATCH($B23,SINAPI_NOV2020_NDES!$A$7:$A$6703,0),5),(INDEX(COMPOS!$A$4:$G$801,MATCH($B23,COMPOS!$A$4:A$801,0),4)))) -> 1.17 | G23: =(IF($A23="SINAPI",INDEX(SINAPI_NOV2020_NDES!$A$7:$H$6703,MATCH($B23,SINAPI_NOV2020_NDES!$A$7:$A$6703,0),6),(INDEX(COMPOS!$A$4:$G$801,MATCH($B23,COMPOS!$A$4:A$801,0),5)))) -> 3.8 | H23: =(IF($A23="SINAPI",INDEX(SINAPI_NOV2020_NDES!$A$7:$H$6703,MATCH($B23,SINAPI_NOV2020_NDES!$A$7:$A$6703,0),7),(INDEX(COMPOS!$A$4:$G$801,MATCH($B23,COMPOS!$A$4:A$801,0),6)))) -> 0 | I23: =SUM(F23:H23) -> 4.97 | J23: =+I23*E23 -> 646.1
A24: SINAPI | B24: 91933 | C24: =(IF($A24="SINAPI",INDEX(SINAPI_NOV2020_NDES!$A$7:$H$6703,MATCH($B24,SINAPI_NOV2020_NDES!$A$7:$A$6703,0),2),IF($A24="GOINFRA",INDEX(#REF!,MATCH($B24,#REF!,0),2),(INDEX(COMPOS!$A$4:$G$390,MATCH($B24,COMPOS!$A$4:A$390,0),2))))) -> CABO DE COBRE FLEXÍVEL ISOLADO, 10 MM², ANTI-CHAMA 0,6/1,0 KV, PARA CIRCUITOS TERMINAIS - FORNECIMENTO E INSTALAÇÃO. AF_12/2015 | D24: =(IF($A24="SINAPI",INDEX(SINAPI_NOV2020_NDES!$A$7:$H$6703,MATCH($B24,SINAPI_NOV2020_NDES!$A$7:$A$6703,0),3),IF($A24="GOINFRA",INDEX(#REF!,MATCH($B24,#REF!,0),3),(INDEX(COMPOS!$A$4:$G$39000,MATCH($B24,COMPOS!$A$4:A$39000,0),3))))) -> M | E24: 130 | F24: =(IF($A24="SINAPI",INDEX(SINAPI_NOV2020_NDES!$A$7:$H$6703,MATCH($B24,SINAPI_NOV2020_NDES!$A$7:$A$6703,0),5),(INDEX(COMPOS!$A$4:$G$801,MATCH($B24,COMPOS!$A$4:A$801,0),4)))) -> 2.26 | G24: =(IF($A24="SINAPI",INDEX(SINAPI_NOV2020_NDES!$A$7:$H$6703,MATCH($B24,SINAPI_NOV2020_NDES!$A$7:$A$6703,0),6),(INDEX(COMPOS!$A$4:$G$801,MATCH($B24,COMPOS!$A$4:A$801,0),5)))) -> 8.21 | H24: =(IF($A24="SINAPI",INDEX(SINAPI_NOV2020_NDES!$A$7:$H$6703,MATCH($B24,SINAPI_NOV2020_NDES!$A$7:$A$6703,0),7),(INDEX(COMPOS!$A$4:$G$801,MATCH($B24,COMPOS!$A$4:A$801,0),6)))) -> 0 | I24: =SUM(F24:H24) -> 10.47 | J24: =+I24*E24 -> 1361.1
A25: SINAPI | B25: 93018 | C25: =(IF($A25="SINAPI",INDEX(SINAPI_NOV2020_NDES!$A$7:$H$6703,MATCH($B25,SINAPI_NOV2020_NDES!$A$7:$A$6703,0),2),IF($A25="GOINFRA",INDEX(#REF!,MATCH($B25,#REF!,0),2),(INDEX(COMPOS!$A$4:$G$390,MATCH($B25,COMPOS!$A$4:A$390,0),2))))) -> CURVA 90 GRAUS PARA ELETRODUTO, PVC, ROSCÁVEL, DN 50 MM (1 1/2") - FORNECIMENTO E INSTALAÇÃO. AF_12/2015 | D25: =(IF($A25="SINAPI",INDEX(SINAPI_NOV2020_NDES!$A$7:$H$6703,MATCH($B25,SINAPI_NOV2020_NDES!$A$7:$A$6703,0),3),IF($A25="GOINFRA",INDEX(#REF!,MATCH($B25,#REF!,0),3),(INDEX(COMPOS!$A$4:$G$39000,MATCH($B25,COMPOS!$A$4:A$39000,0),3))))) -> UN | E25: 6 | F25: =(IF($A25="SINAPI",INDEX(SINAPI_NOV2020_NDES!$A$7:$H$6703,MATCH($B25,SINAPI_NOV2020_NDES!$A$7:$A$6703,0),5),(INDEX(COMPOS!$A$4:$G$801,MATCH($B25,COMPOS!$A$4:A$801,0),4)))) -> 9.93 | G25: =(IF($A25="SINAPI",INDEX(SINAPI_NOV2020_NDES!$A$7:$H$6703,MATCH($B25,SINAPI_NOV2020_NDES!$A$7:$A$6703,0),6),(INDEX(COMPOS!$A$4:$G$801,MATCH($B25,COMPOS!$A$4:A$801,0),5)))) -> 5.55 | H25: =(IF($A25="SINAPI",INDEX(SINAPI_NOV2020_NDES!$A$7:$H$6703,MATCH($B25,SINAPI_NOV2020_NDES!$A$7:$A$6703,0),7),(INDEX(COMPOS!$A$4:$G$801,MATCH($B25,COMPOS!$A$4:A$801,0),6)))) -> 0 | I25: =SUM(F25:H25) -> 15.48 | J25: =+I25*E25 -> 92.88
A26: SINAPI | B26: 93657 | C26: =(IF($A26="SINAPI",INDEX(SINAPI_NOV2020_NDES!$A$7:$H$6703,MATCH($B26,SINAPI_NOV2020_NDES!$A$7:$A$6703,0),2),IF($A26="GOINFRA",INDEX(#REF!,MATCH($B26,#REF!,0),2),(INDEX(COMPOS!$A$4:$G$390,MATCH($B26,COMPOS!$A$4:A$390,0),2))))) -> DISJUNTOR MONOPOLAR TIPO DIN, CORRENTE NOMINAL DE 32A - FORNECIMENTO E INSTALAÇÃO. AF_10/2020 | D26: =(IF($A26="SINAPI",INDEX(SINAPI_NOV2020_NDES!$A$7:$H$6703,MATCH($B26,SINAPI_NOV2020_NDES!$A$7:$A$6703,0),3),IF($A26="GOINFRA",INDEX(#REF!,MATCH($B26,#REF!,0),3),(INDEX(COMPOS!$A$4:$G$39000,MATCH($B26,COMPOS!$A$4:A$39000,0),3))))) -> UN | E26: 39 | F26: =(IF($A26="SINAPI",INDEX(SINAPI_NOV2020_NDES!$A$7:$H$6703,MATCH($B26,SINAPI_NOV2020_NDES!$A$7:$A$6703,0),5),(INDEX(COMPOS!$A$4:$G$801,MATCH($B26,COMPOS!$A$4:A$801,0),4)))) -> 2.67 | G26: =(IF($A26="SINAPI",INDEX(SINAPI_NOV2020_NDES!$A$7:$H$6703,MATCH($B26,SINAPI_NOV2020_NDES!$A$7:$A$6703,0),6),(INDEX(COMPOS!$A$4:$G$801,MATCH($B26,COMPOS!$A$4:A$801,0),5)))) -> 10.13 | H26: =(IF($A26="SINAPI",INDEX(SINAPI_NOV2020_NDES!$A$7:$H$6703,MATCH($B26,SINAPI_NOV2020_NDES!$A$7:$A$6703,0),7),(INDEX(COMPOS!$A$4:$G$801,MATCH($B26,COMPOS!$A$4:A$801,0),6)))) -> 0 | I26: =SUM(F26:H26) -> 12.8 | J26: =+I26*E26 -> 499.2
A27: SINAPI | B27: 93671 | C27: =(IF($A27="SINAPI",INDEX(SINAPI_NOV2020_NDES!$A$7:$H$6703,MATCH($B27,SINAPI_NOV2020_NDES!$A$7:$A$6703,0),2),IF($A27="GOINFRA",INDEX(#REF!,MATCH($B27,#REF!,0),2),(INDEX(COMPOS!$A$4:$G$390,MATCH($B27,COMPOS!$A$4:A$390,0),2))))) -> DISJUNTOR TRIPOLAR TIPO DIN, CORRENTE NOMINAL DE 32A - FORNECIMENTO E INSTALAÇÃO. AF_10/2020 | D27: =(IF($A27="SINAPI",INDEX(SINAPI_NOV2020_NDES!$A$7:$H$6703,MATCH($B27,SINAPI_NOV2020_NDES!$A$7:$A$6703,0),3),IF($A27="GOINFRA",INDEX(#REF!,MATCH($B27,#REF!,0),3),(INDEX(COMPOS!$A$4:$G$39000,MATCH($B27,COMPOS!$A$4:A$39000,0),3))))) -> UN | E27: 2 | F27: =(IF($A27="SINAPI",INDEX(SINAPI_NOV2020_NDES!$A$7:$H$6703,MATCH($B27,SINAPI_NOV2020_NDES!$A$7:$A$6703,0),5),(INDEX(COMPOS!$A$4:$G$801,MATCH($B27,COMPOS!$A$4:A$801,0),4)))) -> 8.04 | G27: =(IF($A27="SINAPI",INDEX(SINAPI_NOV2020_NDES!$A$7:$H$6703,MATCH($B27,SINAPI_NOV2020_NDES!$A$7:$A$6703,0),6),(INDEX(COMPOS!$A$4:$G$801,MATCH($B27,COMPOS!$A$4:A$801,0),5)))) -> 64.25 | H27: =(IF($A27="SINAPI",INDEX(SINAPI_NOV2020_NDES!$A$7:$H$6703,MATCH($B27,SINAPI_NOV2020_NDES!$A$7:$A$6703,0),7),(INDEX(COMPOS!$A$4:$G$801,MATCH($B27,COMPOS!$A$4:A$801,0),6)))) -> 0 | I27: =SUM(F27:H27) -> 72.29 | J27: =+I27*E27 -> 144.58
A28: SINAPI | B28: 101895 | C28: =(IF($A28="SINAPI",INDEX(SINAPI_NOV2020_NDES!$A$7:$H$6703,MATCH($B28,SINAPI_NOV2020_NDES!$A$7:$A$6703,0),2),IF($A28="GOINFRA",INDEX(#REF!,MATCH($B28,#REF!,0),2),(INDEX(COMPOS!$A$4:$G$390,MATCH($B28,COMPOS!$A$4:A$390,0),2))))) -> DISJUNTOR TERMOMAGNÉTICO TRIPOLAR , CORRENTE NOMINAL DE 125A - FORNECIMENTO E INSTALAÇÃO. AF_10/2020 | D28: =(IF($A28="SINAPI",INDEX(SINAPI_NOV2020_NDES!$A$7:$H$6703,MATCH($B28,SINAPI_NOV2020_NDES!$A$7:$A$6703,0),3),IF($A28="GOINFRA",INDEX(#REF!,MATCH($B28,#REF!,0),3),(INDEX(COMPOS!$A$4:$G$39000,MATCH($B28,COMPOS!$A$4:A$39000,0),3))))) -> UN | E28: 1 | F28: =(IF($A28="SINAPI",INDEX(SINAPI_NOV2020_NDES!$A$7:$H$6703,MATCH($B28,SINAPI_NOV2020_NDES!$A$7:$A$6703,0),5),(INDEX(COMPOS!$A$4:$G$801,MATCH($B28,COMPOS!$A$4:A$801,0),4)))) -> 38.98 | G28: =(IF($A28="SINAPI",INDEX(SINAPI_NOV2020_NDES!$A$7:$H$6703,MATCH($B28,SINAPI_NOV2020_NDES!$A$7:$A$6703,0),6),(INDEX(COMPOS!$A$4:$G$801,MATCH($B28,COMPOS!$A$4:A$801,0),5)))) -> 343.7 | H28: =(IF($A28="SINAPI",INDEX(SINAPI_NOV2020_NDES!$A$7:$H$6703,MATCH($B28,SINAPI_NOV2020_NDES!$A$7:$A$6703,0),7),(INDEX(COMPOS!$A$4:$G$801,MATCH($B28,COMPOS!$A$4:A$801,0),6)))) -> 0 | I28: =SUM(F28:H28) -> 382.68 | J28: =+I28*E28 -> 382.68
A29: SINAPI | B29: 96985 | C29: =(IF($A29="SINAPI",INDEX(SINAPI_NOV2020_NDES!$A$7:$H$6703,MATCH($B29,SINAPI_NOV2020_NDES!$A$7:$A$6703,0),2),IF($A29="GOINFRA",INDEX(#REF!,MATCH($B29,#REF!,0),2),(INDEX(COMPOS!$A$4:$G$390,MATCH($B29,COMPOS!$A$4:A$390,0),2))))) -> HASTE DE ATERRAMENTO 5/8 PARA SPDA - FORNECIMENTO E INSTALAÇÃO. AF_12/2017 | D29: =(IF($A29="SINAPI",INDEX(SINAPI_NOV2020_NDES!$A$7:$H$6703,MATCH($B29,SINAPI_NOV2020_NDES!$A$7:$A$6703,0),3),IF($A29="GOINFRA",INDEX(#REF!,MATCH($B29,#REF!,0),3),(INDEX(COMPOS!$A$4:$G$39000,MATCH($B29,COMPOS!$A$4:A$39000,0),3))))) -> UN | E29: 4 | F29: =(IF($A29="SINAPI",INDEX(SINAPI_NOV2020_NDES!$A$7:$H$6703,MATCH($B29,SINAPI_NOV2020_NDES!$A$7:$A$6703,0),5),(INDEX(COMPOS!$A$4:$G$801,MATCH($B29,COMPOS!$A$4:A$801,0),4)))) -> 7.44 | G29: =(IF($A29="SINAPI",INDEX(SINAPI_NOV2020_NDES!$A$7:$H$6703,MATCH($B29,SINAPI_NOV2020_NDES!$A$7:$A$6703,0),6),(INDEX(COMPOS!$A$4:$G$801,MATCH($B29,COMPOS!$A$4:A$801,0),5)))) -> 38.17 | H29: =(IF($A29="SINAPI",INDEX(SINAPI_NOV2020_NDES!$A$7:$H$6703,MATCH($B29,SINAPI_NOV2020_NDES!$A$7:$A$6703,0),7),(INDEX(COMPOS!$A$4:$G$801,MATCH($B29,COMPOS!$A$4:A$801,0),6)))) -> 0 | I29: =SUM(F29:H29) -> 45.61 | J29: =+I29*E29 -> 182.44
A30: SINAPI | B30: 91979 | C30: =(IF($A30="SINAPI",INDEX(SINAPI_NOV2020_NDES!$A$7:$H$6703,MATCH($B30,SINAPI_NOV2020_NDES!$A$7:$A$6703,0),2),IF($A30="GOINFRA",INDEX(#REF!,MATCH($B30,#REF!,0),2),(INDEX(COMPOS!$A$4:$G$390,MATCH($B30,COMPOS!$A$4:A$390,0),2))))) -> INTERRUPTOR INTERMEDIÁRIO (1 MÓDULO), 10A/250V, INCLUINDO SUPORTE E PLACA - FORNECIMENTO E INSTALAÇÃO. AF_09/2017 | D30: =(IF($A30="SINAPI",INDEX(SINAPI_NOV2020_NDES!$A$7:$H$6703,MATCH($B30,SINAPI_NOV2020_NDES!$A$7:$A$6703,0),3),IF($A30="GOINFRA",INDEX(#REF!,MATCH($B30,#REF!,0),3),(INDEX(COMPOS!$A$4:$G$39000,MATCH($B30,COMPOS!$A$4:A$39000,0),3))))) -> UN | E30: 3 | F30: =(IF($A30="SINAPI",INDEX(SINAPI_NOV2020_NDES!$A$7:$H$6703,MATCH($B30,SINAPI_NOV2020_NDES!$A$7:$A$6703,0),5),(INDEX(COMPOS!$A$4:$G$801,MATCH($B30,COMPOS!$A$4:A$801,0),4)))) -> 13.65 | G30: =(IF($A30="SINAPI",INDEX(SINAPI_NOV2020_NDES!$A$7:$H$6703,MATCH($B30,SINAPI_NOV2020_NDES!$A$7:$A$6703,0),6),(INDEX(COMPOS!$A$4:$G$801,MATCH($B30,COMPOS!$A$4:A$801,0),5)))) -> 18.33 | H30: =(IF($A30="SINAPI",INDEX(SINAPI_NOV2020_NDES!$A$7:$H$6703,MATCH($B30,SINAPI_NOV2020_NDES!$A$7:$A$6703,0),7),(INDEX(COMPOS!$A$4:$G$801,MATCH($B30,COMPOS!$A$4:A$801,0),6)))) -> 0 | I30: =SUM(F30:H30) -> 31.98 | J30: =+I30*E30 -> 95.94
A31: SINAPI | B31: 91955 | C31: =(IF($A31="SINAPI",INDEX(SINAPI_NOV2020_NDES!$A$7:$H$6703,MATCH($B31,SINAPI_NOV2020_NDES!$A$7:$A$6703,0),2),IF($A31="GOINFRA",INDEX(#REF!,MATCH($B31,#REF!,0),2),(INDEX(COMPOS!$A$4:$G$390,MATCH($B31,COMPOS!$A$4:A$390,0),2))))) -> INTERRUPTOR PARALELO (1 MÓDULO), 10A/250V, INCLUINDO SUPORTE E PLACA - FORNECIMENTO E INSTALAÇÃO. AF_12/2015 | D31: =(IF($A31="SINAPI",INDEX(SINAPI_NOV2020_NDES!$A$7:$H$6703,MATCH($B31,SINAPI_NOV2020_NDES!$A$7:$A$6703,0),3),IF($A31="GOINFRA",INDEX(#REF!,MATCH($B31,#REF!,0),3),(INDEX(COMPOS!$A$4:$G$39000,MATCH($B31,COMPOS!$A$4:A$39000,0),3))))) -> UN | E31: 5 | F31: =(IF($A31="SINAPI",INDEX(SINAPI_NOV2020_NDES!$A$7:$H$6703,MATCH($B31,SINAPI_NOV2020_NDES!$A$7:$A$6703,0),5),(INDEX(COMPOS!$A$4:$G$801,MATCH($B31,COMPOS!$A$4:A$801,0),4)))) -> 11.24 | G31: =(IF($A31="SINAPI",INDEX(SINAPI_NOV2020_NDES!$A$7:$H$6703,MATCH($B31,SINAPI_NOV2020_NDES!$A$7:$A$6703,0),6),(INDEX(COMPOS!$A$4:$G$801,MATCH($B31,COMPOS!$A$4:A$801,0),5)))) -> 11.47 | H31: =(IF($A31="SINAPI",INDEX(SINAPI_NOV2020_NDES!$A$7:$H$6703,MATCH($B31,SINAPI_NOV2020_NDES!$A$7:$A$6703,0),7),(INDEX(COMPOS!$A$4:$G$801,MATCH($B31,COMPOS!$A$4:A$801,0),6)))) -> 0 | I31: =SUM(F31:H31) -> 22.71 | J31: =+I31*E31 -> 113.55
A32: SINAPI | B32: 91961 | C32: =(IF($A32="SINAPI",INDEX(SINAPI_NOV2020_NDES!$A$7:$H$6703,MATCH($B32,SINAPI_NOV2020_NDES!$A$7:$A$6703,0),2),IF($A32="GOINFRA",INDEX(#REF!,MATCH($B32,#REF!,0),2),(INDEX(COMPOS!$A$4:$G$390,MATCH($B32,COMPOS!$A$4:A$390,0),2))))) -> INTERRUPTOR PARALELO (2 MÓDULOS), 10A/250V, INCLUINDO SUPORTE E PLACA - FORNECIMENTO E INSTALAÇÃO. AF_12/2015 | D32: =(IF($A32="SINAPI",INDEX(SINAPI_NOV2020_NDES!$A$7:$H$6703,MATCH($B32,SINAPI_NOV2020_NDES!$A$7:$A$6703,0),3),IF($A32="GOINFRA",INDEX(#REF!,MATCH($B32,#REF!,0),3),(INDEX(COMPOS!$A$4:$G$39000,MATCH($B32,COMPOS!$A$4:A$39000,0),3))))) -> UN | E32: 16 | F32: =(IF($A32="SINAPI",INDEX(SINAPI_NOV2020_NDES!$A$7:$H$6703,MATCH($B32,SINAPI_NOV2020_NDES!$A$7:$A$6703,0),5),(INDEX(COMPOS!$A$4:$G$801,MATCH($B32,COMPOS!$A$4:A$801,0),4)))) -> 18.52 | G32: =(IF($A32="SINAPI",INDEX(SINAPI_NOV2020_NDES!$A$7:$H$6703,MATCH($B32,SINAPI_NOV2020_NDES!$A$7:$A$6703,0),6),(INDEX(COMPOS!$A$4:$G$801,MATCH($B32,COMPOS!$A$4:A$801,0),5)))) -> 19.16 | H32: =(IF($A32="SINAPI",INDEX(SINAPI_NOV2020_NDES!$A$7:$H$6703,MATCH($B32,SINAPI_NOV2020_NDES!$A$7:$A$6703,0),7),(INDEX(COMPOS!$A$4:$G$801,MATCH($B32,COMPOS!$A$4:A$801,0),6)))) -> 0 | I32: =SUM(F32:H32) -> 37.68 | J32: =+I32*E32 -> 602.88
A33: SINAPI | B33: 91953 | C33: =(IF($A33="SINAPI",INDEX(SINAPI_NOV2020_NDES!$A$7:$H$6703,MATCH($B33,SINAPI_NOV2020_NDES!$A$7:$A$6703,0),2),IF($A33="GOINFRA",INDEX(#REF!,MATCH($B33,#REF!,0),2),(INDEX(COMPOS!$A$4:$G$390,MATCH($B33,COMPOS!$A$4:A$390,0),2))))) -> INTERRUPTOR SIMPLES (1 MÓDULO), 10A/250V, INCLUINDO SUPORTE E PLACA - FORNECIMENTO E INSTALAÇÃO. AF_12/2015 | D33: =(IF($A33="SINAPI",INDEX(SINAPI_NOV2020_NDES!$A$7:$H$6703,MATCH($B33,SINAPI_NOV2020_NDES!$A$7:$A$6703,0),3),IF($A33="GOINFRA",INDEX(#REF!,MATCH($B33,#REF!,0),3),(INDEX(COMPOS!$A$4:$G$39000,MATCH($B33,COMPOS!$A$4:A$39000,0),3))))) -> UN | E33: 19 | F33: =(IF($A33="SINAPI",INDEX(SINAPI_NOV2020_NDES!$A$7:$H$6703,MATCH($B33,SINAPI_NOV2020_NDES!$A$7:$A$6703,0),5),(INDEX(COMPOS!$A$4:$G$801,MATCH($B33,COMPOS!$A$4:A$801,0),4)))) -> 8.79 | G33: =(IF($A33="SINAPI",INDEX(SINAPI_NOV2020_NDES!$A$7:$H$6703,MATCH($B33,SINAPI_NOV2020_NDES!$A$7:$A$6703,0),6),(INDEX(COMPOS!$A$4:$G$801,MATCH($B33,COMPOS!$A$4:A$801,0),5)))) -> 9.45 | H33: =(IF($A33="SINAPI",INDEX(SINAPI_NOV2020_NDES!$A$7:$H$6703,MATCH($B33,SINAPI_NOV2020_NDES!$A$7:$A$6703,0),7),(INDEX(COMPOS!$A$4:$G$801,MATCH($B33,COMPOS!$A$4:A$801,0),6)))) -> 0 | I33: =SUM(F33:H33) -> 18.24 | J33: =+I33*E33 -> 346.56
... A49: COMPOS | B49: 760 | C49: =(IF($A49="SINAPI",INDEX(SINAPI_NOV2020_NDES!$A$7:$H$6703,MATCH($B49,SINAPI_NOV2020_NDES!$A$7:$A$6703,0),2),IF($A49="GOINFRA",INDEX(#REF!,MATCH($B49,#REF!,0),2),(INDEX(COMPOS!$A$4:$G$390,MATCH($B49,COMPOS!$A$4:A$390,0),2))))) -> LAMPADA LED 18 W BIVOLT BRANCA, FORMATO TRADICIONAL (BASE E27) | D49: =(IF($A49="SINAPI",INDEX(SINAPI_NOV2020_NDES!$A$7:$H$6703,MATCH($B49,SINAPI_NOV2020_NDES!$A$7:$A$6703,0),3),IF($A49="GOINFRA",INDEX(#REF!,MATCH($B49,#REF!,0),3),(INDEX(COMPOS!$A$4:$G$39000,MATCH($B49,COMPOS!$A$4:A$39000,0),3))))) -> UN | E49: 8 | F49: =(IF($A49="SINAPI",INDEX(SINAPI_NOV2020_NDES!$A$7:$H$6703,MATCH($B49,SINAPI_NOV2020_NDES!$A$7:$A$6703,0),5),(INDEX(COMPOS!$A$4:$G$801,MATCH($B49,COMPOS!$A$4:A$801,0),4)))) -> 3.0904 | G49: =(IF($A49="SINAPI",INDEX(SINAPI_NOV2020_NDES!$A$7:$H$6703,MATCH($B49,SINAPI_NOV2020_NDES!$A$7:$A$6703,0),6),(INDEX(COMPOS!$A$4:$G$801,MATCH($B49,COMPOS!$A$4:A$801,0),5)))) -> 23.94 | H49: =(IF($A49="SINAPI",INDEX(SINAPI_NOV2020_NDES!$A$7:$H$6703,MATCH($B49,SINAPI_NOV2020_NDES!$A$7:$A$6703,0),7),(INDEX(COMPOS!$A$4:$G$801,MATCH($B49,COMPOS!$A$4:A$801,0),6)))) -> 0 | I49: =SUM(F49:H49) -> 27.0304 | J49: =+I49*E49 -> 216.2432
C50: INST. TELEFÔNICA/CABEAMENTO ESTRUTURADO
A51: COMPOS | B51: 835 | C51: =(IF($A51="SINAPI",INDEX(SINAPI_NOV2020_NDES!$A$7:$H$6703,MATCH($B51,SINAPI_NOV2020_NDES!$A$7:$A$6703,0),2),IF($A51="GOINFRA",INDEX(#REF!,MATCH($B51,#REF!,0),2),(INDEX(COMPOS!$A$4:$G$39000,MATCH($B51,COMPOS!$A$4:A$39000,0),2))))) -> BUCHA E ARRUELA METALICA DIAM. 1.1/4" | D51: =(IF($A51="SINAPI",INDEX(SINAPI_NOV2020_NDES!$A$7:$H$6703,MATCH($B51,SINAPI_NOV2020_NDES!$A$7:$A$6703,0),3),IF($A51="GOINFRA",INDEX(#REF!,MATCH($B51,#REF!,0),3),(INDEX(COMPOS!$A$4:$G$39000,MATCH($B51,COMPOS!$A$4:A$39000,0),3))))) -> UN | E51: 14 | F51: =(IF($A51="SINAPI",INDEX(SINAPI_NOV2020_NDES!$A$7:$H$6703,MATCH($B51,SINAPI_NOV2020_NDES!$A$7:$A$6703,0),5),(INDEX(COMPOS!$A$4:$G$801,MATCH($B51,COMPOS!$A$4:A$801,0),4)))) -> 11.589 | G51: =(IF($A51="SINAPI",INDEX(SINAPI_NOV2020_NDES!$A$7:$H$6703,MATCH($B51,SINAPI_NOV2020_NDES!$A$7:$A$6703,0),6),(INDEX(COMPOS!$A$4:$G$801,MATCH($B51,COMPOS!$A$4:A$801,0),5)))) -> 2.29 | H51: =(IF($A51="SINAPI",INDEX(SINAPI_NOV2020_NDES!$A$7:$H$6703,MATCH($B51,SINAPI_NOV2020_NDES!$A$7:$A$6703,0),7),(INDEX(COMPOS!$A$4:$G$801,MATCH($B51,COMPOS!$A$4:A$801,0),6)))) -> 0 | I51: =SUM(F51:H51) -> 13.879 | J51: =+I51*E51 -> 194.306
A52: COMPOS | B52: 829 | C52: =(IF($A52="SINAPI",INDEX(SINAPI_NOV2020_NDES!$A$7:$H$6703,MATCH($B52,SINAPI_NOV2020_NDES!$A$7:$A$6703,0),2),IF($A52="GOINFRA",INDEX(#REF!,MATCH($B52,#REF!,0),2),(INDEX(COMPOS!$A$4:$G$39000,MATCH($B52,COMPOS!$A$4:A$39000,0),2))))) -> CABO TELEFON. CTP-APL-50 DE 20 PARES (USO EXTERNO) | D52: =(IF($A52="SINAPI",INDEX(SINAPI_NOV2020_NDES!$A$7:$H$6703,MATCH($B52,SINAPI_NOV2020_NDES!$A$7:$A$6703,0),3),IF($A52="GOINFRA",INDEX(#REF!,MATCH($B52,#REF!,0),3),(INDEX(COMPOS!$A$4:$G$39000,MATCH($B52,COMPOS!$A$4:A$39000,0),3))))) -> M | E52: 90 | F52: =(IF($A52="SINAPI",INDEX(SINAPI_NOV2020_NDES!$A$7:$H$6703,MATCH($B52,SINAPI_NOV2020_NDES!$A$7:$A$6703,0),5),(INDEX(COMPOS!$A$4:$G$801,MATCH($B52,COMPOS!$A$4:A$801,0),4)))) -> 4.05615 | G52: =(IF($A52="SINAPI",INDEX(SINAPI_NOV2020_NDES!$A$7:$H$6703,MATCH($B52,SINAPI_NOV2020_NDES!$A$7:$A$6703,0),6),(INDEX(COMPOS!$A$4:$G$801,MATCH($B52,COMPOS!$A$4:A$801,0),5)))) -> 10.3122 | H52: =(IF($A52="SINAPI",INDEX(SINAPI_NOV2020_NDES!$A$7:$H$6703,MATCH($B52,SINAPI_NOV2020_NDES!$A$7:$A$6703,0),7),(INDEX(COMPOS!$A$4:$G$801,MATCH($B52,COMPOS!$A$4:A$801,0),6)))) -> 0 | I52: =SUM(F52:H52) -> 14.36835 | J52: =+I52*E52 -> 1293.1515
A53: SINAPI | B53: 98295 | C53: =(IF($A53="SINAPI",INDEX(SINAPI_NOV2020_NDES!$A$7:$H$6703,MATCH($B53,SINAPI_NOV2020_NDES!$A$7:$A$6703,0),2),IF($A53="GOINFRA",INDEX(#REF!,MATCH($B53,#REF!,0),2),(INDEX(COMPOS!$A$4:$G$39000,MATCH($B53,COMPOS!$A$4:A$39000,0),2))))) -> CABO ELETRÔNICO CATEGORIA 5E, INSTALADO EM EDIFICAÇÃO INSTITUCIONAL - FORNECIMENTO E INSTALAÇÃO. AF_11/2019 | D53: =(IF($A53="SINAPI",INDEX(SINAPI_NOV2020_NDES!$A$7:$H$6703,MATCH($B53,SINAPI_NOV2020_NDES!$A$7:$A$6703,0),3),IF($A53="GOINFRA",INDEX(#REF!,MATCH($B53,#REF!,0),3),(INDEX(COMPOS!$A$4:$G$39000,MATCH($B53,COMPOS!$A$4:A$39000,0),3))))) -> M | E53: 3078 | F53: =(IF($A53="SINAPI",INDEX(SINAPI_NOV2020_NDES!$A$7:$H$6703,MATCH($B53,SINAPI_NOV2020_NDES!$A$7:$A$6703,0),5),(INDEX(COMPOS!$A$4:$G$801,MATCH($B53,COMPOS!$A$4:A$801,0),4)))) -> 0.07 | G53: =(IF($A53="SINAPI",INDEX(SINAPI_NOV2020_NDES!$A$7:$H$6703,MATCH($B53,SINAPI_NOV2020_NDES!$A$7:$A$6703,0),6),(INDEX(COMPOS!$A$4:$G$801,MATCH($B53,COMPOS!$A$4:A$801,0),5)))) -> 1.13 | H53: =(IF($A53="SINAPI",INDEX(SINAPI_NOV2020_NDES!$A$7:$H$6703,MATCH($B53,SINAPI_NOV2020_NDES!$A$7:$A$6703,0),7),(INDEX(COMPOS!$A$4:$G$801,MATCH($B53,COMPOS!$A$4:A$801,0),6)))) -> 0 | I53: =SUM(F53:H53) -> 1.2 | J53: =+I53*E53 -> 3693.6
A54: COMPOS | B54: 320 | C54: =(IF($A54="SINAPI",INDEX(SINAPI_NOV2020_NDES!$A$7:$H$6703,MATCH($B54,SINAPI_NOV2020_NDES!$A$7:$A$6703,0),2),IF($A54="GOINFRA",INDEX(#REF!,MATCH($B54,#REF!,0),2),(INDEX(COMPOS!$A$4:$G$39000,MATCH($B54,COMPOS!$A$4:A$39000,0),2))))) -> CAIXA DE PASSAGEM 35X60X50CM FUNDO DE CONCRETO PARA TAMPA R1 | D54: =(IF($A54="SINAPI",INDEX(SINAPI_NOV2020_NDES!$A$7:$H$6703,MATCH($B54,SINAPI_NOV2020_NDES!$A$7:$A$6703,0),3),IF($A54="GOINFRA",INDEX(#REF!,MATCH($B54,#REF!,0),3),(INDEX(COMPOS!$A$4:$G$39000,MATCH($B54,COMPOS!$A$4:A$39000,0),3))))) -> UN | E54: 3 | F54: =(IF($A54="SINAPI",INDEX(SINAPI_NOV2020_NDES!$A$7:$H$6703,MATCH($B54,SINAPI_NOV2020_NDES!$A$7:$A$6703,0),5),(INDEX(COMPOS!$A$4:$G$801,MATCH($B54,COMPOS!$A$4:A$801,0),4)))) -> 154.60165 | G54: =(IF($A54="SINAPI",INDEX(SINAPI_NOV2020_NDES!$A$7:$H$6703,MATCH($B54,SINAPI_NOV2020_NDES!$A$7:$A$6703,0),6),(INDEX(COMPOS!$A$4:$G$801,MATCH($B54,COMPOS!$A$4:A$801,0),5)))) -> 104.76597 | H54: =(IF($A54="SINAPI",INDEX(SINAPI_NOV2020_NDES!$A$7:$H$6703,MATCH($B54,SINAPI_NOV2020_NDES!$A$7:$A$6703,0),7),(INDEX(COMPOS!$A$4:$G$801,MATCH($B54,COMPOS!$A$4:A$801,0),6)))) -> 0 | I54: =SUM(F54:H54) -> 259.36762 | J54: =+I54*E54 -> 778.10287
A55: COMPOS | B55: 839 | C55: =(IF($A55="SINAPI",INDEX(SINAPI_NOV2020_NDES!$A$7:$H$6703,MATCH($B55,SINAPI_NOV2020_NDES!$A$7:$A$6703,0),2),IF($A55="GOINFRA",INDEX(#REF!,MATCH($B55,#REF!,0),2),(INDEX(COMPOS!$A$4:$G$39000,MATCH($B55,COMPOS!$A$4:A$39000,0),2))))) -> CAIXA DE PASSAGEM METÁLICA DE EMBUTIR 40X40X15 CM | D55: =(IF($A55="SINAPI",INDEX(SINAPI_NOV2020_NDES!$A$7:$H$6703,MATCH($B55,SINAPI_NOV2020_NDES!$A$7:$A$6703,0),3),IF($A55="GOINFRA",INDEX(#REF!,MATCH($B55,#REF!,0),3),(INDEX(COMPOS!$A$4:$G$39000,MATCH($B55,COMPOS!$A$4:A$39000,0),3))))) -> UN | E55: 4 | F55: =(IF($A55="SINAPI",INDEX(SINAPI_NOV2020_NDES!$A$7:$H$6703,MATCH($B55,SINAPI_NOV2020_NDES!$A$7:$A$6703,0),5),(INDEX(COMPOS!$A$4:$G$801,MATCH($B55,COMPOS!$A$4:A$801,0),4)))) -> 77.26 | G55: =(IF($A55="SINAPI",INDEX(SINAPI_NOV2020_NDES!$A$7:$H$6703,MATCH($B55,SINAPI_NOV2020_NDES!$A$7:$A$6703,0),6),(INDEX(COMPOS!$A$4:$G$801,MATCH($B55,COMPOS!$A$4:A$801,0),5)))) -> 88.55 | H55: =(IF($A55="SINAPI",INDEX(SINAPI_NOV2020_NDES!$A$7:$H$6703,MATCH($B55,SINAPI_NOV2020_NDES!$A$7:$A$6703,0),7),(INDEX(COMPOS!$A$4:$G$801,MATCH($B55,COMPOS!$A$4:A$801,0),6)))) -> 0 | I55: =SUM(F55:H55) -> 165.81 | J55: =+I55*E55 -> 663.24
A56: COMPOS | B56: 841 | C56: =(IF($A56="SINAPI",INDEX(SINAPI_NOV2020_NDES!$A$7:$H$6703,MATCH($B56,SINAPI_NOV2020_NDES!$A$7:$A$6703,0),2),IF($A56="GOINFRA",INDEX(#REF!,MATCH($B56,#REF!,0),2),(INDEX(COMPOS!$A$4:$G$39000,MATCH($B56,COMPOS!$A$4:A$39000,0),2))))) -> CAIXA DISTRIBUIÇÃO TELEFÔNICA DE EMBUTIR 40X40X12 CM | D56: =(IF($A56="SINAPI",INDEX(SINAPI_NOV2020_NDES!$A$7:$H$6703,MATCH($B56,SINAPI_NOV2020_NDES!$A$7:$A$6703,0),3),IF($A56="GOINFRA",INDEX(#REF!,MATCH($B56,#REF!,0),3),(INDEX(COMPOS!$A$4:$G$39000,MATCH($B56,COMPOS!$A$4:A$39000,0),3))))) -> UN | E56: 1 | F56: =(IF($A56="SINAPI",INDEX(SINAPI_NOV2020_NDES!$A$7:$H$6703,MATCH($B56,SINAPI_NOV2020_NDES!$A$7:$A$6703,0),5),(INDEX(COMPOS!$A$4:$G$801,MATCH($B56,COMPOS!$A$4:A$801,0),4)))) -> 77.26 | G56: =(IF($A56="SINAPI",INDEX(SINAPI_NOV2020_NDES!$A$7:$H$6703,MATCH($B56,SINAPI_NOV2020_NDES!$A$7:$A$6703,0),6),(INDEX(COMPOS!$A$4:$G$801,MATCH($B56,COMPOS!$A$4:A$801,0),5)))) -> 88.55 | H56: =(IF($A56="SINAPI",INDEX(SINAPI_NOV2020_NDES!$A$7:$H$6703,MATCH($B56,SINAPI_NOV2020_NDES!$A$7:$A$6703,0),7),(INDEX(COMPOS!$A$4:$G$801,MATCH($B56,COMPOS!$A$4:A$801,0),6)))) -> 0 | I56: =SUM(F56:H56) -> 165.81 | J56: =+I56*E56 -> 165.81
A57: COMPOS | B57: 843 | C57: =(IF($A57="SINAPI",INDEX(SINAPI_NOV2020_NDES!$A$7:$H$6703,MATCH($B57,SINAPI_NOV2020_NDES!$A$7:$A$6703,0),2),IF($A57="GOINFRA",INDEX(#REF!,MATCH($B57,#REF!,0),2),(INDEX(COMPOS!$A$4:$G$39000,MATCH($B57,COMPOS!$A$4:A$39000,0),2))))) -> CAIXA METALICA RET. 4" X 2" X 2" | D57: =(IF($A57="SINAPI",INDEX(SINAPI_NOV2020_NDES!$A$7:$H$6703,MATCH($B57,SINAPI_NOV2020_NDES!$A$7:$A$6703,0),3),IF($A57="GOINFRA",INDEX(#REF!,MATCH($B57,#REF!,0),3),(INDEX(COMPOS!$A$4:$G$39000,MATCH($B57,COMPOS!$A$4:A$39000,0),3))))) -> UN | E57: 4 | F57: =(IF($A57="SINAPI",INDEX(SINAPI_NOV2020_NDES!$A$7:$H$6703,MATCH($B57,SINAPI_NOV2020_NDES!$A$7:$A$6703,0),5),(INDEX(COMPOS!$A$4:$G$801,MATCH($B57,COMPOS!$A$4:A$801,0),4)))) -> 5.7945 | G57: =(IF($A57="SINAPI",INDEX(SINAPI_NOV2020_NDES!$A$7:$H$6703,MATCH($B57,SINAPI_NOV2020_NDES!$A$7:$A$6703,0),6),(INDEX(COMPOS!$A$4:$G$801,MATCH($B57,COMPOS!$A$4:A$801,0),5)))) -> 1.03 | H57: =(IF($A57="SINAPI",INDEX(SINAPI_NOV2020_NDES!$A$7:$H$6703,MATCH($B57,SINAPI_NOV2020_NDES!$A$7:$A$6703,0),7),(INDEX(COMPOS!$A$4:$G$801,MATCH($B57,COMPOS!$A$4:A$801,0),6)))) -> 0 | I57: =SUM(F57:H57) -> 6.8245 | J57: =+I57*E57 -> 27.298
A58: COMPOS | B58: 842 | C58: =(IF($A58="SINAPI",INDEX(SINAPI_NOV2020_NDES!$A$7:$H$6703,MATCH($B58,SINAPI_NOV2020_NDES!$A$7:$A$6703,0),2),IF($A58="GOINFRA",INDEX(#REF!,MATCH($B58,#REF!,0),2),(INDEX(COMPOS!$A$4:$G$39000,MATCH($B58,COMPOS!$A$4:A$39000,0),2))))) -> CAIXA METALICA QUADRADA 4"X4"X2" | D58: =(IF($A58="SINAPI",INDEX(SINAPI_NOV2020_NDES!$A$7:$H$6703,MATCH($B58,SINAPI_NOV2020_NDES!$A$7:$A$6703,0),3),IF($A58="GOINFRA",INDEX(#REF!,MATCH($B58,#REF!,0),3),(INDEX(COMPOS!$A$4:$G$39000,MATCH($B58,COMPOS!$A$4:A$39000,0),3))))) -> UN | E58: 46 | F58: =(IF($A58="SINAPI",INDEX(SINAPI_NOV2020_NDES!$A$7:$H$6703,MATCH($B58,SINAPI_NOV2020_NDES!$A$7:$A$6703,0),5),(INDEX(COMPOS!$A$4:$G$801,MATCH($B58,COMPOS!$A$4:A$801,0),4)))) -> 5.7945 | G58: =(IF($A58="SINAPI",INDEX(SINAPI_NOV2020_NDES!$A$7:$H$6703,MATCH($B58,SINAPI_NOV2020_NDES!$A$7:$A$6703,0),6),(INDEX(COMPOS!$A$4:$G$801,MATCH($B58,COMPOS!$A$4:A$801,0),5)))) -> 2.18 | H58: =(IF($A58="SINAPI",INDEX(SINAPI_NOV2020_NDES!$A$7:$H$6703,MATCH($B58,SINAPI_NOV2020_NDES!$A$7:$A$6703,0),7),(INDEX(COMPOS!$A$4:$G$801,MATCH($B58,COMPOS!$A$4:A$801,0),6)))) -> 0 | I58: =SUM(F58:H58) -> 7.9745 | J58: =+I58*E58 -> 366.827
A59: COMPOS | B59: 321 | C59: =(IF($A59="SINAPI",INDEX(SINAPI_NOV2020_NDES!$A$7:$H$6703,MATCH($B59,SINAPI_NOV2020_NDES!$A$7:$A$6703,0),2),IF($A59="GOINFRA",INDEX(#REF!,MATCH($B59,#REF!,0),2),(INDEX(COMPOS!$A$4:$G$39000,MATCH($B59,COMPOS!$A$4:A$39000,0),2))))) -> CAIXA DE PASSAGEM 107x52x50CM FUNDO DE CONCRETO PARA TAMPA R3 | D59: =(IF($A59="SINAPI",INDEX(SINAPI_NOV2020_NDES!$A$7:$H$6703,MATCH($B59,SINAPI_NOV2020_NDES!$A$7:$A$6703,0),3),IF($A59="GOINFRA",INDEX(#REF!,MATCH($B59,#REF!,0),3),(INDEX(COMPOS!$A$4:$G$39000,MATCH($B59,COMPOS!$A$4:A$39000,0),3))))) -> UN | E59: 2 | F59: =(IF($A59="SINAPI",INDEX(SINAPI_NOV2020_NDES!$A$7:$H$6703,MATCH($B59,SINAPI_NOV2020_NDES!$A$7:$A$6703,0),5),(INDEX(COMPOS!$A$4:$G$801,MATCH($B59,COMPOS!$A$4:A$801,0),4)))) -> 241.23336 | G59: =(IF($A59="SINAPI",INDEX(SINAPI_NOV2020_NDES!$A$7:$H$6703,MATCH($B59,SINAPI_NOV2020_NDES!$A$7:$A$6703,0),6),(INDEX(COMPOS!$A$4:$G$801,MATCH($B59,COMPOS!$A$4:A$801,0),5)))) -> 159.78428 | H59: =(IF($A59="SINAPI",INDEX(SINAPI_NOV2020_NDES!$A$7:$H$6703,MATCH($B59,SINAPI_NOV2020_NDES!$A$7:$A$6703,0),7),(INDEX(COMPOS!$A$4:$G$801,MATCH($B59,COMPOS!$A$4:A$801,0),6)))) -> 0 | I59: =SUM(F59:H59) -> 401.01764 | J59: =+I59*E59 -> 802.03528
A60: COMPOS | B60: 844 | C60: =(IF($A60="SINAPI",INDEX(SINAPI_NOV2020_NDES!$A$7:$H$6703,MATCH($B60,SINAPI_NOV2020_NDES!$A$7:$A$6703,0),2),IF($A60="GOINFRA",INDEX(#REF!,MATCH($B60,#REF!,0),2),(INDEX(COMPOS!$A$4:$G$39000,MATCH($B60,COMPOS!$A$4:A$39000,0),2))))) -> CURVA DE 90 GRAUS DE PVC RIGIDO DIAM. 2" | D60: =(IF($A60="SINAPI",INDEX(SINAPI_NOV2020_NDES!$A$7:$H$6703,MATCH($B60,SINAPI_NOV2020_NDES!$A$7:$A$6703,0),3),IF($A60="GOINFRA",INDEX(#REF!,MATCH($B60,#REF!,0),3),(INDEX(COMPOS!$A$4:$G$39000,MATCH($B60,COMPOS!$A$4:A$39000,0),3))))) -> UN | E60: 3 | F60: =(IF($A60="SINAPI",INDEX(SINAPI_NOV2020_NDES!$A$7:$H$6703,MATCH($B60,SINAPI_NOV2020_NDES!$A$7:$A$6703,0),5),(INDEX(COMPOS!$A$4:$G$801,MATCH($B60,COMPOS!$A$4:A$801,0),4)))) -> 14.6794 | G60: =(IF($A60="SINAPI",INDEX(SINAPI_NOV2020_NDES!$A$7:$H$6703,MATCH($B60,SINAPI_NOV2020_NDES!$A$7:$A$6703,0),6),(INDEX(COMPOS!$A$4:$G$801,MATCH($B60,COMPOS!$A$4:A$801,0),5)))) -> 3.92 | H60: =(IF($A60="SINAPI",INDEX(SINAPI_NOV2020_NDES!$A$7:$H$6703,MATCH($B60,SINAPI_NOV2020_NDES!$A$7:$A$6703,0),7),(INDEX(COMPOS!$A$4:$G$801,MATCH($B60,COMPOS!$A$4:A$801,0),6)))) -> 0 | I60: =SUM(F60:H60) -> 18.5994 | J60: =+I60*E60 -> 55.7982
...

Sheet VISITA_ÍNTIMA
A4: OBRA: | C4: =+RESUMO!B5 -> CONCLUSÃO DA CONSTRUÇÃO DO CENTRO DE ATENDIMENTO SÓCIO EDUCATIVO - CASE ITUMBIARA
A5: TABELA: | C5: =+RESUMO!B6 -> SINAPI – NOVEMBRO/2020 (ONERADA)
A6: DATA: | C6: =+RESUMO!B7 -> MAIO / 2021
A7: PROCESSO: | C7: 2.0200004e+18
A8: BLOCO: | C8: VISITA INTIMA
A9: ÁREA: | C9: 45,04m²
A11: TABELA | B11: CÓDIGO | C11: SERVIÇO | D11: UND | E11: QTDE | F11: M.OBRA | G11: MATERIAL | H11: EQUIP | I11: C. UNIT. (R$) | J11: C. TOTAL (R$)
B13: 165 | C13: TRANSPORTES
A14: COMPOS | B14: 450 | C14: =(IF($A14="SINAPI",INDEX(SINAPI_NOV2020_NDES!$A$7:$H$6703,MATCH($B14,SINAPI_NOV2020_NDES!$A$7:$A$6703,0),2),IF($A14="GOINFRA",INDEX(#REF!,MATCH($B14,#REF!,0),2),(INDEX(COMPOS!$A$4:$G$3900,MATCH($B14,COMPOS!$A$4:A$3900,0),2))))) -> TRANSPORTE DE ENTULHO EM CAÇAMBA ESTACIONÁRIA INCLUSO A CARGA MANUAL | D14: =(IF($A14="SINAPI",INDEX(SINAPI_NOV2020_NDES!$A$7:$H$6790,MATCH($B14,SINAPI_NOV2020_NDES!$A$7:$A$6790,0),3),(INDEX(COMPOS!$A$4:$G$5000,MATCH($B14,COMPOS!$A$4:$A$5000,0),3)))) -> M3 | E14: =45.04*0.07*0.5 -> 1.5764 | F14: =(IF($A14="SINAPI",INDEX(SINAPI_NOV2020_NDES!$A$7:$H$6703,MATCH($B14,SINAPI_NOV2020_NDES!$A$7:$A$6703,0),5),(INDEX(COMPOS!$A$4:$G$801,MATCH($B14,COMPOS!$A$4:A$801,0),4)))) -> 10.8792 | G14: =(IF($A14="SINAPI",INDEX(SINAPI_NOV2020_NDES!$A$7:$H$6703,MATCH($B14,SINAPI_NOV2020_NDES!$A$7:$A$6703,0),6),(INDEX(COMPOS!$A$4:$G$801,MATCH($B14,COMPOS!$A$4:A$801,0),5)))) -> 50.39 | H14: =(IF($A14="SINAPI",INDEX(SINAPI_NOV2020_NDES!$A$7:$H$6703,MATCH($B14,SINAPI_NOV2020_NDES!$A$7:$A$6703,0),7),(INDEX(COMPOS!$A$4:$G$801,MATCH($B14,COMPOS!$A$4:A$801,0),6)))) -> 0 | I14: =SUM(F14:H14) -> 61.2692 | J14: =+I14*E14 -> 96.584767
A15: SUB-TOTAL | J15: =SUM(J14) -> 96.584767
B16: 166 | C16: SERVIÇO EM TERRA
A17: COMPOS | B17: 305 | C17: =(IF($A17="SINAPI",INDEX(SINAPI_NOV2020_NDES!$A$7:$H$6703,MATCH($B17,SINAPI_NOV2020_NDES!$A$7:$A$6703,0),2),IF($A17="GOINFRA",INDEX(#REF!,MATCH($B17,#REF!,0),2),(INDEX(COMPOS!$A$4:$G$390,MATCH($B17,COMPOS!$A$4:A$390,0),2))))) -> REGULARIZAÇÃO DO TERRENO SEM APILOAMENTO COM TRANSPORTE MANUAL DE TERRA ESCAVADA | D17: =(IF($A17="SINAPI",INDEX(SINAPI_NOV2020_NDES!$A$7:$H$6790,MATCH($B17,SINAPI_NOV2020_NDES!$A$7:$A$6790,0),3),(INDEX(COMPOS!$A$4:$G$5000,MATCH($B17,COMPOS!$A$4:$A$5000,0),3)))) -> M2 | E17: =38.82+24.26 -> 63.08 | F17: =(IF($A17="SINAPI",INDEX(SINAPI_NOV2020_NDES!$A$7:$H$6703,MATCH($B17,SINAPI_NOV2020_NDES!$A$7:$A$6703,0),5),(INDEX(COMPOS!$A$4:$G$801,MATCH($B17,COMPOS!$A$4:A$801,0),4)))) -> 2.842123 | G17: =(IF($A17="SINAPI",INDEX(SINAPI_NOV2020_NDES!$A$7:$H$6703,MATCH($B17,SINAPI_NOV2020_NDES!$A$7:$A$6703,0),6),(INDEX(COMPOS!$A$4:$G$801,MATCH($B17,COMPOS!$A$4:A$801,0),5)))) -> 0 | H17: =(IF($A17="SINAPI",INDEX(SINAPI_NOV2020_NDES!$A$7:$H$6703,MATCH($B17,SINAPI_NOV2020_NDES!$A$7:$A$6703,0),7),(INDEX(COMPOS!$A$4:$G$801,MATCH($B17,COMPOS!$A$4:A$801,0),6)))) -> 0 | I17: =SUM(F17:H17) -> 2.842123 | J17: =+I17*E17 -> 179.28112
A18: COMPOS | B18: 302 | C18: =(IF($A18="SINAPI",INDEX(SINAPI_NOV2020_NDES!$A$7:$H$6703,MATCH($B18,SINAPI_NOV2020_NDES!$A$7:$A$6703,0),2),IF($A18="GOINFRA",INDEX(#REF!,MATCH($B18,#REF!,0),2),(INDEX(COMPOS!$A$4:$G$390,MATCH($B18,COMPOS!$A$4:A$390,0),2))))) -> APILOAMENTO | D18: =(IF($A18="SINAPI",INDEX(SINAPI_NOV2020_NDES!$A$7:$H$6790,MATCH($B18,SINAPI_NOV2020_NDES!$A$7:$A$6790,0),3),(INDEX(COMPOS!$A$4:$G$5000,MATCH($B18,COMPOS!$A$4:$A$5000,0),3)))) -> M2 | E18: =E17 -> 63.08 | F18: =(IF($A18="SINAPI",INDEX(SINAPI_NOV2020_NDES!$A$7:$H$6703,MATCH($B18,SINAPI_NOV2020_NDES!$A$7:$A$6703,0),5),(INDEX(COMPOS!$A$4:$G$801,MATCH($B18,COMPOS!$A$4:A$801,0),4)))) -> 6.044 | G18: =(IF($A18="SINAPI",INDEX(SINAPI_NOV2020_NDES!$A$7:$H$6703,MATCH($B18,SINAPI_NOV2020_NDES!$A$7:$A$6703,0),6),(INDEX(COMPOS!$A$4:$G$801,MATCH($B18,COMPOS!$A$4:A$801,0),5)))) -> 0 | H18: =(IF($A18="SINAPI",INDEX(SINAPI_NOV2020_NDES!$A$7:$H$6703,MATCH($B18,SINAPI_NOV2020_NDES!$A$7:$A$6703,0),7),(INDEX(COMPOS!$A$4:$G$801,MATCH($B18,COMPOS!$A$4:A$801,0),6)))) -> 0 | I18: =SUM(F18:H18) -> 6.044 | J18: =+I18*E18 -> 381.25552
A19: COMPOS | B19: 303 | C19: =(IF($A19="SINAPI",INDEX(SINAPI_NOV2020_NDES!$A$7:$H$6703,MATCH($B19,SINAPI_NOV2020_NDES!$A$7:$A$6703,0),2),IF($A19="GOINFRA",INDEX(#REF!,MATCH($B19,#REF!,0),2),(INDEX(COMPOS!$A$4:$G$390,MATCH($B19,COMPOS!$A$4:A$390,0),2))))) -> ATERRO INTERNO SEM APILOAMENTO | D19: =(IF($A19="SINAPI",INDEX(SINAPI_NOV2020_NDES!$A$7:$H$6790,MATCH($B19,SINAPI_NOV2020_NDES!$A$7:$A$6790,0),3),(INDEX(COMPOS!$A$4:$G$5000,MATCH($B19,COMPOS!$A$4:$A$5000,0),3)))) -> M3 | E19: =38.82*0.2 -> 7.764 | F19: =(IF($A19="SINAPI",INDEX(SINAPI_NOV2020_NDES!$A$7:$H$6703,MATCH($B19,SINAPI_NOV2020_NDES!$A$7:$A$6703,0),5),(INDEX(COMPOS!$A$4:$G$801,MATCH($B19,COMPOS!$A$4:A$801,0),4)))) -> 30.22 | G19: =(IF($A19="SINAPI",INDEX(SINAPI_NOV2020_NDES!$A$7:$H$6703,MATCH($B19,SINAPI_NOV2020_NDES!$A$7:$A$6703,0),6),(INDEX(COMPOS!$A$4:$G$801,MATCH($B19,COMPOS!$A$4:A$801,0),5)))) -> 0 | H19: =(IF($A19="SINAPI",INDEX(SINAPI_NOV2020_NDES!$A$7:$H$6703,MATCH($B19,SINAPI_NOV2020_NDES!$A$7:$A$6703,0),7),(INDEX(COMPOS!$A$4:$G$801,MATCH($B19,COMPOS!$A$4:A$801,0),6)))) -> 0 | I19: =SUM(F19:H19) -> 30.22 | J19: =+I19*E19 -> 234.62808
A20: SUB-TOTAL | J20: =SUM(J17:J19) -> 795.16472
B21: 168 | C21: ESTRUTURA
A22: COMPOS | B22: 307 | C22: =(IF($A22="SINAPI",INDEX(SINAPI_NOV2020_NDES!$A$7:$H$6703,MATCH($B22,SINAPI_NOV2020_NDES!$A$7:$A$6703,0),2),IF($A22="GOINFRA",INDEX(#REF!,MATCH($B22,#REF!,0),2),(INDEX(COMPOS!$A$4:$G$390,MATCH($B22,COMPOS!$A$4:A$390,0),2))))) -> FORMA CHAPA COMPENSADA 12MM – VIGA/PILAR U=3X (OBRAS CIVIS) | D22: =(IF($A22="SINAPI",INDEX(SINAPI_NOV2020_NDES!$A$7:$H$6790,MATCH($B22,SINAPI_NOV2020_NDES!$A$7:$A$6790,0),3),(INDEX(COMPOS!$A$4:$G$5000,MATCH($B22,COMPOS!$A$4:$A$5000,0),3)))) -> M2 | E22: 9.22 | F22: =(IF($A22="SINAPI",INDEX(SINAPI_NOV2020_NDES!$A$7:$H$6703,MATCH($B22,SINAPI_NOV2020_NDES!$A$7:$A$6703,0),5),(INDEX(COMPOS!$A$4:$G$801,MATCH($B22,COMPOS!$A$4:A$801,0),4)))) -> 49.3965 | G22: =(IF($A22="SINAPI",INDEX(SINAPI_NOV2020_NDES!$A$7:$H$6703,MATCH($B22,SINAPI_NOV2020_NDES!$A$7:$A$6703,0),6),(INDEX(COMPOS!$A$4:$G$801,MATCH($B22,COMPOS!$A$4:A$801,0),5)))) -> 30.385095 | H22: =(IF($A22="SINAPI",INDEX(SINAPI_NOV2020_NDES!$A$7:$H$6703,MATCH($B22,SINAPI_NOV2020_NDES!$A$7:$A$6703,0),7),(INDEX(COMPOS!$A$4:$G$801,MATCH($B22,COMPOS!$A$4:A$801,0),6)))) -> 0 | I22: =SUM(F22:H22) -> 79.781595 | J22: =+I22*E22 -> 735.58631
A23: SINAPI | B23: 92775 | C23: =(IF($A23="SINAPI",INDEX(SINAPI_NOV2020_NDES!$A$7:$H$6703,MATCH($B23,SINAPI_NOV2020_NDES!$A$7:$A$6703,0),2),IF($A23="GOINFRA",INDEX(#REF!,MATCH($B23,#REF!,0),2),(INDEX(COMPOS!$A$4:$G$390,MATCH($B23,COMPOS!$A$4:A$390,0),2))))) -> ARMAÇÃO DE PILAR OU VIGA DE UMA ESTRUTURA CONVENCIONAL DE CONCRETO ARMADO EM UMA EDIFICAÇÃO TÉRREA OU SOBRADO UTILIZANDO AÇO CA-60 DE 5,0 MM - MONTAGEM. AF_12/2015 | D23: =(IF($A23="SINAPI",INDEX(SINAPI_NOV2020_NDES!$A$7:$H$6790,MATCH($B23,SINAPI_NOV2020_NDES!$A$7:$A$6790,0),3),(INDEX(COMPOS!$A$4:$G$5000,MATCH($B23,COMPOS!$A$4:$A$5000,0),3)))) -> KG | E23: 25.54 | F23: =(IF($A23="SINAPI",INDEX(SINAPI_NOV2020_NDES!$A$7:$H$6703,MATCH($B23,SINAPI_NOV2020_NDES!$A$7:$A$6703,0),5),(INDEX(COMPOS!$A$4:$G$801,MATCH($B23,COMPOS!$A$4:A$801,0),4)))) -> 5.68 | G23: =(IF($A23="SINAPI",INDEX(SINAPI_NOV2020_NDES!$A$7:$H$6703,MATCH($B23,SINAPI_NOV2020_NDES!$A$7:$A$6703,0),6),(INDEX(COMPOS!$A$4:$G$801,MATCH($B23,COMPOS!$A$4:A$801,0),5)))) -> 8.75 | H23: =(IF($A23="SINAPI",INDEX(SINAPI_NOV2020_NDES!$A$7:$H$6703,MATCH($B23,SINAPI_NOV2020_NDES!$A$7:$A$6703,0),7),(INDEX(COMPOS!$A$4:$G$801,MATCH($B23,COMPOS!$A$4:A$801,0),6)))) -> 0 | I23: =SUM(F23:H23) -> 14.43 | J23: =+I23*E23 -> 368.5422
A24: SINAPI | B24: 92776 | C24: =(IF($A24="SINAPI",INDEX(SINAPI_NOV2020_NDES!$A$7:$H$6703,MATCH($B24,SINAPI_NOV2020_NDES!$A$7:$A$6703,0),2),IF($A24="GOINFRA",INDEX(#REF!,MATCH($B24,#REF!,0),2),(INDEX(COMPOS!$A$4:$G$390,MATCH($B24,COMPOS!$A$4:A$390,0),2))))) -> ARMAÇÃO DE PILAR OU VIGA DE UMA ESTRUTURA CONVENCIONAL DE CONCRETO ARMADO EM UMA EDIFICAÇÃO TÉRREA OU SOBRADO UTILIZANDO AÇO CA-50 DE 6,3 MM - MONTAGEM. AF_12/2015 | D24: =(IF($A24="SINAPI",INDEX(SINAPI_NOV2020_NDES!$A$7:$H$6790,MATCH($B24,SINAPI_NOV2020_NDES!$A$7:$A$6790,0),3),(INDEX(COMPOS!$A$4:$G$5000,MATCH($B24,COMPOS!$A$4:$A$5000,0),3)))) -> KG | E24: 31 | F24: =(IF($A24="SINAPI",INDEX(SINAPI_NOV2020_NDES!$A$7:$H$6703,MATCH($B24,SINAPI_NOV2020_NDES!$A$7:$A$6703,0),5),(INDEX(COMPOS!$A$4:$G$801,MATCH($B24,COMPOS!$A$4:A$801,0),4)))) -> 4.02 | G24: =(IF($A24="SINAPI",INDEX(SINAPI_NOV2020_NDES!$A$7:$H$6703,MATCH($B24,SINAPI_NOV2020_NDES!$A$7:$A$6703,0),6),(INDEX(COMPOS!$A$4:$G$801,MATCH($B24,COMPOS!$A$4:A$801,0),5)))) -> 9.03 | H24: =(IF($A24="SINAPI",INDEX(SINAPI_NOV2020_NDES!$A$7:$H$6703,MATCH($B24,SINAPI_NOV2020_NDES!$A$7:$A$6703,0),7),(INDEX(COMPOS!$A$4:$G$801,MATCH($B24,COMPOS!$A$4:A$801,0),6)))) -> 0 | I24: =SUM(F24:H24) -> 13.05 | J24: =+I24*E24 -> 404.55
A25: SINAPI | B25: 94965 | C25: =(IF($A25="SINAPI",INDEX(SINAPI_NOV2020_NDES!$A$7:$H$6703,MATCH($B25,SINAPI_NOV2020_NDES!$A$7:$A$6703,0),2),IF($A25="GOINFRA",INDEX(#REF!,MATCH($B25,#REF!,0),2),(INDEX(COMPOS!$A$4:$G$390,MATCH($B25,COMPOS!$A$4:A$390,0),2))))) -> CONCRETO FCK = 25MPA, TRAÇO 1:2,3:2,7 (CIMENTO/ AREIA MÉDIA/ BRITA 1) - PREPARO MECÂNICO COM BETONEIRA 400 L. AF_07/2016 | D25: =(IF($A25="SINAPI",INDEX(SINAPI_NOV2020_NDES!$A$7:$H$6790,MATCH($B25,SINAPI_NOV2020_NDES!$A$7:$A$6790,0),3),(INDEX(COMPOS!$A$4:$G$5000,MATCH($B25,COMPOS!$A$4:$A$5000,0),3)))) -> M3 | E25: 0.88 | F25: =(IF($A25="SINAPI",INDEX(SINAPI_NOV2020_NDES!$A$7:$H$6703,MATCH($B25,SINAPI_NOV2020_NDES!$A$7:$A$6703,0),5),(INDEX(COMPOS!$A$4:$G$801,MATCH($B25,COMPOS!$A$4:A$801,0),4)))) -> 54.49 | G25: =(IF($A25="SINAPI",INDEX(SINAPI_NOV2020_NDES!$A$7:$H$6703,MATCH($B25,SINAPI_NOV2020_NDES!$A$7:$A$6703,0),6),(INDEX(COMPOS!$A$4:$G$801,MATCH($B25,COMPOS!$A$4:A$801,0),5)))) -> 326.26 | H25: =(IF($A25="SINAPI",INDEX(SINAPI_NOV2020_NDES!$A$7:$H$6703,MATCH($B25,SINAPI_NOV2020_NDES!$A$7:$A$6703,0),7),(INDEX(COMPOS!$A$4:$G$801,MATCH($B25,COMPOS!$A$4:A$801,0),6)))) -> 0.53 | I25: =SUM(F25:H25) -> 381.28 | J25: =+I25*E25 -> 335.5264
A26: SINAPI | B26: 92873 | C26: =(IF($A26="SINAPI",INDEX(SINAPI_NOV2020_NDES!$A$7:$H$6703,MATCH($B26,SINAPI_NOV2020_NDES!$A$7:$A$6703,0),2),IF($A26="GOINFRA",INDEX(#REF!,MATCH($B26,#REF!,0),2),(INDEX(COMPOS!$A$4:$G$390,MATCH($B26,COMPOS!$A$4:A$390,0),2))))) -> LANÇAMENTO COM USO DE BALDES, ADENSAMENTO E ACABAMENTO DE CONCRETO EM ESTRUTURAS. AF_12/2015 | D26: =(IF($A26="SINAPI",INDEX(SINAPI_NOV2020_NDES!$A$7:$H$6790,MATCH($B26,SINAPI_NOV2020_NDES!$A$7:$A$6790,0),3),(INDEX(COMPOS!$A$4:$G$5000,MATCH($B26,COMPOS!$A$4:$A$5000,0),3)))) -> M3 | E26: 0.88 | F26: =(IF($A26="SINAPI",INDEX(SINAPI_NOV2020_NDES!$A$7:$H$6703,MATCH($B26,SINAPI_NOV2020_NDES!$A$7:$A$6703,0),5),(INDEX(COMPOS!$A$4:$G$801,MATCH($B26,COMPOS!$A$4:A$801,0),4)))) -> 121.95 | G26: =(IF($A26="SINAPI",INDEX(SINAPI_NOV2020_NDES!$A$7:$H$6703,MATCH($B26,SINAPI_NOV2020_NDES!$A$7:$A$6703,0),6),(INDEX(COMPOS!$A$4:$G$801,MATCH($B26,COMPOS!$A$4:A$801,0),5)))) -> 41.44 | H26: =(IF($A26="SINAPI",INDEX(SINAPI_NOV2020_NDES!$A$7:$H$6703,MATCH($B26,SINAPI_NOV2020_NDES!$A$7:$A$6703,0),7),(INDEX(COMPOS!$A$4:$G$801,MATCH($B26,COMPOS!$A$4:A$801,0),6)))) -> 0.9 | I26: =SUM(F26:H26) -> 164.29 | J26: =+I26*E26 -> 144.5752
A27: SUB-TOTAL | J27: =SUM(J22:J26) -> 1988.7801
B28: 169 | C28: INST. ELÉT./TELEFÔNICA/CABEAMENTO ESTRUTURADO
A29: SINAPI | B29: 91927 | C29: =(IF($A29="SINAPI",INDEX(SINAPI_NOV2020_NDES!$A$7:$H$6703,MATCH($B29,SINAPI_NOV2020_NDES!$A$7:$A$6703,0),2),IF($A29="GOINFRA",INDEX(#REF!,MATCH($B29,#REF!,0),2),(INDEX(COMPOS!$A$4:$G$390,MATCH($B29,COMPOS!$A$4:A$390,0),2))))) -> CABO DE COBRE FLEXÍVEL ISOLADO, 2,5 MM², ANTI-CHAMA 0,6/1,0 KV, PARA CIRCUITOS TERMINAIS - FORNECIMENTO E INSTALAÇÃO. AF_12/2015 | D29: =(IF($A29="SINAPI",INDEX(SINAPI_NOV2020_NDES!$A$7:$H$6790,MATCH($B29,SINAPI_NOV2020_NDES!$A$7:$A$6790,0),3),(INDEX(COMPOS!$A$4:$G$5000,MATCH($B29,COMPOS!$A$4:$A$5000,0),3)))) -> M | E29: 135 | F29: =(IF($A29="SINAPI",INDEX(SINAPI_NOV2020_NDES!$A$7:$H$6703,MATCH($B29,SINAPI_NOV2020_NDES!$A$7:$A$6703,0),5),(INDEX(COMPOS!$A$4:$G$801,MATCH($B29,COMPOS!$A$4:A$801,0),4)))) -> 0.88 | G29: =(IF($A29="SINAPI",INDEX(SINAPI_NOV2020_NDES!$A$7:$H$6703,MATCH($B29,SINAPI_NOV2020_NDES!$A$7:$A$6703,0),6),(INDEX(COMPOS!$A$4:$G$801,MATCH($B29,COMPOS!$A$4:A$801,0),5)))) -> 2.68 | H29: =(IF($A29="SINAPI",INDEX(SINAPI_NOV2020_NDES!$A$7:$H$6703,MATCH($B29,SINAPI_NOV2020_NDES!$A$7:$A$6703,0),7),(INDEX(COMPOS!$A$4:$G$801,MATCH($B29,COMPOS!$A$4:A$801,0),6)))) -> 0 | I29: =SUM(F29:H29) -> 3.56 | J29: =+I29*E29 -> 480.6
A30: SINAPI | B30: 91931 | C30: =(IF($A30="SINAPI",INDEX(SINAPI_NOV2020_NDES!$A$7:$H$6703,MATCH($B30,SINAPI_NOV2020_NDES!$A$7:$A$6703,0),2),IF($A30="GOINFRA",INDEX(#REF!,MATCH($B30,#REF!,0),2),(INDEX(COMPOS!$A$4:$G$390,MATCH($B30,COMPOS!$A$4:A$390,0),2))))) -> CABO DE COBRE FLEXÍVEL ISOLADO, 6 MM², ANTI-CHAMA 0,6/1,0 KV, PARA CIRCUITOS TERMINAIS - FORNECIMENTO E INSTALAÇÃO. AF_12/2015 | D30: =(IF($A30="SINAPI",INDEX(SINAPI_NOV2020_NDES!$A$7:$H$6790,MATCH($B30,SINAPI_NOV2020_NDES!$A$7:$A$6790,0),3),(INDEX(COMPOS!$A$4:$G$5000,MATCH($B30,COMPOS!$A$4:$A$5000,0),3)))) -> M | E30: 75 | F30: =(IF($A30="SINAPI",INDEX(SINAPI_NOV2020_NDES!$A$7:$H$6703,MATCH($B30,SINAPI_NOV2020_NDES!$A$7:$A$6703,0),5),(INDEX(COMPOS!$A$4:$G$801,MATCH($B30,COMPOS!$A$4:A$801,0),4)))) -> 1.52 | G30: =(IF($A30="SINAPI",INDEX(SINAPI_NOV2020_NDES!$A$7:$H$6703,MATCH($B30,SINAPI_NOV2020_NDES!$A$7:$A$6703,0),6),(INDEX(COMPOS!$A$4:$G$801,MATCH($B30,COMPOS!$A$4:A$801,0),5)))) -> 5.18 | H30: =(IF($A30="SINAPI",INDEX(SINAPI_NOV2020_NDES!$A$7:$H$6703,MATCH($B30,SINAPI_NOV2020_NDES!$A$7:$A$6703,0),7),(INDEX(COMPOS!$A$4:$G$801,MATCH($B30,COMPOS!$A$4:A$801,0),6)))) -> 0 | I30: =SUM(F30:H30) -> 6.7 | J30: =+I30*E30 -> 502.5
A31: SINAPI | B31: 92871 | C31: =(IF($A31="SINAPI",INDEX(SINAPI_NOV2020_NDES!$A$7:$H$6703,MATCH($B31,SINAPI_NOV2020_NDES!$A$7:$A$6703,0),2),IF($A31="GOINFRA",INDEX(#REF!,MATCH($B31,#REF!,0),2),(INDEX(COMPOS!$A$4:$G$390,MATCH($B31,COMPOS!$A$4:A$390,0),2))))) -> CAIXA RETANGULAR 4" X 4" MÉDIA (1,30 M DO PISO), METÁLICA, INSTALADA EM PAREDE - FORNECIMENTO E INSTALAÇÃO. AF_12/2015 | D31: =(IF($A31="SINAPI",INDEX(SINAPI_NOV2020_NDES!$A$7:$H$6790,MATCH($B31,SINAPI_NOV2020_NDES!$A$7:$A$6790,0),3),(INDEX(COMPOS!$A$4:$G$5000,MATCH($B31,COMPOS!$A$4:$A$5000,0),3)))) -> UN | E31: 14 | F31: =(IF($A31="SINAPI",INDEX(SINAPI_NOV2020_NDES!$A$7:$H$6703,MATCH($B31,SINAPI_NOV2020_NDES!$A$7:$A$6703,0),5),(INDEX(COMPOS!$A$4:$G$801,MATCH($B31,COMPOS!$A$4:A$801,0),4)))) -> 8.5 | G31: =(IF($A31="SINAPI",INDEX(SINAPI_NOV2020_NDES!$A$7:$H$6703,MATCH($B31,SINAPI_NOV2020_NDES!$A$7:$A$6703,0),6),(INDEX(COMPOS!$A$4:$G$801,MATCH($B31,COMPOS!$A$4:A$801,0),5)))) -> 5.87 | H31: =(IF($A31="SINAPI",INDEX(SINAPI_NOV2020_NDES!$A$7:$H$6703,MATCH($B31,SINAPI_NOV2020_NDES!$A$7:$A$6703,0),7),(INDEX(COMPOS!$A$4:$G$801,MATCH($B31,COMPOS!$A$4:A$801,0),6)))) -> 0 | I31: =SUM(F31:H31) -> 14.37 | J31: =+I31*E31 -> 201.18
A32: SINAPI | B32: 93668 | C32: =(IF($A32="SINAPI",INDEX(SINAPI_NOV2020_NDES!$A$7:$H$6703,MATCH($B32,SINAPI_NOV2020_NDES!$A$7:$A$6703,0),2),IF($A32="GOINFRA",INDEX(#REF!,MATCH($B32,#REF!,0),2),(INDEX(COMPOS!$A$4:$G$390,MATCH($B32,COMPOS!$A$4:A$390,0),2))))) -> DISJUNTOR TRIPOLAR TIPO DIN, CORRENTE NOMINAL DE 16A - FORNECIMENTO E INSTALAÇÃO. AF_10/2020 | D32: =(IF($A32="SINAPI",INDEX(SINAPI_NOV2020_NDES!$A$7:$H$6790,MATCH($B32,SINAPI_NOV2020_NDES!$A$7:$A$6790,0),3),(INDEX(COMPOS!$A$4:$G$5000,MATCH($B32,COMPOS!$A$4:$A$5000,0),3)))) -> UN | E32: 1 | F32: =(IF($A32="SINAPI",INDEX(SINAPI_NOV2020_NDES!$A$7:$H$6703,MATCH($B32,SINAPI_NOV2020_NDES!$A$7:$A$6703,0),5),(INDEX(COMPOS!$A$4:$G$801,MATCH($B32,COMPOS!$A$4:A$801,0),4)))) -> 4.19 | G32: =(IF($A32="SINAPI",INDEX(SINAPI_NOV2020_NDES!$A$7:$H$6703,MATCH($B32,SINAPI_NOV2020_NDES!$A$7:$A$6703,0),6),(INDEX(COMPOS!$A$4:$G$801,MATCH($B32,COMPOS!$A$4:A$801,0),5)))) -> 62.1 | H32: =(IF($A32="SINAPI",INDEX(SINAPI_NOV2020_NDES!$A$7:$H$6703,MATCH($B32,SINAPI_NOV2020_NDES!$A$7:$A$6703,0),7),(INDEX(COMPOS!$A$4:$G$801,MATCH($B32,COMPOS!$A$4:A$801,0),6)))) -> 0 | I32: =SUM(F32:H32) -> 66.29 | J32: =+I32*E32 -> 66.29
